{"text_format":"1","workbook":"xlsx","n_sheets":74,"sheets":["Cover","Insurance Sector Development ","1A","1B","1C","2A","2B","2C","3A","3B","4A","4B","4C","4D","4E","5A","5B","6A","6B","7","8","9A","9B","9C","10A","10B","11A","11B","12A","12B","13A","13B","14A","14B","15A","15B","16A","16B","17A","17B","18","19","20A","20B","21A","21B","22A","22B","23A","23B","24A","24B","25","26A","26B","27A","27B","28A","28B","29A","29B","30A","30B","31A","31B","32A","32B","33A","33B","34A","34B","Ins. Companies","Glossary","SD7"],"not_rendered":{"charts":167,"images":4,"macros":1,"external_links":3,"defined_names":191,"comments":0,"pivot_tables":0},"unopened":[],"bounds":{"document_bytes":16777216,"sheet_cells":100000,"rows_first":2000,"rows_last":500,"rows_between":2000,"halvings":0,"cell_chars":16384,"cell_head_chars":4096},"cells_cut":0,"cells_raw":0,"read":"whole","date_system":"1900"}

{"sheet":"Cover","index":0,"n_rows":81,"n_cols":9,"rows_kept":81,"cut":false,"hidden":false,"merged":[[4,1,4,8],[5,1,5,8],[6,1,6,8],[7,1,7,8]]}
[]
[]
[]
[]
[null,"التقرير الاحصائي السنوي عن نشاط قطاع التأمين بدولة الإمارات العربية المتحدة"]
[null,"ANNUAL STATISTICAL REPORT FOR THE"]
[null,".INSURANCE SECTOR OF THE U.A.E"]
[null,2025]
[null,"جدول رقم",null,null,null,null,null,null,"Table"]
[null,1,"تطور نشاط قطاع التأمين",null,null,null,null,"Insurance Sector Developments",1]
[null,"1A","اجمالي الأقساط المكتتبة لتأمين الممتلكات والمسؤوليات والتأمين على الأشخاص وتكوين الأموال وفقاً لشركات التأمين الوطنية وشركات التأمين الأجنبية.",null,null,null,null,"Gross Written Premium - Non-Life / Life - National vs Foreign","1A"]
[null,"1B","اجمالي الأقساط المكتتبة لتأمين الممتلكات والمسؤوليات والتأمين على الأشخاص وتكوين الأموال وفقا لشركات التأمين التقليدي والتأمين التكافلي الوطنية.",null,null,null,null,"Gross Written Premium - Non-Life / Life - National Traditional vs Takaful","1B"]
[null,"1C","اجمالي الأقساط المكتتبة لتأمين الممتلكات والمسؤوليات والتأمين على الأشخاص وتكوين الأموال للشركات الوطنية والشركات الأجنبية خلال عشر سنوات.",null,null,null,null,"Gross Written Premium - Non-Life / Life - National vs Foreign","1C"]
[null,"2A","اجمالي الأقساط المكتتبة وفقا لشركات التأمين الوطنية وشركات التأمين الاجنبية ووفقا لكل فرع من فروع التأمين.",null,null,null,null,"GWP by LOB - National vs Foreign","2A"]
[null,"2B","اجمالي الأقساط المكتتبة وفقا لشركات التأمين التقليدي الوطنية وشركات التأمين التكافلي ووفقا لكل فرع من فروع التأمين.",null,null,null,null,"GWP by LOB - National Traditional vs Takaful","2B"]
[null,"2C","اجمالي الأقساط المكتتبة لشركات التامين على الأشخاص وتكوين الأموال وشركات تامين الممتلكات والمسؤوليات والشركات التي تمارس النوعين معا.",null,null,null,null,"GWP by LOB - Life, Non-Life & Composite","2C"]
[null,"3A","صافي الأقساط المكتتبة وفقا لشركات التأمين الوطنية والأجنبية.",null,null,null,null,"NWP by LOB - National vs Foreign","3A"]
[null,"3B","صافي الأقساط المكتتبة وفقا لشركات التأمين التقليدي الوطنية وشركات التأمين التكافلي الوطنية.",null,null,null,null,"NWP by LOB - National Traditional vs Takaful","3B"]
[null,"4A","نسبة الأقساط المحتفظ بها وفقا لشركات التأمين الوطنية وشركات التأمين الأجنبية.",null,null,null,null,"Premium Retention by LOB - National vs Foreign","4A"]
[null,"4B","نسبة الأقساط المحتفظ بها وفقا لشركات التأمين التقليدي الوطنية وشركات التأمين التكافلي الوطنية.",null,null,null,null,"Premium Retention by LOB - National Traditional vs Takaful","4B"]
[null,"4C","توزيع أقساط إعادة التأمين حسب التوزيع الجغرافي والتصنيف لكافة شركات التأمين العاملة في القطاع",null,null,null,null,"Ceded premiums per geographic location and rating - All Companies","4C"]
[null,"4D","توزيع أقساط إعادة التأمين حسب التوزيع الجغرافي - شركات التأمين التقليدي والتكافلي الوطنية ",null,null,null,null,"Ceded premiums per geographic location and rating - Traditional & Takaful National Companies","4D"]
[null,"4E","توزيع أقساط إعادة التأمين حسب التوزيع الجغرافي والتصنيف لشركات التامين",null,null,null,null,"Ceded premiums per geographic location and rating - Life, Non-Life & Composite","4E"]
[null,"5A","اجمالي الأقساط المكتسبة وفقا لشركات التأمين الوطنية وشركات التأمين الأجنبية.",null,null,null,null,"GEP by LOB - National vs Foreign","5A"]
[null,"5B","اجمالي الأقساط المكتسبة وفقا لشركات التأمين التقليدي الوطنية وشركات التأمين التكافلي.",null,null,null,null,"GEP by LOB - National Traditional vs Takaful","5B"]
[null,"6A","صافي الأقساط المكتسبة وفقا لشركات التأمين الوطنية وشركات التأمين الأجنبية.",null,null,null,null,"NEP by LOB - National vs Foreign","6A"]
[null,"6B","صافي الأقساط المكتسبة وفقا لشركات التأمين التقليدي الوطنية وشركات التأمين التكافلي الوطنية.",null,null,null,null,"NEP by LOB - National Traditional vs Takaful","6B"]
[null,7,"اجمالي الأقساط المكتتبة وأعداد وثائق التأمين ومعدل القسط لكل وثيقة من كل فرع من فروع التامين. ",null,null,null,null,"No of Policies & GWP per Policy by LOB",7]
[null,8,"اجمالي الأقساط المكتتبة والعمولات المدفوعة حسب قنوات التوزيع لشركات التأمين الوطنية وشركات التأمين الأجنبية.",null,null,null,null,"GWP & Commission Paid by Distribution Channel - National vs Foreign",8]
[null,"9A","اجمالي المخصصات الفنية وفقا لشركات التأمين الوطنية وشركات التأمين الأجنبية.",null,null,null,null,"Gross Tech Prov by LOB - National vs Foreign","9A"]
[null,"9B","اجمالي المخصصات الفنية وفقا لشركات التأمين التقليدي الوطنية وشركات التأمين التكافلي الوطنية.",null,null,null,null,"Gross Tech Prov by LOB - National Traditional vs Takaful","9B"]
[null,"9C","اجمالي المخصصات الفنية لشركات التامين على الأشخاص وتكوين الأموال وشركات تامين الممتلكات والمسؤوليات والشركات التي تمارس النوعين معا.",null,null,null,null,"Gross Tech Prov by LOB - Life, Non-Life & Composite","9C"]
[null,"10A","صافي المخصصات الفنية حسب فرع التأمين وفقا لشركات التأمين الوطنية والأجنبية.",null,null,null,null,"Net Tech Prov by LOB - National vs Foreign","10A"]
[null,"10B","صافي المخصصات الفنية وفقا لشركات التأمين التقليدي الوطنية وشركات التأمين التكافلي.",null,null,null,null,"Net Tech Prov by LOB - National Traditional vs Takaful","10B"]
[null,"11A","إجمالي انواع المخصصات الفنية قبل استبعاد إعادة التامين ووفقا لكل نوع من المخصصات الفنية.",null,null,null,null,"Gross / Net Tech Prov by Type by LOB - National vs Foreign","11A"]
[null,"11B","صافي انواع المخصصات الفنية بعد استبعاد إعادة التامين ووفقا لكل نوع من المخصصات الفنية.",null,null,null,null,"Gross / Net Tech Prov by Type by LOB - National Traditional vs Takaful","11B"]
[null,"12A","اجمالي المطالبات المدفوعة والمتكبدة وفقا لشركات التأمين الوطنية وشركات التأمين الأجنبية.",null,null,null,null,"Gross Claims Paid & Incurred by LOB - National vs Foreign","12A"]
[null,"12B"," اجمالي المطالبات المدفوعة والمتكبدة وفقا لشركات التأمين التقليدي الوطنية وشركات التأمين التكافلي الوطنية.",null,null,null,null,"Gross Claims Paid & Incurred by LOB - National Traditional vs Takaful","12B"]
[null,"13A","صافي المطالبات المدفوعة والمتكبدة وفقا لشركات التأمين الوطنية وشركات التأمين الأجنبية.",null,null,null,null,"Net Claims Paid & Incurred by LOB - National vs Foreign","13A"]
[null,"13B","صافي المطالبات المدفوعة والمتكبدة وفقا لشركات التأمين التقليدي الوطنية وشركات التأمين التكافلي الوطنية.",null,null,null,null,"Net Claims Paid & Incurred by LOB - National Traditional vs Takaful","13B"]
[null,"14A","نسب الخسارة \"الإجمالية\" قبل استبعاد إعادة التأمين وفقا لشركات التأمين الوطنية والاجنبية.",null,null,null,null,"Gross Loss Ratios by LOB - National vs Foreign","14A"]
[null,"14B","نسب الخسارة \"الإجمالية\" قبل استبعاد إعادة التأمين وفقا لشركات التأمين التقليدي الوطنية وشركات التأمين التكافلي الوطنية.",null,null,null,null,"Gross Loss Ratios by LOB - National Traditional vs Takaful","14B"]
[null,"15A","نسب الخسارة \"الصافية\" بعد استبعاد إعادة التامين وفقا لشركات التأمين الوطنية وشركات التأمين الأجنبية. ",null,null,null,null,"Net Loss Ratios by LOB - National vs Foreign","15A"]
[null,"15B","نسب الخسارة \"الصافية\" بعد استبعاد إعادة التامين وفقا لشركات التأمين التقليدي الوطنية وشركات التأمين التكافلي الوطنية ووفقا لكل فرع من فروع التأمين.",null,null,null,null,"Net Loss Ratios by LOB - National Traditional vs Takaful","15B"]
[null,"16A","نسبة العمولات ونسبة المصاريف والنسبة المجمعة \"الإجمالية\" قبل استبعاد إعادة التأمين وفقا لشركات التأمين الوطنية والاجنبية ووفقا لكل فرع من فروع التأمين.",null,null,null,null,"Gross Combined Ratios by LOB - National vs Foreign","16A"]
[null,"16B","نسبة العمولات ونسبة المصاريف والنسبة المجمعة \"الإجمالية\" قبل استبعاد إعادة التأمين لشركات التأمين التقليدي الوطنية وشركات التأمين التكافلي الوطنية ووفقا لكل فرع من فروع التأمين.",null,null,null,null,"Gross Combined Ratios by LOB - National Traditional vs Takaful","16B"]
[null,"17A","نسبة العمولات ونسبة المصاريف والنسبة المجمعة \"الصافية\" بعد استبعاد إعادة التأمين وفقا لشركات التأمين الوطنية وشركات التأمين الاجنبية ووفقا لكل فرع من فروع التأمين.",null,null,null,null,"Net Combined Ratios by LOB - National vs Foreign","17A"]
[null,"17B","نسبة العمولات ونسبة المصاريف والنسبة المجمعة \"الصافية\" لشركات التأمين التقليدي الوطنية وشركات التأمين التكافلي ووفقا لكل فرع من فروع التأمين.",null,null,null,null,"Net Combined Ratios by LOB - National Traditional vs Takaful","17B"]
[null,18,"تحليل ربحية فرع تأمين المركبات “إجمالي\" قبل استبعاد إعادة التأمين وبعد استبعاد إعادة التامين \"صافي\".",null,null,null,null,"Motor Profitability by Policy Type - Gross / Net",18]
[null,19,"تحليل ربحية فرع التأمين الصحي “إجمالي\" قبل استبعاد إعادة التأمين و\"صافي\" بعد استبعاد إعادة التامين.",null,null,null,null,"Medical Profitability by Policy Type - Gross / Net",19]
[null,"20A","اجمالي الأموال المستثمرة للشركات وفقا للفئات الاستثمارية وفقا لشركات التأمين الوطنية وشركات التأمين الأجنبية.",null,null,null,null,"Invested Assets by Class - National vs Foreign","20A"]
[null,"20B","اجمالي الأموال المستثمرة للشركات وفقا للفئات الاستثمارية لشركات التأمين التقليدي الوطنية وشركات التأمين التكافلي.",null,null,null,null,"Invested Assets by Class - National Traditional vs Takaful","20B"]
[null,"21A","قائمة المركز المالي للشركات وفقا لشركات التأمين الوطنية وشركات الاجنبية العاملة في الدولة.",null,null,null,null,"Balance Sheet Key Figures - National vs Foreign","21A"]
[null,"21B","قائمة المركز المالي لشركات التأمين التقليدي الوطنية وشركات التأمين التكافلي الوطنية.",null,null,null,null,"Balance Sheet Key Figures - National Traditional vs Takaful","21B"]
[null,"22A","قائمة الدخل للشركات وفقا لشركات التأمين الوطنية والأجنبية.",null,null,null,null,"Income Statement Key Figures - National vs Foreign","22A"]
[null,"22B","قائمة الدخل لشركات التأمين التقليدي الوطنية وشركات التأمين التكافلي الوطنية.",null,null,null,null,"Income Statement Key Figures - National Traditional vs Takaful","22B"]
[null,"23A","تحليل الملاءة المالية لكافة شركات التأمين العاملة في القطاع.",null,null,null,null,"Solvency Analysis - All Companies","23A"]
[null,"23B","تحليل الملاءة المالية لشركات التأمين الوطنية.",null,null,null,null,"Solvency Analysis - National Companies","23B"]
[null,"24A","اجمالي الأقساط المكتتبة حسب الامارة ووفقا لكل فرع من فروع التأمين.",null,null,null,null,"GWP by LOB by Emirate","24A"]
[null,"24B","صافي الأقساط المكتتبة حسب الامارة ووفقا لكل فرع من فروع التأمين.",null,null,null,null,"NWP by LOB by Emirate","24B"]
[null,25,"عدد وثائق التأمين حسب الامارة ووفقا لكل فرع من فروع التأمين.",null,null,null,null,"Number of Policies by Emirate",25]
[null,"26A","اجمالي الأقساط غير المكتسبة حسب الامارة ووفقا لكل فرع من فروع التأمين.",null,null,null,null,"Gross UPR by LOB by Emirate","26A"]
[null,"26B","صافي الأقساط غير المكتسبة حسب الامارة ووفقا لكل فرع من فروع التأمين.",null,null,null,null,"Net UPR by LOB by Emirate","26B"]
[null,"27A","اجمالي المطالبات المدفوعة حسب الامارة ووفقا لكل فرع من فروع التأمين.",null,null,null,null,"Gross Paid Claims by LOB by Emirate","27A"]
[null,"27B","صافي المطالبات المدفوعة حسب الامارة ووفقا لكل فرع من فروع التأمين.",null,null,null,null,"Net Paid Claims by LOB by Emirate","27B"]
[null,"28A","بيانات التأمين لإمارة دبي بالقيمة الاجمالية.",null,null,null,null,"Gross Results for Dubai","28A"]
[null,"28B","بيانات التأمين لإمارة دبي بالقيمة الصافية.",null,null,null,null,"Net Results for Dubai","28B"]
[null,"29A","بيانات التأمين لإمارة أبو ظبي بالقيمة الاجمالية.",null,null,null,null,"Gross Results for Abu Dhabi","29A"]
[null,"29B","بيانات التأمين لإمارة أبو ظبي بالقيمة الصافية.",null,null,null,null,"Net Results for Abu Dhabi","29B"]
[null,"30A","بيانات التأمين لإمارة عجمان بالقيمة الاجمالية.",null,null,null,null,"Gross Results for Ajman","30A"]
[null,"30B","بيانات التأمين لإمارة عجمان بالقيمة الصافية.",null,null,null,null,"Net Results for Ajman","30B"]
[null,"31A","بيانات التأمين لإمارة أم القيوين بالقيمة الاجمالية.",null,null,null,null,"Gross Results for Umm Al Quwain","31A"]
[null,"31B","بيانات التأمين لإمارة ام القيوين بالقيمة الصافية.",null,null,null,null,"Net Results for Umm Al Quwain","31B"]
[null,"32A","بيانات التأمين لإمارة الشارقة بالقيمة الاجمالية.",null,null,null,null,"Gross Results for Sharjah","32A"]
[null,"32B","بيانات التأمين لإمارة الشارقة بالقيمة الصافية.",null,null,null,null,"Net Results for Sharjah","32B"]
[null,"33A","بيانات التأمين لإمارة رأس الخيمة بالقيمة الاجمالية.",null,null,null,null,"Gross Results for Ras Al Khaimah","33A"]
[null,"33B","بيانات التأمين لإمارة رأس الخيمة بالقيمة الصافية.",null,null,null,null,"Net Results for Ras Al Khaimah","33B"]
[null,"34A","بيانات التأمين لإمارة الفجيرة بالقيمة الاجمالية.",null,null,null,null,"Gross Results for Fujairah","34A"]
[null,"34B","بيانات التأمين لإمارة الفجيرة بالقيمة الصافية.",null,null,null,null,"Net Results for Fujairah","34B"]
[null,35,"دليل شركات التأمين في دولة الإمارات العربية المتحدة",null,null,null,null,"Directory of insurance companies in the UAE",35]
[null,36,"قائمة مُصطلحات التأمين المُستخدمة في التقرير",null,null,null,null,"Glossary of Insurance Terms Used in The Report",36]

{"sheet":"Insurance Sector Development ","index":1,"n_rows":0,"n_cols":0,"rows_kept":0,"cut":false,"hidden":false,"merged":[]}

{"sheet":"1A","index":2,"n_rows":42,"n_cols":11,"rows_kept":42,"cut":false,"hidden":false,"merged":[[30,2,30,9],[11,2,11,6],[5,1,5,10],[6,1,6,10],[7,1,7,10],[17,2,17,9]]}
[]
[]
[]
[]
[]
[null,"إجمالي الاقساط المكتتبة"]
[null,"Gross Written Premium"]
[null,"(2018 - 2025)"]
[]
[]
[null,"جدول رقم 1A",null,null,null,null,null,null,null,null,"TABLE 1A"]
[null,"بالألف درهم ",null,null,null,null,null,null,null,null,"AED in 000's"]
[null,"البيــــــــان",2018,2019,2020,2021,2022,2023,2024,2025,"DESCRIPTION"]
[null,"تأمين الممتلكات والمسؤوليات",31747732.611057486,32526275.989920337,32166056.180683143,32940064.949477702,37106523.922619388,43837231.304841071,54068702.90792796,63504638.043059036,"Property and Liability Insurance"]
[null,"التأمين على الأشخاص وتكوين الأموال",11970700.226090444,11494538.22159837,10330736.217250207,11376964.141043887,10139921.508337501,9540611.5134998225,11042065.860422838,11335948.451304791,"Insurance of Persons & Fund Accumulation"]
[null,"اجمالي الأقساط",{"$f":"SUM(C14:C15)","v":43718432.837147929},44020814.211518705,42496792.397933349,44317029.090521589,47246445.430956885,53377842.818340898,65110768.768350795,74840586.494363829,"TOTAL"]
[]
[null,"جدول رقم 1AA","National Companies          الشركات الوطنية",null,null,null,null,null,null,null,"TABLE 1AA"]
[null,"بالألف درهم ",null,null,null,null,null,null,null,null,"AED in 000's"]
[null,"البيــــــــان",2018,2019,2020,2021,2022,2023,2024,2025,"DESCRIPTION"]
[null,"تأمين الممتلكات والمسؤوليات",24692124.361253485,25988129.043600339,26054212.757234145,26629539.149445653,30289262.553106394,35811365.731133081,43689297.57838396,49417495.614292488,"Property and Liability Insurance"]
[null,"التأمين على الأشخاص وتكوين الأموال",2990432.6876812922,3049857.1843071273,3008326.2069219132,3639522.3495981907,3438475.6591767482,3328659.4800370615,3998947.661216964,4911052.7185200695,"Insurance of Persons & Fund Accumulation"]
[null,"اجمالي الأقساط",{"$f":"SUM(C21:C22)","v":27682557.048934776},29037986.227907468,29062538.964156058,30269061.499043845,33727738.212283142,39140025.211170144,47688245.239600927,54328548.332812555,"TOTAL"]
[]
[null,"حصة الشركات الوطنية",null,null,null,null,null,null,null,null,"Share of National Companies"]
[null,"البيــــــــان",2018,2019,2020,2021,2022,2023,2024,2025,"DESCRIPTION"]
[null,"تأمين الممتلكات والمسؤوليات",{"$f":"C21/C14","v":0.77776024712559821},0.79898876378143868,0.80999089881838304,0.80842400251150359,0.81627863111808951,{"$f":"H21/H14","v":0.81691668623192293},0.80803302518244624,{"$f":"J21/J14","v":0.7781714397109889},"Property and Liability Insurance"]
[null,"التأمين على الأشخاص وتكوين الأموال",0.24981267855689582,0.26533098811889722,0.29120153139701954,0.31990277058781769,0.33910278855210846,{"$f":"H22/H15","v":0.34889372398478424},0.36215575162887415,{"$f":"J22/J15","v":0.43322821549658663},"Insurance of Persons & Fund Accumulation"]
[null,"اجمالي الأقساط",0.63320103792496119,0.65964218854246548,0.68387606038636906,0.68301197350608756,0.7138682689170941,{"$f":"H23/H16","v":0.7332635255488712},0.73241717371307324,{"$f":"J23/J16","v":0.72592360479302209},"TOTAL"]
[]
[null,"جدول رقم 1AB","Foreign Branches          الشركات الأجنبية",null,null,null,null,null,null,null,"TABLE 1AB"]
[null,"بالألف درهم ",null,null,null,null,null,null,null,null,"AED in 000's"]
[null,"البيــــــــان",2018,2019,2020,2021,2022,2023,2024,2025,"DESCRIPTION"]
[null,"تأمين الممتلكات والمسؤوليات",7055608,6538147,6111843,6310526,6817261.3695129901,8025865.5737079941,10379405.329544004,14087142.428766545,"Property and Liability Insurance"]
[null,"التأمين على الأشخاص وتكوين الأموال",8980268,8444681,7322410,7737442,6701445.8491607551,6211952.03346276,7043118.1992058745,6424895.732784722,"Insurance of Persons & Fund Accumulation"]
[null,"اجمالي الأقساط",{"$f":"SUM(C34:C35)","v":16035876},14982828,13434253,{"$f":"SUM(F34:F35)","v":14047968},{"$f":"SUM(G34:G35)","v":13518707.218673745},{"$f":"SUM(H34:H35)","v":14237817.607170753},{"$f":"SUM(I34:I35)","v":17422523.528749879},{"$f":"SUM(J34:J35)","v":20512038.161551267},"TOTAL"]
[]
[null,"حصة الشركات الأجنبية",null,null,null,null,null,null,null,null,"Share of Foreign Companies"]
[null,"البيــــــــان",2018,2019,2020,2021,2022,2023,2024,2025,"DESCRIPTION"]
[null,"تأمين الممتلكات والمسؤوليات",{"$f":"C34/C14","v":0.22223974500599727},0.20101123786891945,0.19000908801714952,0.19157600355915691,0.18372136888191043,{"$f":"H34/H14","v":0.18308331376807721},0.19196697481755379,{"$f":"J34/J14","v":0.22182856028901102},"Property and Liability Insurance"]
[null,"التأمين على الأشخاص وتكوين الأموال",0.75018736000315822,0.73466900863684514,0.70879846760321685,0.68009724774346136,0.66089721144789171,{"$f":"H35/H15","v":0.65110627601521565},0.63784424837112585,{"$f":"J35/J15","v":0.56677178450341337},"Insurance of Persons & Fund Accumulation"]
[null,"اجمالي الأقساط",0.36679896691937636,0.34035781182983021,0.31612392940633605,0.31698803571209028,0.28613173108290596,{"$f":"H36/H16","v":0.26673647445112875},0.26758282628692698,{"$f":"J36/J16","v":0.2740763952069778},"TOTAL"]

{"sheet":"1B","index":3,"n_rows":42,"n_cols":11,"rows_kept":42,"cut":false,"hidden":false,"merged":[[30,2,30,9],[5,1,5,10],[6,1,6,10],[7,1,7,10],[10,2,10,6],[17,2,17,9]]}
[]
[]
[]
[]
[]
[null,"إجمالي الاقساط المكتتبة"]
[null,"Gross Written Premium"]
[null,"(2018 - 2025)"]
[]
[]
[null,"جدول رقم 1B",null,null,null,null,null,null,null,null,"TABLE 1B"]
[null,"بالألف درهم ",null,null,null,null,null,null,null,null,"AED in 000's"]
[null,"البيــــــــان",2018,2019,2020,2021,2022,2023,2024,2025,"DESCRIPTION"]
[null,"تأمين الممتلكات والمسؤوليات",24692124.361253485,25988129.043600339,26054212.757234145,26629539.149445653,30289262.553106394,35811365.731133081,43689297.57838396,49417495.614292488,"Property and Liability Insurance"]
[null,"التأمين على الأشخاص وتكوين الأموال",2990432.6876812922,3049857.1843071273,3008326.2069219132,3639522.3495981907,3438475.6591767482,3328659.4800370615,3998947.661216964,4911052.7185200695,"Insurance of Persons & Fund Accumulation"]
[null,"اجمالي الأقساط",{"$f":"SUM(C14:C15)","v":27682557.048934776},29037986.227907468,29062538.964156058,30269061.499043845,33727738.212283142,39140025.211170144,47688245.239600927,54328548.332812555,"TOTAL"]
[]
[null,"جدول رقم 1BA","National Traditional Insurance Companies\nشركات التأمين التقليدي الوطنية",null,null,null,null,null,null,null,"TABLE 1BA"]
[null,"بالألف درهم ",null,null,null,null,null,null,null,null,"AED in 000's"]
[null,"البيــــــــان",2018,2019,2020,2021,2022,2023,2024,2025,"DESCRIPTION"]
[null,"تأمين الممتلكات والمسؤوليات",21909074.993334487,23090567.856820054,23247009.88156715,23874472.56734965,27430471.105650391,32309076.193856083,39786851.830407009,44956181.097960487,"Property and Liability Insurance"]
[null,"التأمين على الأشخاص وتكوين الأموال",1347855.8403402923,1352897.6741691274,1487048.1254717258,2043977.1884769816,2127418.4274027483,1976398.5903932618,2418317.2790392772,3025650.7619800693,"Insurance of Persons & Fund Accumulation"]
[null,"اجمالي الأقساط",{"$f":"SUM(C21:C22)","v":23256930.833674781},24443465.530989181,24734058.007038876,25918449.75582663,29557889.533053141,34285474.784249343,42205169.109446287,47981831.859940559,"TOTAL"]
[]
[null,"حصة شركات التأمين التقليدي",null,null,null,null,null,null,null,null,"Share of Traditional Insurance Companies"]
[null,"البيــــــــان",2018,2019,2020,2021,2022,2023,2024,2025,"DESCRIPTION"]
[null,"تأمين الممتلكات والمسؤوليات",{"$f":"C21/C14","v":0.88728999873797343},0.88850443285397573,0.89225531771680366,0.89654095902169018,0.90561700066339812,{"$f":"H21/H14","v":0.90220173216593536},0.91067730624472765,{"$f":"J21/J14","v":0.90972196261921245},"Property and Liability Insurance"]
[null,"التأمين على الأشخاص وتكوين الأموال",0.45072268166831286,0.4435937791219825,0.49431079716360193,0.56160589004286232,0.61870975347026369,{"$f":"H22/H15","v":0.5937521101951998},0.60473841718231747,{"$f":"J22/J15","v":0.61609005958539986},"Insurance of Persons & Fund Accumulation"]
[null,"اجمالي الأقساط",0.84012942852653516,0.8417755053378102,0.85106322051023608,0.85626869391524929,0.87636737889197081,{"$f":"H23/H16","v":0.87596966530477949},0.88502248085233748,{"$f":"J23/J16","v":0.88317897923587996},"TOTAL"]
[]
[null,"جدول رقم 1BB","National Takaful Insurance Companies \nشركات التأمين التكافلي الوطنية",null,null,null,null,null,null,null,"TABLE 1BB"]
[null,"بالألف درهم ",null,null,null,null,null,null,null,null,"AED in 000's"]
[null,"البيــــــــان",2018,2019,2020,2021,2022,2023,2024,2025,"DESCRIPTION"]
[null,"تأمين الممتلكات والمسؤوليات",2783049.3679189999,2897561.1867802842,2807202.8756669988,2755066.5820960007,2858791.4474559999,3502289.5372770014,3902445.7479769522,4461314.5163320005,"Property and Liability Insurance"]
[null,"التأمين على الأشخاص وتكوين الأموال",1642576.8473410001,1696959.5101379999,1521278.0814501869,1595545.1611212094,1311057.2317740002,1352260.8896438,1580630.382177687,1885401.9565399999,"Insurance of Persons & Fund Accumulation"]
[null,"اجمالي الأقساط",{"$f":"SUM(C34:C35)","v":4425626.21526},4594520.6969182845,4328480.9571171859,4350611.7432172103,4169848.6792299999,4854550.4269208014,5483076.1301546395,6346716.4728720002,"TOTAL"]
[]
[null,"حصة شركات التأمين التكافلي",null,null,null,null,null,null,null,null,"Share of Takaful Insurance Companies"]
[null,"البيــــــــان",2018,2019,2020,2021,2022,2023,2024,2025,"DESCRIPTION"]
[null,"تأمين الممتلكات والمسؤوليات",{"$f":"C34/C14","v":0.11271000126202667},{"$f":"D34/D14","v":0.11149556714602424},0.10774468228319653,0.10345904097830971,9.4382999336601853E-2,{"$f":"H34/H14","v":9.7798267834064756E-2},8.9322693755272353E-2,{"$f":"J34/J14","v":9.0278037380787518E-2},"Property and Liability Insurance"]
[null,"التأمين على الأشخاص وتكوين الأموال",0.54927731833168725,0.5564062208780175,0.50568920283639796,0.43839410995713768,0.38129024652973642,{"$f":"H35/H15","v":0.40624788980480031},0.39526158281768259,{"$f":"J35/J15","v":0.38390994041460014},"Insurance of Persons & Fund Accumulation"]
[null,"اجمالي الأقساط",0.15987057147346501,0.15822449466218974,0.14893677948976403,0.1437313060847506,0.12363262110802921,{"$f":"H36/H16","v":0.1240303346952205},0.11497751914766248,{"$f":"J36/J16","v":0.11682102076412014},"TOTAL"]

{"sheet":"1C","index":4,"n_rows":41,"n_cols":16,"rows_kept":41,"cut":false,"hidden":false,"merged":[[30,2,30,11],[5,1,5,15],[6,1,6,15],[7,1,7,15],[16,2,16,14],[29,2,29,14]]}
[]
[]
[]
[]
[]
[null,"إجمالي الاقساط المكتتبة"]
[null,"Gross Written Premium"]
[null,"(2013 - 2025)"]
[]
[null,"جدول رقم 1C",null,null,null,null,null,null,null,null,null,null,null,null,null,"TABLE 1C"]
[null,"بالألف درهم ",null,null,null,null,null,null,null,null,null,null,null,null,null,"AED in 000's"]
[null,"البيــــــــان",2013,2014,2015,2016,2017,2018,2019,2020,2021,2022,2023,2024,2025,"DESCRIPTION"]
[null,"تأمين الممتلكات والمسؤوليات",22473259,24888224,27464821.684761435,29863254.122795943,33079472.071919784,31747732.611057486,32526275.989920337,32166056.180683143,32940064.949477702,37106523.922619388,43837231.304841071,54068702.90792796,63504638.043059036,"Property and Liability Insurance"]
[null,"التأمين على الأشخاص وتكوين الأموال",7030665,8645603,9488889.2813120093,10145897.149498368,11744756.071199864,11970700.226090444,11494538.22159837,10330736.217250207,11376964.141043887,10139921.508337501,9540611.5134998225,11042065.860422838,11335948.451304791,"Insurance of Persons & Fund Accumulation"]
[null,"اجمالي الأقساط",{"$f":"SUM(C13:C14)","v":29503924},{"$f":"SUM(D13:D14)","v":33533827},36953710.966073446,40009151.272294313,44824228.143119648,43718432.837147929,44020814.211518705,42496792.397933349,44317029.090521589,47246445.430956885,53377842.818340898,65110768.768350795,74840586.494363829,"TOTAL"]
[]
[null,"جدول رقم 1CA","National Companies          الشركات الوطنية",null,null,null,null,null,null,null,null,null,null,null,null,"TABLE 1CA"]
[null,"بالألف درهم ",null,null,null,null,null,null,null,null,null,null,null,null,null,"AED in 000's"]
[null,"البيــــــــان",2013,2014,2015,2016,2017,2018,2019,2020,2021,2022,2023,2024,2025,"DESCRIPTION"]
[null,"تأمين الممتلكات والمسؤوليات",16714660,18658198,20347929,22691772.39738499,25771056.493953105,24692124.361253485,25988129.043600339,26054212.757234145,26629539.149445653,30289262.553106394,35811365.731133081,43689297.57838396,49417495.614292488,"Property and Liability Insurance"]
[null,"التأمين على الأشخاص وتكوين الأموال",1533114,1563509,1953052,2203769.7049039998,2372508.9355264562,2990432.6876812922,3049857.1843071273,3008326.2069219132,3639522.3495981907,3438475.6591767482,3328659.4800370615,3998947.661216964,4911052.7185200695,"Insurance of Persons & Fund Accumulation"]
[null,"اجمالي الأقساط",{"$f":"SUM(C20:C21)","v":18247774},{"$f":"SUM(D20:D21)","v":20221707},22300981,24895542.102288991,28143565.429479562,27682557.048934776,29037986.227907468,29062538.964156058,30269061.499043845,33727738.212283142,39140025.211170144,47688245.239600927,54328548.332812555,"TOTAL"]
[]
[null,"حصة الشركات الوطنية",null,null,null,null,null,null,null,null,null,null,null,null,null,"Share of National Companies"]
[null,"البيــــــــان",2013,2014,2015,2016,2017,2018,2019,2020,2021,2022,2023,2024,2025,"DESCRIPTION"]
[null,"تأمين الممتلكات والمسؤوليات",{"$f":"C20/C13","v":0.74375772557064379},0.74967976823095128,0.74087242340589576,0.75985598568989698,0.7790649269711114,0.77776024712559821,0.79898876378143868,0.80999089881838304,0.80842400251150359,0.81627863111808951,{"$f":"M20/M13","v":0.81691668623192293},0.80803302518244624,{"$f":"O20/O13","v":0.7781714397109889},"Property and Liability Insurance"]
[null,"التأمين على الأشخاص وتكوين الأموال",{"$f":"C21/C14","v":0.21806102267708674},0.18084441305019441,0.20582514371270602,0.21720796815025453,0.20200580762543471,0.24981267855689582,0.26533098811889722,0.29120153139701954,0.31990277058781769,0.33910278855210846,{"$f":"M21/M14","v":0.34889372398478424},0.36215575162887415,{"$f":"O21/O14","v":0.43322821549658663},"Insurance of Persons & Fund Accumulation"]
[null,"اجمالي الأقساط",{"$f":"C22/C15","v":0.61848634100331878},0.60302413440613267,0.60348420813471593,0.62224619394835179,0.62786503182207043,0.63320103792496119,0.65964218854246548,0.68387606038636906,0.68301197350608756,0.7138682689170941,{"$f":"M22/M15","v":0.7332635255488712},{"$f":"N22/N15","v":0.73241717371307324},0.72592360479302209,"TOTAL"]
[]
[null,"جدول رقم 1CB","Foreign Branches          الشركات الأجنبية",null,null,null,null,null,null,null,null,null,null,null,null,"TABLE 1CB"]
[null,"بالألف درهم ",null,null,null,null,null,null,null,null,null,null,null,null,null,"AED in 000's"]
[null,"البيــــــــان",2013,2014,2015,2016,2017,2018,2019,2020,2021,2022,2023,2024,2025,"DESCRIPTION"]
[null,"تأمين الممتلكات والمسؤوليات",5758599,6230026,7116892,7171481.7254109541,7308415.5779666835,7055608.2498040013,6538146.946320002,6111843.4234490003,6310525.8000320476,6817261.3695129901,8025865.5737079941,10379405.329544004,14087142.428766545,"Property and Liability Insurance"]
[null,"التأمين على الأشخاص وتكوين الأموال",5497551,7082094,7535837,7942127.4445943683,9372247.1356734056,8980267.5384091511,8444681.0372912418,7322410.0103282947,7737441.7914456958,6701445.8491607551,6211952.03346276,7043118.1992058745,6424895.732784722,"Insurance of Persons & Fund Accumulation"]
[null,"اجمالي الأقساط",{"$f":"SUM(C33:C34)","v":11256150},{"$f":"SUM(D33:D34)","v":13312120},14652729,15113609.170005322,16680662.71364009,16035875.788213152,14982827.983611245,13434253.433777295,14047967.591477744,13518707.218673745,14237817.607170753,17422523.528749879,20512038.161551267,"TOTAL"]
[]
[null,"حصة الشركات الأجنبية",null,null,null,null,null,null,null,null,null,null,null,null,null,"Share of Foreign Companies"]
[null,"البيــــــــان",2013,2014,2015,2016,2017,2018,2019,2020,2021,2022,2023,2024,2025,"DESCRIPTION"]
[null,"تأمين الممتلكات والمسؤوليات",{"$f":"C33/C13","v":0.25624227442935626},0.25032023176904866,0.2591275516617948,0.2401440143101031,0.22093507302888876,0.22223975287440176,0.20101123621856148,0.19000910118161701,0.19157599748849638,0.18372136888191043,{"$f":"M33/M13","v":0.18308331376807721},0.19196697481755379,{"$f":"O33/O13","v":0.22182856028901102},"Property and Liability Insurance"]
[null,"التأمين على الأشخاص وتكوين الأموال",{"$f":"C34/C14","v":0.78193897732291329},0.81915558694980561,0.7941748266408305,0.78279203184974555,0.79799419237456504,0.75018732144310407,0.73466901188110267,0.70879846860298046,0.68009722941218231,0.66089721144789171,{"$f":"M34/M14","v":0.65110627601521565},0.63784424837112585,{"$f":"O34/O14","v":0.56677178450341337},"Insurance of Persons & Fund Accumulation"]
[null,"اجمالي الأقساط",{"$f":"C35/C15","v":0.38151365899668127},0.39697586559386733,0.39651576572248493,0.37775380605164827,0.37213496817792968,0.36679896207503876,0.34035781145753463,0.316123939613631,0.31698802649391239,0.28613173108290596,{"$f":"M35/M15","v":0.26673647445112875},0.26758282628692698,{"$f":"O35/O15","v":0.2740763952069778},"TOTAL"]

{"sheet":"2A","index":5,"n_rows":32,"n_cols":9,"rows_kept":32,"cut":false,"hidden":false,"merged":[[5,1,5,8],[7,1,7,8],[12,8,14,8],[12,1,14,1],[13,2,13,3],[12,4,12,5],[13,4,13,5],[12,6,12,7],[13,6,13,7],[12,2,12,3],[8,1,8,8],[6,1,6,8]]}
[]
[]
[]
[]
[]
[null,"إجمالي الأقساط المكتتبة حسب فرع التأمين"]
[null,"الشركات الوطنية والاجنبية"]
[null,"Gross Written Premium by Line of Business"]
[null,"National & Foreign Companies"]
[]
[null,"جدول رقم 2A",null,null,null,null,null,null,"TABLE 2A"]
[null,"بالألف درهم ",null,null,null,null,null,null,"AED in 000's"]
[null,"فروع التأمين","الشركات الوطنية",null,"الشركات الأجنبية",null,"الاجمالي",null,"Line of Business"]
[null,null,"NATIONAL COMPANIES",null,"FOREIGN COMPANIES",null,"TOTAL"]
[null,null,2024,2025,2024,2025,2024,2025]
[null,"تأمين الحريق",5535805.6135284454,6225545.3360272897,697449.66029099748,661642.84028299979,{"$f":"E16+C16","v":6233255.2738194428},{"$f":"F16+D16","v":6887188.1763102897},"Fire"]
[null,"التأمين البحري والطيران",1966032.4299091478,1872220.7947717742,351538.2552840003,386333.5244709999,2317570.685193148,2258554.319242774,"Marine & Aviation"]
[null,"تأمين السيارات والمركبات الأخرى",6056078.0385881551,7593083.9918410014,1995567.0822140072,2482821.7137439973,8051645.1208021622,10075905.705584999,"Motor & Transportation"]
[null,"التأمين الهندسي والانشاءات والطاقة",3928029.8220580369,4013284.7876433562,174507.37987,270797.59625,4102537.2019280368,4284082.3838933567,"Engineering, Construction & Energy"]
[null,"أخرى",5024759.2338510985,5917596.51464222,563761.397354997,589680.23357855738,5588520.6312060952,6507276.7482207771,"Other"]
[null,"اعادة التأمين غير النسبية - المسؤوليات والممتلكات",5753.6541699999998,5654.2477900000013,0,0,5753.6541699999998,5654.2477900000013,"Reinsurance - Property & Liability"]
[null,"المجموع - تأمين الممتلكات والمسؤوليات",{"$f":"C16+C17+C18+C19+C20+C21","v":22516458.792104881},{"$f":"D16+D17+D18+D19+D20+D21","v":25627385.672715645},{"$f":"E16+E17+E18+E19+E20+E21","v":3782823.7750140019},4391275.9083265541,{"$f":"G16+G17+G18+G19+G20+G21","v":26299282.567118883},30018661.5810422,"Total - Property & Liability Insurance"]
[]
[null,"المجموع - تأمين صحي",22280623.773563311,25218671.609406177,9037133.5955299996,11204025.520439988,{"$f":"E24+C24","v":31317757.36909331},36422697.129846163,"Total - Health Insurance"]
[]
[null,"تأمين حياة جماعي ",885725.51692893496,1195575.5399801238,235860.55314999991,252687.80056,{"$f":"E26+C26","v":1121586.0700789348},1448263.3405401236,"Group Life"]
[null,"تأمين ائتمان حياة جماعي ",611483.43852442736,704160.54194183566,18832,16375,630315.43852442736,720535.54194183566,"Group Credit Life"]
[null,"تأمين حياة فردي",1393953.7184793635,1582754.9687687787,4306106.9456998939,4619520.0530357659,5700060.6641792571,6202275.0218045451,"Individual Life"]
[null,"دفعات الحياة وتكوين الأموال",0,0,41766.659355980795,28153.879188956802,41766.659355980795,28153.879188956802,"Annuities & Fund Accumulation"]
[null,"المجموع - تأمين الأشخاص وعمليات تكوين الأموال",{"$f":"C26+C27+C28+C29","v":2891162.6739327256},{"$f":"D26+D27+D28+D29","v":3482491.050690738},{"$f":"E26+E27+E28+E29","v":4602566.1582058743},4916736.7327847229,{"$f":"SUM(G26:G29)","v":7493728.8321385998},{"$f":"SUM(H26:H29)","v":8399227.7834754605},"Total - Insurance of Persons & Fund Accumulation"]
[]
[null,"المجموع - كافة فروع التأمين",{"$f":"C22+C24+C30","v":47688245.239600919},{"$f":"D22+D24+D30","v":54328548.332812563},{"$f":"E22+E24+E30","v":17422523.528749876},20512038.161551263,{"$f":"G22+G24+G30","v":65110768.768350795},{"$f":"H22+H24+H30","v":74840586.494363829},"TOTAL - All Types of Business Combined"]

{"sheet":"2B","index":6,"n_rows":32,"n_cols":9,"rows_kept":32,"cut":false,"hidden":false,"merged":[[5,1,5,8],[7,1,7,8],[12,1,14,1],[12,2,12,3],[12,4,12,5],[12,6,12,7],[12,8,14,8],[13,2,13,3],[13,4,13,5],[13,6,13,7],[8,1,8,8],[6,1,6,8]]}
[]
[]
[]
[]
[]
[null,"إجمالي الأقساط المكتتبة حسب فرع التأمين"]
[null," شركات التأمين التقليدي الوطنية وشركات التأمين التكافلي الوطنية "]
[null,"Gross Written Premium by Line of Business"]
[null,"Traditional & Takaful National Companies"]
[]
[null,"جدول رقم 2B",null,null,null,null,null,null,"TABLE 2B"]
[null,"بالألف درهم ",null,null,null,null,null,null,"AED in 000's"]
[null,"فروع التأمين","شركات التأمين التقليدي الوطنية",null,"شركات التأمين التكافلي الوطنية",null,"الشركات الوطنية",null,"Line of Business"]
[null,null,"TRADITIONAL COMPANIES",null,"TAKAFUL COMPANIES",null,"NATIONAL COMPANIES"]
[null,null,2024,2025,2024,2025,2024,2025]
[null,"تأمين الحريق",4929402.127068446,5521953.2080972893,606403.48645999981,703592.12793000008,{"$f":"E16+C16","v":5535805.6135284454},{"$f":"F16+D16","v":6225545.3360272897},"Fire"]
[null,"التأمين البحري والطيران",1843213.0478591479,1696031.2264417738,122819.38205,176189.56833000001,{"$f":"E17+C17","v":1966032.4299091478},1872220.7947717737,"Marine & Aviation"]
[null,"تأمين السيارات والمركبات الأخرى",4823143.3693481553,6070542.1295190006,1232934.6692400002,1522541.8623220008,6056078.0385881551,7593083.9918410014,"Motor & Transportation"]
[null,"التأمين الهندسي والانشاءات والطاقة",3666610.4608980371,3698463.3784833564,261419.36115999997,314821.40916000004,3928029.8220580369,4013284.7876433562,"Engineering, Construction & Energy"]
[null,"أخرى",4459301.014065098,5215557.8017222201,565458.21978599997,702038.71292000008,5024759.2338510975,5917596.51464222,"Other"]
[null,"اعادة التأمين غير النسبية - المسؤوليات والممتلكات",5753.6541699999998,5654.2477900000013,0,0,{"$f":"E21+C21","v":5753.6541699999998},5654.2477900000013,"Reinsurance - Property & Liability"]
[null,"المجموع - تأمين الممتلكات والمسؤوليات",{"$f":"C16+C17+C18+C19+C20+C21","v":19727423.673408885},{"$f":"D16+D17+D18+D19+D20+D21","v":22208201.992053643},{"$f":"E16+E17+E18+E19+E20+E21","v":2789035.118696},3419183.6806620006,{"$f":"G16+G17+G18+G19+G20+G21","v":22516458.792104881},{"$f":"H16+H17+H18+H19+H20+H21","v":25627385.672715645},"Total - Property & Liability Insurance"]
[]
[null,"المجموع - تأمين صحي",20250076.982532356,23010073.118386179,2030546.7910309525,2208598.4910200001,{"$f":"E24+C24","v":22280623.773563307},{"$f":"F24+D24","v":25218671.609406181},"Total - Health Insurance"]
[]
[null,"تأمين حياة جماعي ",836574.911152935,1158808.5564971238,49150.605776000004,36766.983483000004,{"$f":"E26+C26","v":885725.51692893496},1195575.5399801238,"Group Life"]
[null,"تأمين ائتمان حياة جماعي ",286258.53534124017,290885.29496483563,325224.90318318718,413275.24697700003,611483.43852442736,704160.54194183566,"Group Credit Life"]
[null,"تأمين حياة فردي",1104835.0070108636,1313862.8980387787,289118.71146849968,268892.07072999998,1393953.7184793632,1582754.9687687787,"Individual Life"]
[null,"دفعات الحياة وتكوين الأموال",0,0,0,0,0,0,"Annuities & Fund Accumulation"]
[null,"المجموع - تأمين الأشخاص وعمليات تكوين الأموال",{"$f":"C26+C27+C28+C29","v":2227668.4535050387},{"$f":"D26+D27+D28+D29","v":2763556.7495007385},{"$f":"E26+E27+E28+E29","v":663494.22042768681},718934.30119000003,2891162.6739327256,3482491.050690738,"Total - Insurance of Persons & Fund Accumulation"]
[]
[null,"المجموع - كافة فروع التأمين",{"$f":"C22+C24+C30","v":42205169.10944628},{"$f":"D22+D24+D30","v":47981831.859940559},{"$f":"E22+E24+E30","v":5483076.1301546395},6346716.4728720002,47688245.239600912,54328548.332812563,"TOTAL - All Types of Business Combined"]

{"sheet":"2C","index":7,"n_rows":32,"n_cols":11,"rows_kept":32,"cut":false,"hidden":false,"merged":[[13,4,13,5],[13,8,13,9],[12,6,12,7],[13,6,13,7],[5,1,5,10],[7,1,7,10],[8,1,8,10],[12,1,14,1],[12,2,12,3],[12,4,12,5],[12,8,12,9],[12,10,14,10],[13,2,13,3],[6,1,6,10]]}
[]
[]
[]
[]
[]
[null,"إجمالي الأقساط المكتتبة حسب فرع التأمين"]
[null,"شركات التأمين على الحياة وشركات التأمينات العامة وشركات التأمين على الحياة والتأمينات العامة"]
[null,"Gross Written Premium by Line of Business"]
[null,"Life, Non-Life & Composite Companies"]
[]
[null,"جدول رقم 2C",null,null,null,null,null,null,null,null,"TABLE 2C"]
[null,"بالألف درهم ",null,null,null,null,null,null,null,null,"AED in 000's"]
[null,"فروع التأمين","شركات التأمين على الأشخاص وتكوين الأموال",null,"شركات تأمين الممتلكات والمسؤوليات",null,"شركات التأمين (النوعين معاً)",null,"الاجمالي",null,"Line of Business"]
[null,null,"LIFE COMPANIES",null,"NON-LIFE COMPANIES",null,"COMPOSITE COMPANIES",null,"TOTAL"]
[null,null,2024,2025,2024,2025,2024,2025,2024,2025]
[null,"تأمين الحريق",0,0,1432441.153893233,1607870.2641181874,4800814.1199262096,5279317.9121921016,{"$f":"G16+E16+C16","v":6233255.2738194428},{"$f":"H16+F16+D16","v":6887188.1763102887},"Fire"]
[null,"التأمين البحري والطيران",0,0,515465.11152545363,581635.77394667291,1802105.5736676948,1676918.5452961009,{"$f":"G17+E17+C17","v":2317570.6851931484},2258554.3192427736,"Marine & Aviation"]
[null,"تأمين السيارات والمركبات الأخرى",0,0,3259802.3925956516,4190421.88795191,4791842.7282065107,5885483.8176330877,8051645.1208021622,10075905.705584997,"Motor & Transportation"]
[null,"التأمين الهندسي والانشاءات والطاقة",0,0,602648.68388485292,667131.15001265635,3499888.5180431837,3616951.2338807001,4102537.2019280368,4284082.3838933567,"Engineering, Construction & Energy"]
[null,"أخرى",0,0,1179418.4547365557,1224871.3209911033,4409102.1764695402,5282405.4272296736,5588520.6312060961,6507276.7482207771,"Other"]
[null,"اعادة التأمين غير النسبية - المسؤوليات والممتلكات",0,0,5753.6541699999998,5654.2477900000013,0,0,{"$f":"G21+E21+C21","v":5753.6541699999998},{"$f":"H21+F21+D21","v":5654.2477900000013},"Reinsurance - Property & Liability"]
[null,"المجموع - تأمين الممتلكات والمسؤوليات",{"$f":"C16+C17+C18+C19+C20+C21","v":0},{"$f":"D16+D17+D18+D19+D20+D21","v":0},{"$f":"E16+E17+E18+E19+E20+E21","v":6995529.450805747},8277584.6448105304,{"$f":"G16+G17+G18+G19+G20+G21","v":19303753.116313137},21741076.936231665,{"$f":"I16+I17+I18+I19+I20+I21","v":26299282.567118883},{"$f":"J16+J17+J18+J19+J20+J21","v":30018661.581042193},"Total - Property & Liability Insurance"]
[]
[null,"المجموع - تأمين صحي",2105443.9864742383,1244081.4345393316,14003865.358552953,17612396.82099399,15208448.024066119,17566218.87431284,{"$f":"G24+E24+C24","v":31317757.36909331},{"$f":"H24+F24+D24","v":36422697.129846163},"Total - Health Insurance"]
[]
[null,"تأمين حياة جماعي ",235679.94519679013,230698.13531865078,0,0,885906.12488214497,1217565.2052214732,{"$f":"G26+E26+C26","v":1121586.070078935},{"$f":"H26+F26+D26","v":1448263.3405401241},"Group Life"]
[null,"تأمين ائتمان حياة جماعي ",116257.83952455103,132323.59156943113,0,0,514057.59899987635,588211.95037240454,{"$f":"G27+E27+C27","v":630315.43852442736},{"$f":"H27+F27+D27","v":720535.54194183566},"Group Credit Life"]
[null,"تأمين حياة فردي",3099739.4794810754,3123311.5516893654,0,0,2600321.1846981817,3078963.4701151797,5700060.6641792571,6202275.0218045451,"Individual Life"]
[null,"دفعات الحياة وتكوين الأموال",8957.6593559808007,1466.8791889568001,0,0,32809,26687,41766.659355980803,28153.879188956802,"Annuities & Fund Accumulation"]
[null,"المجموع - تأمين الأشخاص وعمليات تكوين الأموال",{"$f":"C26+C27+C28+C29","v":3460634.9235583972},{"$f":"D26+D27+D28+D29","v":3487800.1577664041},{"$f":"E26+E27+E28+E29","v":0},0,{"$f":"G26+G27+G28+G29","v":4033093.9085802031},4911427.6257090569,{"$f":"I26+I27+I28+I29","v":7493728.8321385998},{"$f":"J26+J27+J28+J29","v":8399227.7834754623},"Total - Insurance of Persons & Fund Accumulation"]
[]
[null,"المجموع - كافة فروع التأمين",{"$f":"C22+C24+C30","v":5566078.9100326356},{"$f":"D22+D24+D30","v":4731881.5923057357},{"$f":"E22+E24+E30","v":20999394.809358701},25889981.465804521,{"$f":"G22+G24+G30","v":38545295.048959464},{"$f":"H22+H24+H30","v":44218723.436253563},{"$f":"I22+I24+I30","v":65110768.768350795},74840586.494363815,"TOTAL - All Types of Business Combined"]

{"sheet":"3A","index":8,"n_rows":32,"n_cols":9,"rows_kept":32,"cut":false,"hidden":false,"merged":[[6,1,6,8],[5,1,5,8],[7,1,7,8],[12,1,14,1],[12,2,12,3],[12,4,12,5],[12,6,12,7],[12,8,14,8],[13,2,13,3],[13,4,13,5],[13,6,13,7],[8,1,8,8]]}
[]
[]
[]
[]
[]
[null,"صافي الأقساط المكتتبة حسب فرع التأمين"]
[null,"الشركات الوطنية والاجنبية"]
[null,"Net Written Premium by Line of Business"]
[null,"National & Foreign Companies"]
[]
[null,"جدول رقم 3A",null,null,null,null,null,null,"TABLE 3A"]
[null,"بالألف درهم ",null,null,null,null,null,null,"AED in 000's"]
[null,"فروع التأمين","الشركات الوطنية",null,"الشركات الأجنبية",null,"الاجمالي",null,"Line of Business"]
[null,null,"NATIONAL COMPANIES",null,"FOREIGN COMPANIES",null,"TOTAL"]
[null,null,2024,2025,2024,2025,2024,2025]
[null,"تأمين الحريق",744574.31962595636,1134626.7036528613,205764.23266870982,269708.93453720672,{"$f":"E16+C16","v":950338.55229466618},{"$f":"F16+D16","v":1404335.6381900681},"Fire"]
[null,"التأمين البحري والطيران",334632.94827068946,355067.28462688113,175803.26387682301,187824.67563168626,510436.21214751247,542891.96025856736,"Marine & Aviation"]
[null,"تأمين السيارات والمركبات الأخرى",4736122.284841503,6380445.4510846678,1854797.9198333677,2343798.8426712584,6590920.2046748707,8724244.2937559262,"Motor & Transportation"]
[null,"التأمين الهندسي والانشاءات والطاقة",568344.61626912013,595415.16697309841,86066.137099973042,78123.868177717392,654410.75336909317,673539.03515081585,"Engineering, Construction & Energy"]
[null,"أخرى",1272279.6593738988,1538816.7074482294,251407.72417432658,255576.3120272003,1523687.3835482253,1794393.0194754298,"Other"]
[null,"اعادة التأمين غير النسبية - المسؤوليات والممتلكات",4431.7302300000001,3916.8945700000004,0,0,4431.7302300000001,3916.8945700000004,"Reinsurance - Property & Liability"]
[null,"المجموع - تأمين الممتلكات والمسؤوليات",{"$f":"C16+C17+C18+C19+C20+C21","v":7660385.5586111676},{"$f":"D16+D17+D18+D19+D20+D21","v":10008288.208355738},{"$f":"E16+E17+E18+E19+E20+E21","v":2573839.2776532001},{"$f":"F16+F17+F18+F19+F20+F21","v":3135032.6330450689},{"$f":"G16+G17+G18+G19+G20+G21","v":10234224.836264368},13143320.84140081,"Total - Property & Liability Insurance"]
[]
[null,"المجموع - تأمين صحي",12885991.825405931,14471498.864431955,6566189.5615616664,7601170.6941551361,{"$f":"E24+C24","v":19452181.386967599},{"$f":"F24+D24","v":22072669.558587089},"Total - Health Insurance"]
[]
[null,"تأمين حياة جماعي ",357227.34156692587,426694.75553714554,64355.133799999508,60507.601170000067,{"$f":"E26+C26","v":421582.47536692536},{"$f":"F26+D26","v":487202.35670714558},"Group Life"]
[null,"تأمين ائتمان حياة جماعي ",185927.57649723152,245357.03994796472,2537,3718,188464.57649723152,249075.03994796472,"Group Credit Life"]
[null,"تأمين حياة فردي",1282025.6852500222,1474105.1991088118,4109649.9880998996,4444149.9031187147,5391675.6733499216,5918255.1022275267,"Individual Life"]
[null,"دفعات الحياة وتكوين الأموال",-6.3900000000000007E-3,0,41760.236909580795,28151.612051356798,41760.230519580793,28151.612051356798,"Annuities & Fund Accumulation"]
[null,"المجموع - تأمين الأشخاص وعمليات تكوين الأموال",{"$f":"C26+C27+C28+C29","v":1825180.5969241795},{"$f":"D26+D27+D28+D29","v":2146156.994593922},{"$f":"E26+E27+E28+E29","v":4218302.3588094795},4536527.116340071,6043482.9557336587,6682684.1109339939,"Total - Insurance of Persons & Fund Accumulation"]
[]
[null,"المجموع - كافة فروع التأمين",{"$f":"C22+C24+C30","v":22371557.980941277},{"$f":"D22+D24+D30","v":26625944.067381617},{"$f":"E22+E24+E30","v":13358331.198024347},15272730.443540275,35729889.178965628,41898674.510921896,"TOTAL - All Types of Business Combined"]

{"sheet":"3B","index":9,"n_rows":32,"n_cols":9,"rows_kept":32,"cut":false,"hidden":false,"merged":[[5,1,5,8],[7,1,7,8],[12,1,14,1],[12,2,12,3],[12,4,12,5],[12,6,12,7],[12,8,14,8],[13,2,13,3],[13,4,13,5],[13,6,13,7],[8,1,8,8],[6,1,6,8]]}
[]
[]
[]
[]
[]
[null,"صافي الأقساط المكتتبة حسب فرع التأمين"]
[null," شركات التأمين التقليدي الوطنية وشركات التأمين التكافلي الوطنية "]
[null,"Net Written Premium by Line of Business"]
[null,"Traditional & Takaful National Companies"]
[]
[null,"جدول رقم 3B",null,null,null,null,null,null,"TABLE 3B"]
[null,"بالألف درهم ",null,null,null,null,null,null,"AED in 000's"]
[null,"فروع التأمين","شركات التأمين التقليدي الوطنية",null,"شركات التأمين التكافلي الوطنية",null,"الشركات الوطنية",null,"Line of Business"]
[null,null,"TRADITIONAL COMPANIES",null,"TAKAFUL OPERATORS",null,"NATIONAL COMPANIES"]
[null,null,2024,2025,2024,2025,2024,2025]
[null,"تأمين الحريق",678728.80427695648,1023474.2339268613,65845.515348999819,111152.469726,{"$f":"E16+C16","v":744574.31962595624},{"$f":"F16+D16","v":1134626.7036528613},"Fire"]
[null,"التأمين البحري والطيران",294775.55894368951,308414.98341688112,39857.389326999997,46652.301210000005,{"$f":"E17+C17","v":334632.94827068952},{"$f":"F17+D17","v":355067.28462688113},"Marine & Aviation"]
[null,"تأمين السيارات والمركبات الأخرى",3857122.9558245582,5022694.7733821515,878999.32901694509,1357750.6777025159,4736122.284841503,{"$f":"F18+D18","v":6380445.4510846678},"Motor & Transportation"]
[null,"التأمين الهندسي والانشاءات والطاقة",497177.20469112019,518140.80300509842,71167.411577999985,77274.36396800002,568344.61626912013,{"$f":"F19+D19","v":595415.16697309841},"Engineering, Construction & Energy"]
[null,"أخرى",1083337.2871968988,1262200.8830462294,188942.37217699995,276615.824402,1272279.6593738988,{"$f":"F20+D20","v":1538816.7074482294},"Other"]
[null,"اعادة التأمين غير النسبية - المسؤوليات والممتلكات",4431.7302300000001,3916.8945700000004,0,0,4431.7302300000001,{"$f":"F21+D21","v":3916.8945700000004},"Reinsurance - Property & Liability"]
[null,"المجموع - تأمين الممتلكات والمسؤوليات",{"$f":"C16+C17+C18+C19+C20+C21","v":6415573.5411632238},{"$f":"D16+D17+D18+D19+D20+D21","v":8138842.5713472208},{"$f":"E16+E17+E18+E19+E20+E21","v":1244812.0174479447},1869445.6370085159,7660385.5586111676,10008288.208355738,"Total - Property & Liability Insurance"]
[]
[null,"المجموع - تأمين صحي",11807357.337535935,13222023.137106955,1078634.487869998,1249475.7273250001,{"$f":"E24+C24","v":12885991.825405933},{"$f":"F24+D24","v":14471498.864431955},"Total - Health Insurance"]
[]
[null,"تأمين حياة جماعي ",345835.10990425089,415415.12352494552,11392.231662675007,11279.632012200003,{"$f":"E26+C26","v":357227.34156692587},426694.75553714554,"Group Life"]
[null,"تأمين ائتمان حياة جماعي ",79363.255926396218,105665.17340096468,106564.32057083528,139691.86654700004,185927.57649723149,245357.03994796472,"Group Credit Life"]
[null,"تأمين حياة فردي",1040962.8243251473,1253931.9298480118,241062.86092487461,220173.26926080001,1282025.685250022,1474105.1991088118,"Individual Life"]
[null,"دفعات الحياة وتكوين الأموال",0,0,-6.3900000000000007E-3,0,-6.3900000000000007E-3,0,"Annuities & Fund Accumulation"]
[null,"المجموع - تأمين الأشخاص وعمليات تكوين الأموال",{"$f":"C26+C27+C28+C29","v":1466161.1901557944},{"$f":"D26+D27+D28+D29","v":1775012.2267739219},{"$f":"E26+E27+E28+E29","v":359019.40676838491},371144.76782000007,1825180.5969241795,2146156.994593922,"Total - Insurance of Persons & Fund Accumulation"]
[]
[null,"المجموع - كافة فروع التأمين",{"$f":"C22+C24+C30","v":19689092.06885495},{"$f":"D22+D24+D30","v":23135877.935228098},{"$f":"E22+E24+E30","v":2682465.9120863276},3490066.1321535162,22371557.980941281,26625944.067381617,"TOTAL - All Types of Business Combined"]

{"sheet":"4A","index":10,"n_rows":32,"n_cols":9,"rows_kept":32,"cut":false,"hidden":false,"merged":[[8,1,8,8],[7,1,7,8],[5,1,5,8],[6,1,6,8],[12,1,14,1],[12,2,12,3],[12,4,12,5],[12,6,12,7],[12,8,14,8],[13,2,13,3],[13,4,13,5],[13,6,13,7]]}
[]
[]
[]
[]
[]
[null,"نسب الاحتفاظ بالاقساط المكتتبة حسب فرع التأمين "]
[null,"(صافي الأقساط المكتتبة الى إجمالي الاقساط المكتتبة)"]
[null,"Retention Ratios of Written Premium by Line of Business"]
[null,"(Net Written Premium ÷ Gross Written Premium)"]
[]
[null,"جدول رقم 4A",null,null,null,null,null,null,"TABLE 4A"]
[null,"بالألف درهم ",null,null,null,null,null,null,"AED in 000's"]
[null,"فروع التأمين","الشركات الوطنية",null,"الشركات الأجنبية",null,"الاجمالي",null,"Line of Business"]
[null,null,"NATIONAL COMPANIES",null,"FOREIGN COMPANIES",null,"TOTAL"]
[null,null,2024,2025,2024,2025,2024,2025]
[null,"تأمين الحريق",{"$f":"IFERROR('3A'!C16/'2A'!C16,\"\")","v":0.13450152906495846},{"$f":"IFERROR('3A'!D16/'2A'!D16,\"\")","v":0.1822533838259543},{"$f":"IFERROR('3A'!E16/'2A'!E16,\"\")","v":0.29502377645844524},{"$f":"IFERROR('3A'!F16/'2A'!F16,\"\")","v":0.40763523477688662},{"$f":"IFERROR('3A'!G16/'2A'!G16,\"\")","v":0.15246263959158277},{"$f":"IFERROR('3A'!H16/'2A'!H16,\"\")","v":0.20390551299593215},"Fire"]
[null,"التأمين البحري والطيران",{"$f":"IFERROR('3A'!C17/'2A'!C17,\"\")","v":0.17020723726625056},{"$f":"IFERROR('3A'!D17/'2A'!D17,\"\")","v":0.18965032629613765},{"$f":"IFERROR('3A'!E17/'2A'!E17,\"\")","v":0.50009710532014584},{"$f":"IFERROR('3A'!F17/'2A'!F17,\"\")","v":0.4861723452265021},{"$f":"IFERROR('3A'!G17/'2A'!G17,\"\")","v":0.22024623257821901},{"$f":"IFERROR('3A'!H17/'2A'!H17,\"\")","v":0.2403714427557283},"Marine & Aviation"]
[null,"تأمين السيارات والمركبات الأخرى",{"$f":"IFERROR('3A'!C18/'2A'!C18,\"\")","v":0.78204446089760571},{"$f":"IFERROR('3A'!D18/'2A'!D18,\"\")","v":0.84029696733773118},{"$f":"IFERROR('3A'!E18/'2A'!E18,\"\")","v":0.92945906773303688},{"$f":"IFERROR('3A'!F18/'2A'!F18,\"\")","v":0.94400609987291517},{"$f":"IFERROR('3A'!G18/'2A'!G18,\"\")","v":0.81858056406964896},{"$f":"IFERROR('3A'!H18/'2A'!H18,\"\")","v":0.86585211778233917},"Motor & Transportation"]
[null,"التأمين الهندسي والانشاءات والطاقة",{"$f":"IFERROR('3A'!C19/'2A'!C19,\"\")","v":0.14468948608219676},{"$f":"IFERROR('3A'!D19/'2A'!D19,\"\")","v":0.14836105546417816},{"$f":"IFERROR('3A'!E19/'2A'!E19,\"\")","v":0.49319482742843523},{"$f":"IFERROR('3A'!F19/'2A'!F19,\"\")","v":0.28849542706277764},{"$f":"IFERROR('3A'!G19/'2A'!G19,\"\")","v":0.15951366706962339},{"$f":"IFERROR('3A'!H19/'2A'!H19,\"\")","v":0.15721897358535536},"Engineering, Construction & Energy"]
[null,"أخرى",{"$f":"IFERROR('3A'!C20/'2A'!C20,\"\")","v":0.25320211380532009},{"$f":"IFERROR('3A'!D20/'2A'!D20,\"\")","v":0.26004082969169229},{"$f":"IFERROR('3A'!E20/'2A'!E20,\"\")","v":0.44594703602243402},{"$f":"IFERROR('3A'!F20/'2A'!F20,\"\")","v":0.43341509088103486},{"$f":"IFERROR('3A'!G20/'2A'!G20,\"\")","v":0.27264592619377848},{"$f":"IFERROR('3A'!H20/'2A'!H20,\"\")","v":0.27575176051426636},"Other"]
[null,"اعادة التأمين غير النسبية - المسؤوليات والممتلكات",{"$f":"IFERROR('3A'!C21/'2A'!C21,\"\")","v":0.77024619468917443},{"$f":"IFERROR('3A'!D21/'2A'!D21,\"\")","v":0.6927348633229955},"-","-",{"$f":"IFERROR('3A'!G21/'2A'!G21,\"\")","v":0.77024619468917443},{"$f":"IFERROR('3A'!H21/'2A'!H21,\"\")","v":0.6927348633229955},"Reinsurance - Property & Liability"]
[null,"المجموع - تأمين الممتلكات والمسؤوليات",{"$f":"IFERROR('3A'!C22/'2A'!C22,\"\")","v":0.34021271414567139},{"$f":"IFERROR('3A'!D22/'2A'!D22,\"\")","v":0.39053098650679474},{"$f":"IFERROR('3A'!E22/'2A'!E22,\"\")","v":0.68040158112934379},{"$f":"IFERROR('3A'!F22/'2A'!F22,\"\")","v":0.71392294597124972},{"$f":"IFERROR('3A'!G22/'2A'!G22,\"\")","v":0.38914463959788315},{"$f":"IFERROR('3A'!H22/'2A'!H22,\"\")","v":0.43783833619355172},"Total - Property & Liability Insurance"]
[]
[null,"المجموع - تأمين صحي",{"$f":"IFERROR('3A'!C24/'2A'!C24,\"\")","v":0.57834968878634274},{"$f":"IFERROR('3A'!D24/'2A'!D24,\"\")","v":0.57384064825342773},{"$f":"IFERROR('3A'!E24/'2A'!E24,\"\")","v":0.72657878653132602},{"$f":"IFERROR('3A'!F24/'2A'!F24,\"\")","v":0.67843211176982698},{"$f":"IFERROR('3A'!G24/'2A'!G24,\"\")","v":0.62112306311448906},{"$f":"IFERROR('3A'!H24/'2A'!H24,\"\")","v":0.60601414222286942},"Total - Health Insurance"]
[]
[null,"تأمين حياة جماعي ",{"$f":"IFERROR('3A'!C26/'2A'!C26,\"\")","v":0.40331607788102997},{"$f":"IFERROR('3A'!D26/'2A'!D26,\"\")","v":0.35689485211803451},{"$f":"IFERROR('3A'!E26/'2A'!E26,\"\")","v":0.27285246702135757},{"$f":"IFERROR('3A'!F26/'2A'!F26,\"\")","v":0.23945596517087381},{"$f":"IFERROR('3A'!G26/'2A'!G26,\"\")","v":0.37588062709913589},{"$f":"IFERROR('3A'!H26/'2A'!H26,\"\")","v":0.33640453574240547},"Group Life"]
[null,"تأمين ائتمان حياة جماعي ",{"$f":"IFERROR('3A'!C27/'2A'!C27,\"\")","v":0.30405987273489199},{"$f":"IFERROR('3A'!D27/'2A'!D27,\"\")","v":0.34843906372736155},{"$f":"IFERROR('3A'!E27/'2A'!E27,\"\")","v":0.13471750212404418},{"$f":"IFERROR('3A'!F27/'2A'!F27,\"\")","v":0.22705343511450382},{"$f":"IFERROR('3A'!G27/'2A'!G27,\"\")","v":0.299000413092258},{"$f":"IFERROR('3A'!H27/'2A'!H27,\"\")","v":0.3456804355225977},"Group Credit Life"]
[null,"تأمين حياة فردي",{"$f":"IFERROR('3A'!C28/'2A'!C28,\"\")","v":0.91970462738788683},{"$f":"IFERROR('3A'!D28/'2A'!D28,\"\")","v":0.93135401764400383},{"$f":"IFERROR('3A'!E28/'2A'!E28,\"\")","v":0.9543771299511784},{"$f":"IFERROR('3A'!F28/'2A'!F28,\"\")","v":0.9620371493350689},{"$f":"IFERROR('3A'!G28/'2A'!G28,\"\")","v":0.94589794582936437},{"$f":"IFERROR('3A'!H28/'2A'!H28,\"\")","v":0.95420713873884566},"Individual Life"]
[null,"دفعات الحياة وتكوين الأموال","-","-",{"$f":"IFERROR('3A'!E29/'2A'!E29,\"\")","v":0.99984623030668407},{"$f":"IFERROR('3A'!F29/'2A'!F29,\"\")","v":0.99991947334913289},{"$f":"IFERROR('3A'!G29/'2A'!G29,\"\")","v":0.99984607731384001},{"$f":"IFERROR('3A'!H29/'2A'!H29,\"\")","v":0.99991947334913289},"Annuities & Fund Accumulation"]
[null,"المجموع - تأمين الأشخاص وعمليات تكوين الأموال",{"$f":"IFERROR('3A'!C30/'2A'!C30,\"\")","v":0.63129640313233015},{"$f":"IFERROR('3A'!D30/'2A'!D30,\"\")","v":0.61627064172016766},{"$f":"IFERROR('3A'!E30/'2A'!E30,\"\")","v":0.91651096666773724},{"$f":"IFERROR('3A'!F30/'2A'!F30,\"\")","v":0.92267033255829622},{"$f":"IFERROR('3A'!G30/'2A'!G30,\"\")","v":0.80647206365605006},{"$f":"IFERROR('3A'!H30/'2A'!H30,\"\")","v":0.79563077501974955},"Total - Insurance of Persons & Fund Accumulation"]
[]
[null,"المجموع - كافة فروع التأمين",{"$f":"IFERROR('3A'!C32/'2A'!C32,\"\")","v":0.46912101438288306},{"$f":"IFERROR('3A'!D32/'2A'!D32,\"\")","v":0.49009121142484985},{"$f":"IFERROR('3A'!E32/'2A'!E32,\"\")","v":0.76672768878635877},{"$f":"IFERROR('3A'!F32/'2A'!F32,\"\")","v":0.74457400689553144},{"$f":"IFERROR('3A'!G32/'2A'!G32,\"\")","v":0.54875544944161836},{"$f":"IFERROR('3A'!H32/'2A'!H32,\"\")","v":0.55983893864964895},"TOTAL - All Types of Business Combined"]

{"sheet":"4B","index":11,"n_rows":32,"n_cols":9,"rows_kept":32,"cut":false,"hidden":false,"merged":[[7,1,7,8],[5,1,5,8],[6,1,6,8],[12,1,14,1],[12,2,12,3],[12,4,12,5],[12,6,12,7],[12,8,14,8],[13,2,13,3],[13,4,13,5],[13,6,13,7],[8,1,8,8]]}
[]
[]
[]
[]
[]
[null,"نسب الاحتفاظ بالاقساط المكتتبة حسب فرع التأمين "]
[null,"(صافي الأقساط المكتتبة الى إجمالي الاقساط المكتتبة)"]
[null,"Retention Ratios of Written Premium by Line of Business"]
[null,"(Net Written Premium ÷ Gross Written Premium)"]
[]
[null,"جدول رقم 4B",null,null,null,null,null,null,"TABLE 4B"]
[null,"بالألف درهم ",null,null,null,null,null,null,"AED in 000's"]
[null,"فروع التأمين","شركات التأمين التقليدي الوطنية",null,"شركات التأمين التكافلي الوطنية",null,"الشركات الوطنية",null,"Line of Business"]
[null,null,"TRADITIONAL COMPANIES",null,"TAKAFUL OPERATORS",null,"NATIONAL COMPANIES"]
[null,null,2024,2025,2024,2025,2024,2025]
[null,"تأمين الحريق",{"$f":"IFERROR('3B'!C16/'2B'!C16,\"\")","v":0.13768988343432265},{"$f":"IFERROR('3B'!D16/'2B'!D16,\"\")","v":0.18534641554478545},{"$f":"IFERROR('3B'!E16/'2B'!E16,\"\")","v":0.10858366882648718},{"$f":"IFERROR('3B'!F16/'2B'!F16,\"\")","v":0.15797855790828075},{"$f":"IFERROR('3B'!G16/'2B'!G16,\"\")","v":0.13450152906495844},{"$f":"IFERROR('3B'!H16/'2B'!H16,\"\")","v":0.1822533838259543},"Fire"]
[null,"التأمين البحري والطيران",{"$f":"IFERROR('3B'!C17/'2B'!C17,\"\")","v":0.15992484389477654},{"$f":"IFERROR('3B'!D17/'2B'!D17,\"\")","v":0.18184510910446333},{"$f":"IFERROR('3B'!E17/'2B'!E17,\"\")","v":0.32452035388660383},{"$f":"IFERROR('3B'!F17/'2B'!F17,\"\")","v":0.26478469555371775},{"$f":"IFERROR('3B'!G17/'2B'!G17,\"\")","v":0.17020723726625059},{"$f":"IFERROR('3B'!H17/'2B'!H17,\"\")","v":0.18965032629613768},"Marine & Aviation"]
[null,"تأمين السيارات والمركبات الأخرى",{"$f":"IFERROR('3B'!C18/'2B'!C18,\"\")","v":0.79971144551438988},{"$f":"IFERROR('3B'!D18/'2B'!D18,\"\")","v":0.82738817493061767},{"$f":"IFERROR('3B'!E18/'2B'!E18,\"\")","v":0.7129326078232302},{"$f":"IFERROR('3B'!F18/'2B'!F18,\"\")","v":0.89176574470788939},{"$f":"IFERROR('3B'!G18/'2B'!G18,\"\")","v":0.78204446089760571},{"$f":"IFERROR('3B'!H18/'2B'!H18,\"\")","v":0.84029696733773118},"Motor & Transportation"]
[null,"التأمين الهندسي والانشاءات والطاقة",{"$f":"IFERROR('3B'!C19/'2B'!C19,\"\")","v":0.13559586162565795},{"$f":"IFERROR('3B'!D19/'2B'!D19,\"\")","v":0.14009623726964535},{"$f":"IFERROR('3B'!E19/'2B'!E19,\"\")","v":0.27223466258278572},{"$f":"IFERROR('3B'!F19/'2B'!F19,\"\")","v":0.24545460289432627},{"$f":"IFERROR('3B'!G19/'2B'!G19,\"\")","v":0.14468948608219676},{"$f":"IFERROR('3B'!H19/'2B'!H19,\"\")","v":0.14836105546417816},"Engineering, Construction & Energy"]
[null,"أخرى",{"$f":"IFERROR('3B'!C20/'2B'!C20,\"\")","v":0.24293881121277541},{"$f":"IFERROR('3B'!D20/'2B'!D20,\"\")","v":0.24200688229923178},{"$f":"IFERROR('3B'!E20/'2B'!E20,\"\")","v":0.33414028758571407},{"$f":"IFERROR('3B'!F20/'2B'!F20,\"\")","v":0.39401790714854978},{"$f":"IFERROR('3B'!G20/'2B'!G20,\"\")","v":0.25320211380532015},{"$f":"IFERROR('3B'!H20/'2B'!H20,\"\")","v":0.26004082969169229},"Other"]
[null,"اعادة التأمين غير النسبية - المسؤوليات والممتلكات",{"$f":"IFERROR('3B'!C21/'2B'!C21,\"\")","v":0.77024619468917443},{"$f":"IFERROR('3B'!D21/'2B'!D21,\"\")","v":0.6927348633229955},"-","-",{"$f":"IFERROR('3B'!G21/'2B'!G21,\"\")","v":0.77024619468917443},{"$f":"IFERROR('3B'!H21/'2B'!H21,\"\")","v":0.6927348633229955},"Reinsurance - Property & Liability"]
[null,"المجموع - تأمين الممتلكات والمسؤوليات",{"$f":"IFERROR('3B'!C22/'2B'!C22,\"\")","v":0.32521091691313675},{"$f":"IFERROR('3B'!D22/'2B'!D22,\"\")","v":0.36647913119033204},{"$f":"IFERROR('3B'!E22/'2B'!E22,\"\")","v":0.44632353644580519},{"$f":"IFERROR('3B'!F22/'2B'!F22,\"\")","v":0.5467520354585238},{"$f":"IFERROR('3B'!G22/'2B'!G22,\"\")","v":0.34021271414567139},{"$f":"IFERROR('3B'!H22/'2B'!H22,\"\")","v":0.39053098650679474},"Total - Property & Liability Insurance"]
[]
[null,"المجموع - تأمين صحي",{"$f":"IFERROR('3B'!C24/'2B'!C24,\"\")","v":0.58307715806319738},{"$f":"IFERROR('3B'!D24/'2B'!D24,\"\")","v":0.57461891012166788},{"$f":"IFERROR('3B'!E24/'2B'!E24,\"\")","v":0.53120395581839897},{"$f":"IFERROR('3B'!F24/'2B'!F24,\"\")","v":0.56573240107030631},{"$f":"IFERROR('3B'!G24/'2B'!G24,\"\")","v":0.57834968878634296},{"$f":"IFERROR('3B'!H24/'2B'!H24,\"\")","v":0.57384064825342762},"Total - Health Insurance"]
[]
[null,"تأمين حياة جماعي ",{"$f":"IFERROR('3B'!C26/'2B'!C26,\"\")","v":0.41339407301569014},{"$f":"IFERROR('3B'!D26/'2B'!D26,\"\")","v":0.35848468773882114},{"$f":"IFERROR('3B'!E26/'2B'!E26,\"\")","v":0.23178212115216243},{"$f":"IFERROR('3B'!F26/'2B'!F26,\"\")","v":0.30678698505183},{"$f":"IFERROR('3B'!G26/'2B'!G26,\"\")","v":0.40331607788102997},{"$f":"IFERROR('3B'!H26/'2B'!H26,\"\")","v":0.35689485211803451},"Group Life"]
[null,"تأمين ائتمان حياة جماعي ",{"$f":"IFERROR('3B'!C27/'2B'!C27,\"\")","v":0.27724328230698753},{"$f":"IFERROR('3B'!D27/'2B'!D27,\"\")","v":0.36325374719866216},{"$f":"IFERROR('3B'!E27/'2B'!E27,\"\")","v":0.32766347080995678},{"$f":"IFERROR('3B'!F27/'2B'!F27,\"\")","v":0.33801169455177726},{"$f":"IFERROR('3B'!G27/'2B'!G27,\"\")","v":0.30405987273489193},{"$f":"IFERROR('3B'!H27/'2B'!H27,\"\")","v":0.34843906372736155},"Group Credit Life"]
[null,"تأمين حياة فردي",{"$f":"IFERROR('3B'!C28/'2B'!C28,\"\")","v":0.94218848761995444},{"$f":"IFERROR('3B'!D28/'2B'!D28,\"\")","v":0.95438567579598554},{"$f":"IFERROR('3B'!E28/'2B'!E28,\"\")","v":0.83378505562805505},{"$f":"IFERROR('3B'!F28/'2B'!F28,\"\")","v":0.81881651869861383},{"$f":"IFERROR('3B'!G28/'2B'!G28,\"\")","v":0.91970462738788672},{"$f":"IFERROR('3B'!H28/'2B'!H28,\"\")","v":0.93135401764400383},"Individual Life"]
[null,"دفعات الحياة وتكوين الأموال","-","-","-","-","-","-","Annuities & Fund Accumulation"]
[null,"المجموع - تأمين الأشخاص وعمليات تكوين الأموال",{"$f":"IFERROR('3B'!C30/'2B'!C30,\"\")","v":0.65815951554591523},{"$f":"IFERROR('3B'!D30/'2B'!D30,\"\")","v":0.64229266400792884},{"$f":"IFERROR('3B'!E30/'2B'!E30,\"\")","v":0.54110404539313373},{"$f":"IFERROR('3B'!F30/'2B'!F30,\"\")","v":0.51624295461444936},{"$f":"IFERROR('3B'!G30/'2B'!G30,\"\")","v":0.63129640313233015},{"$f":"IFERROR('3B'!H30/'2B'!H30,\"\")","v":0.61627064172016766},"Total - Insurance of Persons & Fund Accumulation"]
[]
[null,"المجموع - كافة فروع التأمين",{"$f":"IFERROR('3B'!C32/'2B'!C32,\"\")","v":0.46650901973161801},{"$f":"IFERROR('3B'!D32/'2B'!D32,\"\")","v":0.48217996350706149},{"$f":"IFERROR('3B'!E32/'2B'!E32,\"\")","v":0.48922645763276568},{"$f":"IFERROR('3B'!F32/'2B'!F32,\"\")","v":0.54990106255277549},{"$f":"IFERROR('3B'!G32/'2B'!G32,\"\")","v":0.46912101438288323},{"$f":"IFERROR('3B'!H32/'2B'!H32,\"\")","v":0.49009121142484985},"TOTAL - All Types of Business Combined"]

{"sheet":"4C","index":12,"n_rows":67,"n_cols":6,"rows_kept":67,"cut":false,"hidden":false,"merged":[[11,1,12,1],[11,5,12,5],[5,1,5,5],[6,1,6,5],[7,1,7,5]]}
[]
[]
[]
[]
[]
[null,"توزيع أقساط إعادة التأمين حسب التوزيع الجغرافي والتصنيف لكافة شركات التأمين العاملة في القطاع"]
[null,"Ceded premiums per geographic location and rating - All Companies"]
[null,"(2025)"]
[]
[null,"جدول رقم 4C",null,null,null,"TABLE 4C"]
[null,"بالألف درهم ",null,null,null,"AED in 000's"]
[null,"البيــــــــان","الشركات الوطنية","الشركات الأجنبية","الاجمالي","DESCRIPTION"]
[null,null,"NATIONAL COMPANIES","FOREIGN COMPANIES","TOTAL"]
[null,"داخل الدولة",null,null,null,"Inside UAE"]
[null,"AAA",16083.820459379807,2096.6576570000002,{"$f":"C15+D15","v":18180.478116379807},"AAA"]
[null,"AA",1059499.363528572,25394.788115098469,{"$f":"C16+D16","v":1084894.1516436704},"AA"]
[null,"A",3332622.9427067321,105978.30679250874,3438601.2494992409,"A"]
[null,"BBB",152726.16765106554,16019.428313048445,168745.59596411398,"BBB"]
[null,"BB",5518.7152746379279,2899.2290782142854,8417.9443528522133,"BB"]
[null,"B",34981.021537501409,272.57005877759013,35253.591596279002,"B"]
[null,"أخري",12097.362814505281,0,12097.362814505281,"Other"]
[null,"غير مُصنفة",227857.38380508067,11706.402125867397,239563.78593094807,"Unrated"]
[null,"الاجمالي حسب نوع التصنيف",{"$f":"C15+C16+C17+C18+C19+C20+C21+C22","v":4841386.7777774744},{"$f":"D15+D16+D17+D18+D19+D20+D21+D22","v":164367.38214051494},{"$f":"E15+E16+E17+E18+E19+E20+E21+E22","v":5005754.1599179907},"Totals for All Rating Types"]
[]
[null,"مجلس التعاون الخليجي عدا دولة الإمارات",null,null,null,"GCC Excl UAE"]
[null,"AAA",0,0,{"$f":"C26+D26","v":0},"AAA"]
[null,"AA",233090.18192461558,3627.9800251426464,236718.16194975821,"AA"]
[null,"A",783097.92177939566,861122.01187051856,1644219.9336499143,"A"]
[null,"BBB",74802.105072970793,37368.423956428873,112170.52902939967,"BBB"]
[null,"BB",3829.6095252448904,137.52214749096572,3967.1316727358562,"BB"]
[null,"B",12514.740210985483,239.221,12753.961210985482,"B"]
[null,"أخري",6449.0920871078397,0,6449.0920871078397,"Other"]
[null,"غير مُصنفة",15204.201219974451,0,15204.201219974451,"Unrated"]
[null,"الاجمالي حسب نوع التصنيف",{"$f":"C26+C27+C28+C29+C30+C31+C32+C33","v":1128987.851820295},{"$f":"D26+D27+D28+D29+D30+D31+D32+D33","v":902495.15899958112},{"$f":"E26+E27+E28+E29+E30+E31+E32+E33","v":2031483.0108198759},"Totals for All Rating Types"]
[]
[null,"منطقة الشرق الأوسط وشمال أفريقيا عدا منطقة مجلس التعاون الخليجي",null,null,null,"MENA Excl GCC"]
[null,"AAA",2339.8771450414774,9.7366600000000005,{"$f":"C37+D37","v":2349.6138050414775},"AAA"]
[null,"AA",75483.520252942937,0,{"$f":"C38+D38","v":75483.520252942937},"AA"]
[null,"A",508156.92173962295,8229.7122436289901,516386.63398325193,"A"]
[null,"BBB",184928.31214209227,7814.0333690372763,192742.34551112953,"BBB"]
[null,"BB",56465.198425562623,0,56465.198425562623,"BB"]
[null,"B",215340.62828618017,6377.906983505477,221718.53526968564,"B"]
[null,"أخري",681.05530036832954,0,681.05530036832954,"Other"]
[null,"غير مُصنفة",20641.451422499998,5453.5741653340001,26095.025587833999,"Unrated"]
[null,"الاجمالي حسب نوع التصنيف",{"$f":"C37+C38+C39+C40+C41+C42+C43+C44","v":1064036.9647143108},{"$f":"D37+D38+D39+D40+D41+D42+D43+D44","v":27884.963421505745},1091921.9281358162,"Totals for All Rating Types"]
[]
[null,"خارج منطقة الشرق الأوسط وشمال أفريقيا",null,null,null,"Outside MENA"]
[null,"AAA",276979.929823566,6271.6857265091048,{"$f":"C48+D48","v":283251.61555007508},"AAA"]
[null,"AA",6960247.9384243432,1600567.654587935,8560815.5930122789,"AA"]
[null,"A",12437704.579924602,2432014.6598735675,14869719.23979817,"A"]
[null,"BBB",315002.00022598787,12355.293044378021,327357.29327036592,"BBB"]
[null,"BB",98289.045391359337,2105.9194744192469,100394.96486577859,"BB"]
[null,"B",-18219.357955890118,2868.6847227569997,-15350.673233133119,"B"]
[null,"أخري",27699.851782763461,536.33092999999997,28236.182712763461,"Other"]
[null,"غير مُصنفة",570488.67894329398,87839.988613736801,658328.6675570308,"Unrated"]
[null,"الاجمالي حسب نوع التصنيف",{"$f":"C48+C49+C50+C51+C52+C53+C54+C55","v":20668192.666560024},{"$f":"D48+D49+D50+D51+D52+D53+D54+D55","v":4144560.2169733029},24812752.883533329,"Totals for All Rating Types"]
[]
[null,"كافة المناطق حسب التوزيع الجغرافي",null,null,null,"Totals for All Regions"]
[null,"AAA",{"$f":"C15+C26+C37+C48","v":295403.62742798729},{"$f":"D15+D26+D37+D48","v":8378.0800435091041},{"$f":"C59+D59","v":303781.70747149637},"AAA"]
[null,"AA",{"$f":"C16+C27+C38+C49","v":8328321.0041304734},1629590.422728176,9957911.4268586487,"AA"]
[null,"A",{"$f":"C17+C28+C39+C50","v":17061582.366150353},3407344.6907802238,20468927.056930576,"A"]
[null,"BBB",{"$f":"C18+C29+C40+C51","v":727458.5850921165},73557.178682892612,801015.76377500908,"BBB"]
[null,"BB",{"$f":"C19+C30+C41+C52","v":164102.56861680478},5142.6707001244977,169245.23931692928,"BB"]
[null,"B",{"$f":"C20+C31+C42+C53","v":244617.03207877692},9758.3827650400672,254375.41484381698,"B"]
[null,"أخري",{"$f":"C21+C32+C43+C54","v":46927.361984744915},536.33092999999997,{"$f":"C65+D65","v":47463.692914744912},"Other"]
[null,"غير مُصنفة",{"$f":"C22+C33+C44+C55","v":834191.71539084916},104999.9649049382,{"$f":"C66+D66","v":939191.6802957874},"Unrated"]
[null,"الاجمالي حسب نوع التصنيف",{"$f":"C59+C60+C61+C62+C63+C64+C65+C66","v":27702604.260872103},{"$f":"D59+D60+D61+D62+D63+D64+D65+D66","v":5239307.7215349041},{"$f":"E59+E60+E61+E62+E63+E64+E65+E66","v":32941911.982407007},"Totals for All Rating Types"]

{"sheet":"4D","index":13,"n_rows":69,"n_cols":6,"rows_kept":69,"cut":false,"hidden":false,"merged":[[13,1,14,1],[13,5,14,5],[5,1,5,5],[7,1,7,5],[9,1,9,5],[6,1,6,5],[8,1,8,5]]}
[]
[]
[]
[]
[]
[null,"توزيع أقساط إعادة التأمين حسب التوزيع الجغرافي "]
[null,"شركات التأمين التقليدي الوطنية وشركات التأمين التكافلي الوطنية "]
[null,"Ceded premiums per geographic location and rating "]
[null,"Traditional & Takaful National Companies"]
[null,"(2025)"]
[]
[null,"جدول رقم 4D",null,null,null,"TABLE 4D"]
[null,"بالألف درهم ",null,null,null,"AED in 000's"]
[null,"البيــــــــان","شركات التأمين التقليدي الوطنية","شركات التأمين التكافلي الوطنية","إجمالي الشركات الوطنية","DESCRIPTION"]
[null,null,"TRADITIONAL COMPANIES","TAKAFUL OPERATORS","TOTAL of NATIONAL COMPANIES"]
[null,"داخل الدولة",null,null,null,"Inside UAE"]
[null,"AAA",5442.7807718798067,10641.039687500001,{"$f":"C17+D17","v":16083.820459379807},"AAA"]
[null,"AA",856156.1444847933,203343.21904377875,{"$f":"C18+D18","v":1059499.363528572},"AA"]
[null,"A",2711846.3639524141,620776.57875431795,3332622.9427067321,"A"]
[null,"BBB",72957.179152369237,79768.988498696301,152726.16765106554,"BBB"]
[null,"BB",-1031.3936342960242,6550.1089089339521,5518.7152746379279,"BB"]
[null,"B",31529.855316908917,3451.1662205924895,34981.021537501409,"B"]
[null,"أخري",11702.109128608021,395.25368589726025,{"$f":"C23+D23","v":12097.362814505281},"Other"]
[null,"غير مُصنفة",196448.2038635416,31409.179941539067,227857.38380508067,"Unrated"]
[null,"الاجمالي حسب نوع التصنيف",{"$f":"C17+C18+C19+C20+C21+C22+C23+C24","v":3885051.2430362189},{"$f":"D17+D18+D19+D20+D21+D22+D23+D24","v":956335.5347412558},{"$f":"E17+E18+E19+E20+E21+E22+E23+E24","v":4841386.7777774744},"Totals for All Rating Types"]
[]
[null,"مجلس التعاون الخليجي عدا دولة الإمارات",null,null,null,"GCC Excl UAE"]
[null,"AAA",0,0,{"$f":"C28+D28","v":0},"AAA"]
[null,"AA",103864.83351842304,129225.34840619256,{"$f":"C29+D29","v":233090.18192461558},"AA"]
[null,"A",550517.5797193785,232580.34206001717,{"$f":"C30+D30","v":783097.92177939566},"A"]
[null,"BBB",24596.656441319443,50205.44863165135,74802.105072970793,"BBB"]
[null,"BB",-9501.2515286205689,13330.861053865459,3829.6095252448904,"BB"]
[null,"B",-4026.9949144434454,16541.735125428928,12514.740210985483,"B"]
[null,"أخري",6449.0920871078397,0,6449.0920871078397,"Other"]
[null,"غير مُصنفة",13937.773239974451,1266.4279799999997,15204.201219974451,"Unrated"]
[null,"الاجمالي حسب نوع التصنيف",{"$f":"C28+C29+C30+C31+C32+C33+C34+C35","v":685837.68856313918},{"$f":"D28+D29+D30+D31+D32+D33+D34+D35","v":443150.16325715545},{"$f":"E28+E29+E30+E31+E32+E33+E34+E35","v":1128987.851820295},"Totals for All Rating Types"]
[]
[null,"منطقة الشرق الأوسط وشمال أفريقيا عدا منطقة مجلس التعاون الخليجي",null,null,null,"MENA Excl GCC"]
[null,"AAA",-918.62257374693456,3258.4997187884119,{"$f":"C39+D39","v":2339.8771450414774},"AAA"]
[null,"AA",65700.919077266008,9782.6011756769312,{"$f":"C40+D40","v":75483.520252942937},"AA"]
[null,"A",474623.68712965015,33533.234609972787,{"$f":"C41+D41","v":508156.92173962295},"A"]
[null,"BBB",143335.85182214945,41592.460319942809,184928.31214209227,"BBB"]
[null,"BB",55058.972899843298,1406.2255257193228,56465.198425562623,"BB"]
[null,"B",201650.61110775179,13690.017178428383,215340.62828618017,"B"]
[null,"أخري",681.05530036832954,0,681.05530036832954,"Other"]
[null,"غير مُصنفة",20635.5104225,5.9409999999999998,20641.451422499998,"Unrated"]
[null,"الاجمالي حسب نوع التصنيف",{"$f":"C39+C40+C41+C42+C43+C44+C45+C46","v":960767.98518578196},{"$f":"D39+D40+D41+D42+D43+D44+D45+D46","v":103268.97952852865},{"$f":"E39+E40+E41+E42+E43+E44+E45+E46","v":1064036.9647143108},"Totals for All Rating Types"]
[]
[null,"خارج منطقة الشرق الأوسط وشمال أفريقيا",null,null,null,"Outside MENA"]
[null,"AAA",184574.25599580363,92405.673827762381,{"$f":"C50+D50","v":276979.929823566},"AAA"]
[null,"AA",6563059.4030298172,397188.53539452603,{"$f":"C51+D51","v":6960247.9384243432},"AA"]
[null,"A",11646793.376371669,790911.20355293294,12437704.579924602,"A"]
[null,"BBB",257551.53241682533,57450.467809162525,315002.00022598787,"BBB"]
[null,"BB",98289.045391359337,0,98289.045391359337,"BB"]
[null,"B",-18584.198824996791,364.84086910667315,-18219.357955890118,"B"]
[null,"أخري",27699.851782763461,0,27699.851782763461,"Other"]
[null,"غير مُصنفة",554913.74043063039,15574.938512663601,{"$f":"C57+D57","v":570488.67894329398},"Unrated"]
[null,"الاجمالي حسب نوع التصنيف",{"$f":"C50+C51+C52+C53+C54+C55+C56+C57","v":19314297.006593872},{"$f":"D50+D51+D52+D53+D54+D55+D56+D57","v":1353895.659966154},{"$f":"E50+E51+E52+E53+E54+E55+E56+E57","v":20668192.666560024},"Totals for All Rating Types"]
[]
[null,"كافة المناطق حسب التوزيع الجغرافي",null,null,null,"Totals for All Regions"]
[null,"AAA",{"$f":"C17+C28+C39+C50","v":189098.41419393651},{"$f":"D17+D28+D39+D50","v":106305.2132340508},{"$f":"C61+D61","v":295403.62742798729},"AAA"]
[null,"AA",{"$f":"C18+C29+C40+C51","v":7588781.3001102991},739539.70402017422,{"$f":"C62+D62","v":8328321.0041304734},"AA"]
[null,"A",{"$f":"C19+C30+C41+C52","v":15383781.007173112},1677801.358977241,17061582.366150353,"A"]
[null,"BBB",{"$f":"C20+C31+C42+C53","v":498441.21983266342},229017.36525945296,727458.58509211638,"BBB"]
[null,"BB",{"$f":"C21+C32+C43+C54","v":142815.37312828604},21287.195488518737,164102.56861680478,"BB"]
[null,"B",{"$f":"C22+C33+C44+C55","v":210569.27268522047},34047.759393556473,244617.03207877695,"B"]
[null,"أخري",{"$f":"C23+C34+C45+C56","v":46532.108298847656},395.25368589726025,46927.361984744915,"Other"]
[null,"غير مُصنفة",{"$f":"C24+C35+C46+C57","v":785935.22795664647},48256.487434202667,834191.71539084916,"Unrated"]
[null,"الاجمالي حسب نوع التصنيف",{"$f":"C61+C62+C63+C64+C65+C66+C67+C68","v":24845953.923379015},{"$f":"D61+D62+D63+D64+D65+D66+D67+D68","v":2856650.3374930937},27702604.260872103,"Totals for All Rating Types"]

{"sheet":"4E","index":14,"n_rows":69,"n_cols":11,"rows_kept":69,"cut":false,"hidden":false,"merged":[[12,8,12,9],[12,10,13,10],[13,2,13,3],[13,8,13,9],[5,1,5,10],[7,1,7,10],[8,1,8,10],[13,4,13,5],[13,6,13,7],[12,1,13,1],[12,2,12,3],[12,4,12,5],[12,6,12,7],[6,1,6,10]]}
[]
[]
[]
[]
[]
[null,"توزيع أقساط إعادة التأمين حسب التوزيع الجغرافي والتصنيف"]
[null," لشركات التامين على الأشخاص وتكوين الأموال وشركات تامين الممتلكات والمسؤوليات والشركات التي تمارس النوعين معاً"]
[null,"Ceded premiums per geographic location and rating - "]
[null,"Life, Non-Life & Composite"]
[]
[null,"جدول رقم 4E",null,null,null,null,null,null,null,null,"TABLE 4E"]
[null,"بالألف درهم ",null,null,null,null,null,null,null,null,"AED in 000's"]
[null,"البيــــــــان","شركات التأمين على الأشخاص وتكوين الأموال",null,"شركات تأمين الممتلكات والمسؤوليات",null,"شركات التأمين (النوعين معاً)",null,"الاجمالي",null,"DESCRIPTION"]
[null,null,"LIFE COMPANIES",null,"NON-LIFE COMPANIES",null,"COMPOSITE COMPANIES",null,"TOTAL"]
[null,null,2024,2025,2024,2025,2024,2025,2024,2025]
[null,"داخل الدولة",null,null,null,null,null,null,null,null,"Inside UAE"]
[null,"AAA",0,0,6213.112869999999,13221.6789345,792.32497246659148,4958.7991818798073,{"$f":"C17+E17+G17","v":7005.4378424665902},{"$f":"D17+F17+H17","v":18180.478116379807},"AAA"]
[null,"AA",100155.42070739013,101022.60211810443,115392.53369649038,101389.86340489121,653556.07478308096,882481.68612067495,{"$f":"C18+E18+G18","v":869104.02918696147},{"$f":"D18+F18+H18","v":1084894.1516436706},"AA"]
[null,"A",88154.161886735717,55972.071993933801,923783.20705457521,1100442.1645929934,1833496.4407847053,2282187.0129123135,2845433.8097260161,3438601.2494992409,"A"]
[null,"BBB",7409.2066219999997,3990.3890960000003,302046.97649841517,95361.28124163115,20275.913760761799,69393.925626482815,329732.09688117699,168745.59596411395,"BBB"]
[null,"BB",5.5354699999999974,0,31311.784449170773,9299.2741280860937,0,-881.32977523388149,31317.319919170772,8417.9443528522115,"BB"]
[null,"B",0,0,59451.043677830588,3964.3501462277941,0,31289.241450051199,59451.043677830588,35253.591596278995,"B"]
[null,"أخري",0,0,113.10115,110.35872999999999,19069.959156937144,11987.004084505281,19183.060306937143,12097.362814505281,"Other"]
[null,"غير مُصنفة",3046.6637553945211,252.48794260344138,91259.364037821506,36625.227186784789,170701.40686056571,202686.07080155984,265007.4346537817,239563.78593094807,"Unrated"]
[null,"الاجمالي حسب نوع التصنيف",{"$f":"C17+C18+C19+C20+C21+C22+C23+C24","v":198770.98844152037},{"$f":"D17+D18+D19+D20+D21+D22+D23+D24","v":161237.55115064167},{"$f":"E17+E18+E19+E20+E21+E22+E23+E24","v":1529571.1234343038},1360414.1983651146,{"$f":"G17+G18+G19+G20+G21+G22+G23+G24","v":2697892.1203185171},3484102.4104022337,4426234.2321943408,5005754.1599179907,"Totals for All Rating Types"]
[]
[null,"مجلس التعاون الخليجي عدا دولة الإمارات",null,null,null,null,null,null,null,null,"GCC Excl UAE"]
[null,"AAA",0,0,0,0,0,0,{"$f":"C28+E28+G28","v":0},{"$f":"D28+F28+H28","v":0},"AAA"]
[null,"AA",0,14.315872509246576,8874.4516373200422,6033.7087158802633,183547.54693576539,230670.13736136869,192421.99857308544,236718.16194975819,"AA"]
[null,"A",60807.338016742033,82435.433791220945,430499.03595095698,1219635.1578626328,340932.08781265176,342149.34199606034,832238.46178035077,1644219.9336499139,"A"]
[null,"BBB",0,0,21572.457104483972,87219.232463909502,63930.701828057769,24951.296565490145,85503.158932541744,112170.52902939965,"BBB"]
[null,"BB",0,452.72613000000007,3662.1454663193335,13058.898598981899,18463.206292335519,-9544.4930562460468,22125.351758654851,3967.1316727358535,"BB"]
[null,"B",0,0,2431.632819800715,21426.500143236502,10260.519654597179,-8672.53893225102,12692.152474397895,12753.961210985482,"B"]
[null,"أخري",0,0,0,0,455.86008846913245,6449.0920871078397,455.86008846913245,6449.0920871078397,"Other"]
[null,"غير مُصنفة",0,1266.4279799999997,1062.033323052,0,4519.4523410378424,13937.773239974451,5581.4856640898424,15204.201219974451,"Unrated"]
[null,"الاجمالي حسب نوع التصنيف",{"$f":"C28+C29+C30+C31+C32+C33+C34+C35","v":60807.338016742033},{"$f":"D28+D29+D30+D31+D32+D33+D34+D35","v":84168.903773730184},{"$f":"E28+E29+E30+E31+E32+E33+E34+E35","v":468101.75630193303},1347373.4977846409,{"$f":"G28+G29+G30+G31+G32+G33+G34+G35","v":622109.37495291454},599940.60926150437,1151018.4692715898,2031483.0108198754,"Totals for All Rating Types"]
[]
[null,"منطقة الشرق الأوسط وشمال أفريقيا عدا منطقة مجلس التعاون الخليجي",null,null,null,null,null,null,null,null,"MENA Excl GCC"]
[null,"AAA",990.76046895731167,-21.698100015000005,1188.4101500000002,3289.9344788034123,7576.5102510147517,-918.62257374693456,{"$f":"C39+E39+G39","v":9755.6808699720641},{"$f":"D39+F39+H39","v":2349.6138050414779},"AAA"]
[null,"AA",0,0,1533.2220840454261,9888.8201256769298,135564.48032345303,65594.700127265998,137097.70240749847,75483.520252942923,"AA"]
[null,"A",0,0,17779.766741022177,26841.738253643191,489252.96750700695,489544.89572960878,507032.73424802913,516386.63398325199,"A"]
[null,"BBB",0,0,9339.8523437707172,37962.316764554394,213340.13461803878,154780.02874657515,222679.98696180948,192742.34551112953,"BBB"]
[null,"BB",0,0,358.58760237648477,2135.3908931780143,59922.738869087334,54329.807532384613,60281.326471463821,56465.19842556263,"BB"]
[null,"B",0,0,22424.371053920513,21652.067264365214,163349.76202085236,200066.46800532046,185774.13307477286,221718.53526968567,"B"]
[null,"أخري",0,0,0,0,2632.667459367924,681.05530036832954,2632.667459367924,681.05530036832954,"Other"]
[null,"غير مُصنفة",0,0,5049.1300799999999,9391.9551653340004,1704.8436299999996,16703.070422499997,6753.9737099999993,26095.025587833996,"Unrated"]
[null,"الاجمالي حسب نوع التصنيف",{"$f":"C39+C40+C41+C42+C43+C44+C45+C46","v":990.76046895731167},{"$f":"D39+D40+D41+D42+D43+D44+D45+D46","v":-21.698100015000005},{"$f":"E39+E40+E41+E42+E43+E44+E45+E46","v":57673.340055135326},111162.22294555516,{"$f":"G39+G40+G41+G42+G43+G44+G45+G46","v":1073344.1046788213},980781.40329027642,1132008.2052029138,1091921.9281358162,"Totals for All Rating Types"]
[]
[null,"خارج منطقة الشرق الأوسط وشمال أفريقيا",null,null,null,null,null,null,null,null,"Outside MENA"]
[null,"AAA",1152.5419109999998,1406.1285989999999,70029.575109532889,31599.851785340194,252318.02765001051,250245.63516573492,{"$f":"C50+E50+G50","v":323500.14467054338},{"$f":"D50+F50+H50","v":283251.61555007513},"AAA"]
[null,"AA",630938.79668843525,405912.01884364238,1575208.233972477,1995627.132139968,4733104.8761227224,6159276.4420286668,6939251.9067836348,8560815.593012277,"AA"]
[null,"A",249098.44703446582,263890.36288097675,2636893.905450718,2889508.3677824256,11090406.23983622,11716320.509134768,13976398.592321403,14869719.23979817,"A"]
[null,"BBB",16145.419203647269,19446.308938198144,45581.433197645638,68644.319417937411,320404.15553865267,239266.66491423035,382131.00793994556,327357.29327036592,"BBB"]
[null,"BB",0,0,1145.5577434737575,5211.6164643354214,93785.183677895679,95183.348401443174,{"$f":"C54+E54+G54","v":94930.741421369443},{"$f":"D54+F54+H54","v":100394.9648657786},"BB"]
[null,"B",0,0,18356.929659400837,7016.2165876562276,152676.89772318469,-22366.889820789344,171033.82738258553,-15350.673233133115,"B"]
[null,"أخري",0,0,2849.3312349999997,536.33092999999997,23679.997552697645,27699.851782763461,26529.328787697646,28236.182712763461,"Other"]
[null,"غير مُصنفة",75.656129999999976,0,31986.535954551397,115825.89631914829,725780.94352342677,542502.77123788267,757843.13560797821,658328.66755703092,"Unrated"]
[null,"الاجمالي حسب نوع التصنيف",{"$f":"C50+C51+C52+C53+C54+C55+C56+C57","v":897410.86096754845},{"$f":"D50+D51+D52+D53+D54+D55+D56+D57","v":690654.81926181726},{"$f":"E50+E51+E52+E53+E54+E55+E56+E57","v":4382051.5023227995},5113969.7314268118,{"$f":"G50+G51+G52+G53+G54+G55+G56+G57","v":17392156.321624812},19008128.332844704,22671618.684915159,24812752.883533325,"Totals for All Rating Types"]
[]
[null,"كافة المناطق حسب التوزيع الجغرافي",null,null,null,null,null,null,null,null,"Totals for All Regions"]
[null,"AAA",{"$f":"C17+C28+C39+C50","v":2143.3023799573116},{"$f":"D17+D28+D39+D50","v":1384.430498985},{"$f":"E17+E28+E39+E50","v":77431.098129532882},48111.465198643607,{"$f":"G17+G28+G39+G50","v":260686.86287349186},254285.81177386778,{"$f":"C61+E61+G61","v":340261.26338298206},{"$f":"D61+F61+H61","v":303781.70747149637},"AAA"]
[null,"AA",{"$f":"C18+C29+C40+C51","v":731094.21739582543},{"$f":"D18+D29+D40+D51","v":506948.93683425605},{"$f":"E18+E29+E40+E51","v":1701008.4413903328},2112939.5243864162,{"$f":"G18+G29+G40+G51","v":5705772.9781650221},7338022.9656379763,8137875.6369511802,9957911.4268586487,"AA"]
[null,"A",{"$f":"C19+C30+C41+C52","v":398059.94693794358},{"$f":"D19+D30+D41+D52","v":402297.86866613152},{"$f":"E19+E30+E41+E52","v":4008955.9151972728},5236427.4284916949,{"$f":"G19+G30+G41+G52","v":13754087.735940583},14830201.75977275,18161103.5980758,20468927.056930576,"A"]
[null,"BBB",{"$f":"C20+C31+C42+C53","v":23554.625825647268},{"$f":"D20+D31+D42+D53","v":23436.698034198143},{"$f":"E20+E31+E42+E53","v":378540.71914431552},289187.14988803247,{"$f":"G20+G31+G42+G53","v":617950.90574551094},488391.91585277847,1020046.2507154737,801015.76377500908,"BBB"]
[null,"BB",{"$f":"C21+C32+C43+C54","v":5.5354699999999974},{"$f":"D21+D32+D43+D54","v":452.72613000000007},{"$f":"E21+E32+E43+E54","v":36478.075261340353},29705.180084581425,{"$f":"G21+G32+G43+G54","v":172171.12883931852},139087.33310234785,{"$f":"C65+E65+G65","v":208654.73957065889},{"$f":"D65+F65+H65","v":169245.23931692928},"BB"]
[null,"B",{"$f":"C22+C33+C44+C55","v":0},{"$f":"D22+D33+D44+D55","v":0},{"$f":"E22+E33+E44+E55","v":102663.97721095265},54059.134141485738,{"$f":"G22+G33+G44+G55","v":326287.17939863424},200316.28070233131,{"$f":"C66+E66+G66","v":428951.15660958691},{"$f":"D66+F66+H66","v":254375.41484381704},"B"]
[null,"أخري",{"$f":"C23+C34+C45+C56","v":0},{"$f":"D23+D34+D45+D56","v":0},{"$f":"E23+E34+E45+E56","v":2962.4323849999996},646.68966,{"$f":"G23+G34+G45+G56","v":45838.48425747185},46817.003254744908,48800.91664247185,47463.692914744912,"Other"]
[null,"غير مُصنفة",{"$f":"C24+C35+C46+C57","v":3122.319885394521},{"$f":"D24+D35+D46+D57","v":1518.915922603441},{"$f":"E24+E35+E46+E57","v":129357.06339542491},161843.07867126708,{"$f":"G24+G35+G46+G57","v":902706.64635503036},775829.68570191693,1035186.0296358498,{"$f":"D68+F68+H68","v":939191.68029578752},"Unrated"]
[null,"الاجمالي حسب نوع التصنيف",{"$f":"C61+C62+C63+C64+C65+C66+C67+C68","v":1157979.9478947681},{"$f":"D61+D62+D63+D64+D65+D66+D67+D68","v":936039.57608617411},{"$f":"E61+E62+E63+E64+E65+E66+E67+E68","v":6437397.7221141728},7932919.6505221212,{"$f":"G61+G62+G63+G64+G65+G66+G67+G68","v":21785501.921575058},24072952.755798712,29380879.591584004,32941911.982407007,"Totals for All Rating Types"]

{"sheet":"5A","index":15,"n_rows":32,"n_cols":9,"rows_kept":32,"cut":false,"hidden":false,"merged":[[5,1,5,8],[7,1,7,8],[12,1,14,1],[12,2,12,3],[12,4,12,5],[12,6,12,7],[12,8,14,8],[13,2,13,3],[13,4,13,5],[13,6,13,7],[8,1,8,8],[6,1,6,8]]}
[]
[]
[]
[]
[]
[null,"إجمالي الأقساط المكتسبة حسب فرع التأمين"]
[null,"الشركات الوطنية والاجنبية"]
[null,"Gross Earned Premium by Line of Business"]
[null,"National & Foreign Companies"]
[]
[null,"جدول رقم 5A",null,null,null,null,null,null,"TABLE 5A"]
[null,"بالألف درهم ",null,null,null,null,null,null,"AED in 000's"]
[null,"فروع التأمين","الشركات الوطنية",null,"الشركات الأجنبية",null,"الاجمالي",null,"Line of Business"]
[null,null,"NATIONAL COMPANIES",null,"FOREIGN COMPANIES",null,"TOTAL"]
[null,null,2024,2025,2024,2025,2024,2025]
[null,"تأمين الحريق",4905939.9450298352,5957054.4279170781,661673.52561771474,693820.16338723339,{"$f":"E16+C16","v":5567613.4706475502},{"$f":"F16+D16","v":6650874.5913043115},"Fire"]
[null,"التأمين البحري والطيران",1924394.7469035885,1977078.7430792544,339288.03140117845,380366.89448500902,{"$f":"E17+C17","v":2263682.7783047669},{"$f":"F17+D17","v":2357445.6375642633},"Marine & Aviation"]
[null,"تأمين السيارات والمركبات الأخرى",5096599.1467320463,6866706.852129682,1753088.3654194733,2288275.8004585295,6849687.5121515198,{"$f":"F18+D18","v":9154982.652588211},"Motor & Transportation"]
[null,"التأمين الهندسي والانشاءات والطاقة",3322918.0163844796,3807173.6406799946,187638.90872400303,189634.26606981328,3510556.9251084826,{"$f":"F19+D19","v":3996807.9067498078},"Engineering, Construction & Energy"]
[null,"أخرى",4673355.8172250036,5063161.7908312716,547392.33267174172,566544.99125133478,5220748.1498967456,{"$f":"F20+D20","v":5629706.7820826061},"Other"]
[null,"اعادة التأمين غير النسبية - المسؤوليات والممتلكات",5899.1030309288972,5903.6672034570893,0,0,5899.1030309288972,{"$f":"F21+D21","v":5903.6672034570893},"Reinsurance - Property & Liability"]
[null,"المجموع - تأمين الممتلكات والمسؤوليات",{"$f":"C16+C17+C18+C19+C20+C21","v":19929106.775305882},{"$f":"D16+D17+D18+D19+D20+D21","v":23677079.121840734},{"$f":"E16+E17+E18+E19+E20+E21","v":3489081.1638341108},4118642.1156519195,{"$f":"G16+G17+G18+G19+G20+G21","v":23418187.939139992},{"$f":"H16+H17+H18+H19+H20+H21","v":27795721.237492654},"Total - Property & Liability Insurance"]
[]
[null,"المجموع - تأمين صحي",21062489.727930911,24098912.844608337,8372468.7547136294,10696113.486935606,{"$f":"E24+C24","v":29434958.482644539},{"$f":"F24+D24","v":34795026.331543945},"Total - Health Insurance"]
[]
[null,"تأمين حياة جماعي ",867758.81652847037,1163600.7319898503,226338.06508853452,246645.65951315098,{"$f":"E26+C26","v":1094096.881617005},1410246.3915030013,"Group Life"]
[null,"تأمين ائتمان حياة جماعي ",612658.95757046714,701751.99913404346,19524,16982,632182.95757046714,718733.99913404346,"Group Credit Life"]
[null,"تأمين حياة فردي",1450219.3721468938,1597933.9201053251,4306189.4942699214,4619604.9942117389,5756408.8664168157,6217538.914317064,"Individual Life"]
[null,"دفعات الحياة وتكوين الأموال",0,0,41766.659355980795,28153.879188956802,41766.659355980795,28153.879188956802,"Annuities & Fund Accumulation"]
[null,"المجموع - تأمين الأشخاص وعمليات تكوين الأموال",{"$f":"C26+C27+C28+C29","v":2930637.1462458312},{"$f":"D26+D27+D28+D29","v":3463286.6512292186},{"$f":"E26+E27+E28+E29","v":4593818.2187144365},4911386.5329138469,{"$f":"G26+G27+G28+G29","v":7524455.3649602681},{"$f":"H26+H27+H28+H29","v":8374673.1841430655},"Total - Insurance of Persons & Fund Accumulation"]
[]
[null,"المجموع - كافة فروع التأمين",{"$f":"C22+C24+C30","v":43922233.649482623},{"$f":"D22+D24+D30","v":51239278.617678285},{"$f":"E22+E24+E30","v":16455368.137262177},19726142.13550137,{"$f":"G22+G24+G30","v":60377601.786744803},{"$f":"H22+H24+H30","v":70965420.753179669},"TOTAL - All Types of Business Combined"]

{"sheet":"5B","index":16,"n_rows":32,"n_cols":9,"rows_kept":32,"cut":false,"hidden":false,"merged":[[5,1,5,8],[7,1,7,8],[12,1,14,1],[12,2,12,3],[12,4,12,5],[12,6,12,7],[12,8,14,8],[13,2,13,3],[13,4,13,5],[13,6,13,7],[8,1,8,8],[6,1,6,8]]}
[]
[]
[]
[]
[]
[null,"إجمالي الأقساط المكتسبة حسب فرع التأمين"]
[null," شركات التأمين التقليدي الوطنية وشركات التأمين التكافلي الوطنية "]
[null,"Gross Earned Premium by Line of Business"]
[null,"Traditional & Takaful National Companies"]
[]
[null,"جدول رقم 5B",null,null,null,null,null,null,"TABLE 5B"]
[null,"بالألف درهم ",null,null,null,null,null,null,"AED in 000's"]
[null,"فروع التأمين","شركات التأمين التقليدي الوطنية",null,"شركات التأمين التكافلي الوطنية",null,"الشركات الوطنية",null,"Line of Business"]
[null,null,"TRADITIONAL COMPANIES",null,"TAKAFUL OPERATORS",null,"NATIONAL COMPANIES"]
[null,null,2024,2025,2024,2025,2024,2025]
[null,"تأمين الحريق",4334285.5377449542,5278845.8830394838,571654.40728488145,678208.5448775941,{"$f":"E16+C16","v":4905939.9450298361},5957054.4279170781,"Fire"]
[null,"التأمين البحري والطيران",1812032.2926428579,1824123.3934064754,112362.45426073069,152955.34967277874,1924394.7469035885,1977078.7430792542,"Marine & Aviation"]
[null,"تأمين السيارات والمركبات الأخرى",4059951.4958405187,5522221.7974999528,1036647.6508915272,1344485.0546297296,5096599.1467320463,6866706.8521296829,"Motor & Transportation"]
[null,"التأمين الهندسي والانشاءات والطاقة",3135646.9174996489,3543523.1225876063,187271.09888483048,263650.51809238835,3322918.0163844796,3807173.6406799946,"Engineering, Construction & Energy"]
[null,"أخرى",4158028.7554073194,4411599.4975282298,515327.06181768444,651562.29330304102,4673355.8172250036,5063161.7908312706,"Other"]
[null,"اعادة التأمين غير النسبية - المسؤوليات والممتلكات",5899.1030309288972,5903.6672034570893,0,0,5899.1030309288972,5903.6672034570893,"Reinsurance - Property & Liability"]
[null,"المجموع - تأمين الممتلكات والمسؤوليات",17505844.102166228,{"$f":"D16+D17+D18+D19+D20+D21","v":20586217.361265205},2423262.6731396541,{"$f":"F16+F17+F18+F19+F20+F21","v":3090861.760575532},{"$f":"G16+G17+G18+G19+G20+G21","v":19929106.775305882},23677079.121840738,"Total - Property & Liability Insurance"]
[]
[null,"المجموع - تأمين صحي",19139873.837396704,21983123.67805877,1922615.8905342072,2115789.1665495713,{"$f":"E24+C24","v":21062489.727930911},24098912.84460834,"Total - Health Insurance"]
[]
[null,"تأمين حياة جماعي ",823619.14101983828,1128330.5855946278,44139.675508632114,35270.146395222429,{"$f":"E26+C26","v":867758.81652847037},{"$f":"F26+D26","v":1163600.7319898503},"Group Life"]
[null,"تأمين ائتمان حياة جماعي ",287960.27592744684,291343.59614862897,324698.68164302036,410408.40298541437,612658.95757046714,701751.99913404335,"Group Credit Life"]
[null,"تأمين حياة فردي",1150788.3897703814,1331215.2403013562,299430.98237651249,266718.67980396887,1450219.3721468938,1597933.9201053251,"Individual Life"]
[null,"دفعات الحياة وتكوين الأموال",0,0,0,0,0,0,"Annuities & Fund Accumulation"]
[null,"المجموع - تأمين الأشخاص وعمليات تكوين الأموال",2262367.8067176668,{"$f":"D26+D27+D28+D29","v":2750889.4220446129},668269.33952816494,712397.22918460565,{"$f":"G26+G27+G28+G29","v":2930637.1462458312},{"$f":"H26+H27+H28+H29","v":3463286.6512292186},"Total - Insurance of Persons & Fund Accumulation"]
[]
[null,"المجموع - كافة فروع التأمين",38908085.746280596,{"$f":"D22+D24+D30","v":45320230.461368583},5014147.9032020262,5919048.156309709,{"$f":"G22+G24+G30","v":43922233.649482623},{"$f":"H22+H24+H30","v":51239278.6176783},"TOTAL - All Types of Business Combined"]

{"sheet":"6A","index":17,"n_rows":32,"n_cols":9,"rows_kept":32,"cut":false,"hidden":false,"merged":[[5,1,5,8],[7,1,7,8],[12,1,14,1],[12,2,12,3],[12,4,12,5],[12,6,12,7],[12,8,14,8],[13,2,13,3],[13,4,13,5],[13,6,13,7],[8,1,8,8],[6,1,6,8]]}
[]
[]
[]
[]
[]
[null,"صافي الأقساط المكتسبة حسب فرع التأمين"]
[null,"الشركات الوطنية والاجنبية"]
[null,"Net Earned Premium by Line of Business"]
[null,"National & Foreign Companies"]
[]
[null,"جدول رقم 6A",null,null,null,null,null,null,"TABLE 6A"]
[null,"بالألف درهم ",null,null,null,null,null,null,"AED in 000's"]
[null,"فروع التأمين","الشركات الوطنية",null,"الشركات الأجنبية",null,"الاجمالي",null,"Line of Business"]
[null,null,"NATIONAL COMPANIES",null,"FOREIGN COMPANIES",null,"TOTAL"]
[null,null,2024,2025,2024,2025,2024,2025]
[null,"تأمين الحريق",700625.96452348959,996498.68025396997,194386.0111218926,315859.57443850057,{"$f":"E16+C16","v":895011.97564538219},{"$f":"F16+D16","v":1312358.2546924707},"Fire"]
[null,"التأمين البحري والطيران",332593.5943714038,350786.38840183755,179071.45930187218,190780.3112208758,511665.05367327598,541566.69962271338,"Marine & Aviation"]
[null,"تأمين السيارات والمركبات الأخرى",3779270.6053032433,5618051.7152182264,1618998.7177330381,2169479.7789408127,5398269.3230362814,7787531.4941590391,"Motor & Transportation"]
[null,"التأمين الهندسي والانشاءات والطاقة",550018.4480290215,539267.26619674137,95722.272503042594,91803.181498540667,645740.72053206409,631070.44769528206,"Engineering, Construction & Energy"]
[null,"أخرى",1212406.336022038,1376949.642023704,242418.34082227832,250350.0176452389,1454824.6768443163,1627299.6596689429,"Other"]
[null,"اعادة التأمين غير النسبية - المسؤوليات والممتلكات",3422.1647854982211,4345.1810620746164,0,0,3422.1647854982211,4345.1810620746164,"Reinsurance - Property & Liability"]
[null,"المجموع - تأمين الممتلكات والمسؤوليات",{"$f":"C16+C17+C18+C19+C20+C21","v":6578337.1130346945},{"$f":"D16+D17+D18+D19+D20+D21","v":8885898.8731565531},{"$f":"E16+E17+E18+E19+E20+E21","v":2330596.8014821238},3018272.8637439683,8908933.9145168196,11904171.736900521,"Total - Property & Liability Insurance"]
[]
[null,"المجموع - تأمين صحي",12197171.341107378,13974173.868739821,6033197.7464470575,7388826.894939512,{"$f":"E24+C24","v":18230369.087554436},{"$f":"F24+D24","v":21363000.763679333},"Total - Health Insurance"]
[]
[null,"تأمين حياة جماعي ",380517.65341008565,399664.18976083852,60298.82372110906,57801.08190894399,{"$f":"E26+C26","v":440816.47713119473},{"$f":"F26+D26","v":457465.27166978252},"Group Life"]
[null,"تأمين ائتمان حياة جماعي ",187518.74488821533,245410.19907933901,2862,4012,190380.74488821533,249422.19907933901,"Group Credit Life"]
[null,"تأمين حياة فردي",1341775.9492092947,1488407.1957300326,4109736.7808699277,4444184.8926683869,5451512.7300792225,5932592.0883984193,"Individual Life"]
[null,"دفعات الحياة وتكوين الأموال",-6.3900000000000007E-3,0,41760.236909580795,28151.612051356798,41760.230519580793,28151.612051356798,"Annuities & Fund Accumulation"]
[null,"المجموع - تأمين الأشخاص وعمليات تكوين الأموال",{"$f":"C26+C27+C28+C29","v":1909812.3411175958},{"$f":"D26+D27+D28+D29","v":2133481.5845702104},{"$f":"E26+E27+E28+E29","v":4214657.8415006176},4534149.5866286876,6124470.1826182129,6667631.1711988971,"Total - Insurance of Persons & Fund Accumulation"]
[]
[null,"المجموع - كافة فروع التأمين",{"$f":"C22+C24+C30","v":20685320.795259666},{"$f":"D22+D24+D30","v":24993554.326466586},{"$f":"E22+E24+E30","v":12578452.389429798},14941249.345312167,33263773.184689466,39934803.671778753,"TOTAL - All Types of Business Combined"]

{"sheet":"6B","index":18,"n_rows":32,"n_cols":9,"rows_kept":32,"cut":false,"hidden":false,"merged":[[5,1,5,8],[7,1,7,8],[12,1,14,1],[12,2,12,3],[12,4,12,5],[12,6,12,7],[12,8,14,8],[13,2,13,3],[13,4,13,5],[13,6,13,7],[8,1,8,8],[6,1,6,8]]}
[]
[]
[]
[]
[]
[null,"صافي الأقساط المكتسبة حسب فرع التأمين"]
[null," شركات التأمين التقليدي الوطنية وشركات التأمين التكافلي الوطنية "]
[null,"Net Earned Premium by Line of Business"]
[null,"Traditional & Takaful National Companies"]
[]
[null,"جدول رقم 6B",null,null,null,null,null,null,"TABLE 6B"]
[null,"بالألف درهم ",null,null,null,null,null,null,"AED in 000's"]
[null,"فروع التأمين","شركات التأمين التقليدي الوطنية",null,"شركات التأمين التكافلي الوطنية",null,"الشركات الوطنية",null,"Line of Business"]
[null,null,"TRADITIONAL COMPANIES",null,"TAKAFUL OPERATORS",null,"NATIONAL COMPANIES"]
[null,null,2024,2025,2024,2025,2024,2025]
[null,"تأمين الحريق",637011.69222165691,897480.83471769176,63614.272301832745,99017.845536278182,{"$f":"C16+E16","v":700625.9645234897},{"$f":"D16+F16","v":996498.68025396997},"Fire"]
[null,"التأمين البحري والطيران",306767.74784783256,313627.3777232506,25825.846523571254,37159.010678587016,{"$f":"C17+E17","v":332593.5943714038},{"$f":"D17+F17","v":350786.38840183761},"Marine & Aviation"]
[null,"تأمين السيارات والمركبات الأخرى",3106747.5458069546,4422213.2518823799,672523.05949628865,1195838.4633358459,{"$f":"C18+E18","v":3779270.6053032433},{"$f":"D18+F18","v":5618051.7152182255},"Motor & Transportation"]
[null,"التأمين الهندسي والانشاءات والطاقة",486637.24588139192,476432.46957248426,63381.202147629541,62834.796624257098,550018.4480290215,539267.26619674137,"Engineering, Construction & Energy"]
[null,"أخرى",1047956.5448951557,1138343.140965635,164449.79112688237,238606.5010580692,1212406.336022038,1376949.6420237042,"Other"]
[null,"اعادة التأمين غير النسبية - المسؤوليات والممتلكات",3422.1647854982211,4345.1810620746164,0,0,3422.1647854982211,4345.1810620746164,"Reinsurance - Property & Liability"]
[null,"المجموع - تأمين الممتلكات والمسؤوليات",{"$f":"C16+C17+C18+C19+C20+C21","v":5588542.9414384887},{"$f":"D16+D17+D18+D19+D20+D21","v":7252442.2559235161},{"$f":"E16+E17+E18+E19+E20+E21","v":989794.17159620463},1633456.6172330373,6578337.1130346945,8885898.8731565531,"Total - Property & Liability Insurance"]
[]
[null,"المجموع - تأمين صحي",11054272.490175704,12827219.168163041,1142898.850931674,1146954.7005767815,{"$f":"C24+E24","v":12197171.341107378},{"$f":"D24+F24","v":13974173.868739823},"Total - Health Insurance"]
[]
[null,"تأمين حياة جماعي ",370419.66319082334,388631.87895880098,10097.990219262339,11032.310802037549,{"$f":"C26+E26","v":380517.65341008565},{"$f":"D26+F26","v":399664.18976083852},"Group Life"]
[null,"تأمين ائتمان حياة جماعي ",82708.203855126587,106309.24335835798,104810.54103308875,139100.95572098103,187518.74488821533,245410.19907933901,"Group Credit Life"]
[null,"تأمين حياة فردي",1090652.0554431942,1271077.0485723189,251123.89376610072,217330.14715771363,1341775.949209295,1488407.1957300324,"Individual Life"]
[null,"دفعات الحياة وتكوين الأموال",0,0,-6.3900000000000007E-3,0,-6.3900000000000007E-3,0,"Annuities & Fund Accumulation"]
[null,"المجموع - تأمين الأشخاص وعمليات تكوين الأموال",{"$f":"C26+C27+C28+C29","v":1543779.9224891441},{"$f":"D26+D27+D28+D29","v":1766018.1708894777},{"$f":"E26+E27+E28+E29","v":366032.41862845182},367463.41368073219,1909812.341117596,2133481.58457021,"Total - Insurance of Persons & Fund Accumulation"]
[]
[null,"المجموع - كافة فروع التأمين",{"$f":"C22+C24+C30","v":18186595.354103338},{"$f":"D22+D24+D30","v":21845679.594976034},{"$f":"E22+E24+E30","v":2498725.4411563305},3147874.731490551,20685320.795259666,24993554.326466586,"TOTAL - All Types of Business Combined"]

{"sheet":"7","index":19,"n_rows":32,"n_cols":12,"rows_kept":32,"cut":false,"hidden":false,"merged":[[12,5,12,7],[11,5,11,7],[7,1,7,11],[5,1,5,11],[6,1,6,11],[11,1,14,1],[11,11,14,11],[9,3,9,6],[11,8,11,10],[12,8,12,10],[12,2,12,4],[11,2,11,4]]}
[]
[]
[]
[]
[]
[null,"عدد وثائق التأمين ومعدل إجمالي الأقساط المكتتبة حسب فرع التأمين"]
[null,"No. of Policies and Average Gross Written Premium"]
[null,"(2025)"]
[]
[null,"جدول رقم 7",null,null,null,null,null,null,null,null,null,"TABLE 7"]
[]
[null,"فروع التأمين","الشركات الوطنية",null,null,"الشركات الأجنبية",null,null,"الاجمالي",null,null,"Line of Business"]
[null,null,"NATIONAL COMPANIES",null,null,"FOREIGN COMPANIES",null,null,"TOTAL"]
[null,null,"إجمالي الأقساط بالألف درهم","عدد الوثائق","معدل الأقساط","إجمالي الأقساط بالألف درهم","عدد الوثائق","معدل الأقساط","إجمالي الأقساط بالألف درهم","عدد الوثائق","معدل الأقساط"]
[null,null,"GWP","No. of Pols.","Avg GWP","GWP","No. of Pols.","Avg GWP","GWP","No. of Pols.","Avg GWP"]
[null,"تأمين الحريق",6225545.3360272897,178653.64,34847.010875497916,661642.84028299979,44195,14970.988579771461,{"$f":"F16+C16","v":6887188.1763102897},{"$f":"G16+D16","v":222848.64000000001},{"$f":"I16*1000/J16","v":30905.228662424364},"Fire"]
[null,"التأمين البحري والطيران",1872220.7947717742,132893.1,14088.171581306886,386333.5244709999,119933,3221.2445654740554,{"$f":"F17+C17","v":2258554.319242774},{"$f":"G17+D17","v":252826.1},{"$f":"I17*1000/J17","v":8933.2324441296769},"Marine & Aviation"]
[null,"تأمين السيارات والمركبات الأخرى",7593083.9918410014,4771013,1591.503521755443,2482821.7137439973,836070,2969.6337791620285,10075905.705584999,{"$f":"G18+D18","v":5607083},1796.9959969533177,"Motor & Transportation"]
[null,"التأمين الهندسي والانشاءات والطاقة",4013284.7876433562,67435,59513.380108895326,270797.59625,13011,20812.973349473523,4284082.3838933567,{"$f":"G19+D19","v":80446},53254.137979431631,"Engineering, Construction & Energy"]
[null,"أخرى",5917596.51464222,7686047,769.91417234922187,589680.23357855738,180977,3258.3158831152987,6507276.7482207771,{"$f":"G20+D20","v":7867024},827.1586241786955,"Other"]
[null,"اعادة التأمين غير النسبية - المسؤوليات والممتلكات",5654.2477900000013,1032,5478.9222771317836,0,0,"",5654.2477900000013,{"$f":"G21+D21","v":1032},5478.9222771317836,"Reinsurance - Property & Liability"]
[null,"المجموع - تأمين الممتلكات والمسؤوليات",{"$f":"C16+C17+C18+C19+C20+C21","v":25627385.672715645},{"$f":"D16+D17+D18+D19+D20+D21","v":12837073.74},{"$f":"C22*1000/D22","v":1996.3572845158124},4391275.9083265541,1194186,{"$f":"F22*1000/G22","v":3677.2126857345124},{"$f":"C22+F22","v":30018661.5810422},{"$f":"D22+G22","v":14031259.74},2139.4131487328737,"Total - Property & Liability Insurance"]
[]
[null,"المجموع - تأمين صحي",25218671.609406177,2483354,10155.085263480833,11204025.520439988,352501,31784.3793930797,{"$f":"F24+C24","v":36422697.129846163},{"$f":"G24+D24","v":2835855},{"$f":"I24*1000/J24","v":12843.638736764102},"Total - Health Insurance"]
[]
[null,"تأمين حياة جماعي ",1195575.5399801238,14309,83554.094624370933,252687.80056,1516,166680.60722955145,{"$f":"F26+C26","v":1448263.3405401236},{"$f":"G26+D26","v":15825},{"$f":"I26*1000/J26","v":91517.430681840357},"Group Life"]
[null,"تأمين ائتمان حياة جماعي ",704160.54194183566,1233,571095.33004204021,16375,12,1364583.3333333333,720535.54194183566,1245,578743.40718219732,"Group Credit Life"]
[null,"تأمين حياة فردي",1582754.9687687787,192660.4960664307,8215.2543000981041,4619520.0530357659,173211,26669.900023877039,6202275.0218045451,365871.4960664307,16952.05854647504,"Individual Life"]
[null,"دفعات الحياة وتكوين الأموال",0,0,"",28153.879188956802,509,55312.139860425938,28153.879188956802,509,55312.139860425938,"Annuities & Fund Accumulation"]
[null,"المجموع - تأمين الأشخاص وعمليات تكوين الأموال",{"$f":"C26+C27+C28+C29","v":3482491.050690738},{"$f":"D26+D27+D28+D29","v":208202.4960664307},{"$f":"C30*1000/D30","v":16726.461577000438},4916736.7327847229,175248,{"$f":"F30*1000/G30","v":28055.879284127197},{"$f":"C30+F30","v":8399227.7834754605},{"$f":"D30+G30","v":383450.4960664307},{"$f":"I30*1000/J30","v":21904.334117800539},"Total - Insurance of Persons & Fund Accumulation"]
[]
[null,"المجموع - كافة فروع التأمين",{"$f":"C22+C24+C30","v":54328548.332812563},{"$f":"D22+D24+D30","v":15528630.236066431},{"$f":"C32*1000/D32","v":3498.6053184929574},{"$f":"F22+F24+F30","v":20512038.161551263},{"$f":"G22+G24+G30","v":1721935},{"$f":"F32*1000/G32","v":11912.202354648265},{"$f":"I22+I24+I30","v":74840586.494363829},{"$f":"J22+J24+J30","v":17250565.236066435},{"$f":"I32*1000/J32","v":4338.442565226308},"TOTAL - All Types of Business Combined"]

{"sheet":"8","index":20,"n_rows":46,"n_cols":9,"rows_kept":46,"cut":false,"hidden":false,"merged":[[30,2,30,7],[10,2,10,7],[38,2,38,7],[22,2,22,7],[5,1,5,8],[6,1,6,8],[7,1,7,8],[11,1,14,1],[11,2,11,3],[11,4,11,5],[11,6,11,7],[11,8,14,8],[12,2,12,3],[12,4,12,5],[9,2,9,4],[12,6,12,7]]}
[]
[]
[]
[]
[]
[null,"إجمالي الأقساط المكتتبة والعمولات المدفوعة حسب قنوات التوزيع الشركات الوطنية والاجنبية"]
[null,"Gross Written Premium & Commission Paid by Distribution Channel"]
[null,"(2025)"]
[]
[null,"جدول رقم 8",null,null,null,null,null,null,"TABLE 8"]
[null,"بالألف درهم ","Gross Written Premiums (اجمالي الاقساط المكتتبة)",null,null,null,null,null,"AED in 000's"]
[null,"فروع التأمين","الشركات الوطنية",null,"الشركات الأجنبية",null,"الاجمالي",null,"Distribution Channel"]
[null,null,"NATIONAL COMPANIES",null,"FOREIGN COMPANIES",null,"TOTAL"]
[null,null,"تأمينات عامة","تأمين على الحياة","تأمينات عامة","تأمين على الحياة","تأمينات عامة","تأمين على الحياة"]
[null,null,"Non-Life","Life","Non-Life","Life","Non-Life","Life"]
[null,"الوثائق المباعة من خلال الوكلاء",1478411.98760072,300955.36424596264,288158.57439899869,747016.76162069954,{"$f":"E16+C16","v":1766570.5619997187},{"$f":"F16+D16","v":1047972.1258666622},"Policies Sold Through Agents"]
[null,"الوثائق المباعة من خلال الوسطاء",22576577.336664289,1788220.1257582277,10846153.022242069,2882731.18108855,33422730.358906358,4670951.3068467779,"Policies Sold Through Brokers"]
[null,"الوثائق المباعة من خلال البنوك",167962.11829902945,1285696.5633346348,159715.44529599999,2753012.5296853664,327677.56359502941,4038709.0930200014,"Policies Sold Through Banks"]
[null,"الوثائق المباعة من خلال شركات التمويل",15158.925254183625,0,56058.570060000005,0,71217.49531418363,0,"Policies Sold Through Financial Institutions"]
[null,"الوثائق المباعة عبر الانترنت",116642.51590000023,0,190359.36926000123,0,{"$f":"E20+C20","v":307001.88516000146},{"$f":"F20+D20","v":0},"Policies Sold Online"]
[null,"الأخرى",25062742.733008131,1536180.6656880903,2546697.4488421082,42135.26,27609440.18185024,1578315.9256880903,"Others"]
[null,"كافة قنوات التوزيع",{"$f":"SUM(C16:C21)","v":49417495.616726354},4911052.7190269148,14087142.430099178,6424895.7323946152,63504638.046825521,11335948.451421531,"All Distribution Channels"]
[null,null,"Percent of Total Gross Premium (توزيع إجمالي الأقساط)"]
[null,"الوكلاء",{"$f":"C16/C$22","v":2.9916772777540783E-2},{"$f":"D16/D$22","v":6.1281232653025666E-2},2.0455431314679338E-2,0.11626908711595228,2.7817977022357443E-2,9.2446797050779309E-2,"Agents"]
[null,"الوسطاء",{"$f":"C17/C$22","v":0.45685393512784139},0.36412154950610037,0.76993280049953383,0.44868139517870909,0.52630376909261201,0.41204768413189452,"Brokers"]
[null,"البنوك (المصارف)",{"$f":"C18/C$22","v":3.3988391399215152E-3},0.26179653057957503,1.1337675194846138E-2,0.42849139415672577,5.1598997124180819E-3,0.35627447587004035,"Banks"]
[null,"المؤسسات الاستثمارية والمالية",{"$f":"C19/C$22","v":3.0675219504755274E-4},0,3.9794138760337171E-3,0,1.1214534481980827E-3,0,"Investment / Financial Institutions"]
[null,"الوثائق المباعة عبر الانترنت",{"$f":"C20/C$22","v":2.3603485859473665E-3},0,1.3512986768222875E-2,0,4.8343222574330994E-3,0,"Policies Sold Online"]
[null,"الأخرى",{"$f":"C21/C$22","v":0.50716335217370134},0.31280068726129906,0.18078169234668401,6.5581235486129544E-3,0.43476257846698152,0.13923104294728589,"Others"]
[null,"كافة قنوات التوزيع",{"$f":"C24+C25+C26+C27+C28+C29","v":1},{"$f":"D24+D25+D26+D27+D28+D29","v":1},1,1,1,1,"All Distribution Channels"]
[null,null,"Commission Paid (العمولات المدفوعة)"]
[null,"الوكلاء",110267.93882778347,21535.425289565828,60309.89376431,36100.585484160219,{"$f":"E32+C32","v":170577.83259209347},{"$f":"F32+D32","v":57636.010773726048},"Agents"]
[null,"الوسطاء",2259048.0067693796,163955.39516074667,1203203.1369108818,176223.26641857144,3462251.1436802614,340178.66157931811,"Brokers"]
[null,"البنوك (المصارف)",64813.126328448605,159667.62758235636,51282.330059999877,115893.00639809523,116095.45638844848,275560.63398045162,"Banks"]
[null,"المؤسسات الاستثمارية والمالية",3925.6536730958856,0,7240.1619999999984,0,11165.815673095884,0,"Investment / Financial Institutions"]
[null,"الوثائق المباعة عبر الانترنت",0,0,126.34160000000026,0,{"$f":"E36+C36","v":126.34160000000026},{"$f":"F36+D36","v":0},"Policies Sold Online"]
[null,"الأخرى",1285321.0014915015,192938.74761967876,364790.75756985578,5380.1409999999996,{"$f":"E37+C37","v":1650111.7590613572},{"$f":"F37+D37","v":198318.88861967876},"Others"]
[null,"كافة قنوات التوزيع",{"$f":"SUM(C32:C37)","v":3723375.7270902093},{"$f":"SUM(D32:D37)","v":538097.19565234764},1686952.6219050474,333596.99930082686,{"$f":"SUM(G32:G37)","v":5410328.3489952562},871694.19495317456,"All Distribution Channels"]
[null,null,"Commission Ratio (نسبة العمولات )"]
[null,"الوكلاء",{"$f":"C32/C16","v":7.4585392808356965E-2},{"$f":"D32/D16","v":7.1556874699749529E-2},0.20929411484664662,4.8326339299050995E-2,9.6558742832781694E-2,{"$f":"H32/H16","v":5.499765628409406E-2},"Agents"]
[null,"الوسطاء",{"$f":"C33/C17","v":0.10006158033089865},9.1686360531943761E-2,0.11093363097897369,6.113066232975204E-2,0.1035897159358692,{"$f":"H33/H17","v":7.2828560871674497E-2},"Brokers"]
[null,"البنوك (المصارف)",{"$f":"C34/C18","v":0.38587942915234785},0.1241876443756184,0.32108560299198702,4.2096795836719381E-2,0.35429785034635053,{"$f":"H34/H18","v":6.8229879308885133E-2},"Banks"]
[null,"المؤسسات الاستثمارية والمالية",{"$f":"C35/C19","v":0.25896649051768805},"-",{"$f":"E35/E19","v":0.12915352625389456},"-",0.15678472858160328,"-","Investment / Financial Institutions"]
[null,"الوثائق المباعة عبر الانترنت",{"$f":"C36/C20","v":0},"-",{"$f":"E36/E20","v":6.6370045504530605E-4},"-",4.1153362929401648E-4,"-","Policies Sold Online"]
[null,"الأخرى",{"$f":"C37/C21","v":5.128413179610658E-2},0.1255963910555124,0.14324071268682231,0.12768738106754293,5.9766215765073703E-2,0.12565221283769198,"Others"]
[null,"كافة قنوات التوزيع",{"$f":"C38/C22","v":7.5345293819987863E-2},{"$f":"D38/D22","v":0.10956860502995522},0.11975122919894909,5.1922554574514834E-2,8.5195798533737307E-2,7.6896450146071715E-2,"All Distribution Channels"]

{"sheet":"9A","index":21,"n_rows":32,"n_cols":9,"rows_kept":32,"cut":false,"hidden":false,"merged":[[5,1,5,8],[7,1,7,8],[12,1,14,1],[12,2,12,3],[12,4,12,5],[12,6,12,7],[12,8,14,8],[13,2,13,3],[13,4,13,5],[13,6,13,7],[8,1,8,8],[6,1,6,8]]}
[]
[]
[]
[]
[]
[null,"إجمالي المُخصصات الفنية حسب فرع التأمين"]
[null,"الشركات الوطنية والاجنبية"]
[null,"Gross Technical Provisions by Line of Business"]
[null,"National & Foreign Companies"]
[]
[null,"جدول رقم 9A",null,null,null,null,null,null,"TABLE 9A"]
[null,"بالألف درهم ",null,null,null,null,null,null,"AED in 000's"]
[null,"فروع التأمين","الشركات الوطنية",null,"الشركات الأجنبية",null,"الاجمالي",null,"Line of Business"]
[null,null,"NATIONAL COMPANIES",null,"FOREIGN COMPANIES",null,"TOTAL"]
[null,null,2024,2025,2024,2025,2024,2025]
[null,"تأمين الحريق",11895231.498114167,8925745.6508937795,2117687.5300262631,1598675.5676434799,{"$f":"E16+C16","v":14012919.028140429},{"$f":"F16+D16","v":10524421.21853726},"Fire"]
[null,"التأمين البحري والطيران",2698166.805325021,2461677.0958238803,446090.29012890242,411289.78021545283,3144257.0954539236,2872966.8760393332,"Marine & Aviation"]
[null,"تأمين السيارات والمركبات الأخرى",5341467.6540837213,6499888.6424912903,1901888.1160937569,2041496.2883893088,7243355.770177478,8541384.9308805987,"Motor & Transportation"]
[null,"التأمين الهندسي والانشاءات والطاقة",7247381.2268004157,6446217.2865861431,622209.42322055378,579578.97727089492,7869590.6500209691,7025796.2638570378,"Engineering, Construction & Energy"]
[null,"أخرى",4506160.3033228572,5449970.1625360567,771210.09212016279,680150.06700529659,5277370.3954430204,6130120.229541353,"Other"]
[null,"اعادة التأمين غير النسبية - المسؤوليات والممتلكات",12508.366226284947,13717.459613797357,0,0,12508.366226284947,13717.459613797357,"Reinsurance - Property & Liability"]
[null,"المجموع - تأمين الممتلكات والمسؤوليات",{"$f":"C16+C17+C18+C19+C20+C21","v":31700915.853872471},29797216.297944944,{"$f":"E16+E17+E18+E19+E20+E21","v":5859085.4515896393},{"$f":"F16+F17+F18+F19+F20+F21","v":5311190.680524433},{"$f":"G16+G17+G18+G19+G20+G21","v":37560001.3054621},35108406.978469379,"Total - Property & Liability Insurance"]
[]
[null,"المجموع - تأمين صحي",13133585.827737315,15036856.80576095,3856356.187748692,4738938.2828652337,{"$f":"E24+C24","v":16989942.015486006},{"$f":"F24+D24","v":19775795.088626184},"Total - Health Insurance"]
[]
[null,"تأمين حياة جماعي ",723214.37833974976,744414.20605631487,151500.61339334983,168485.78965706835,{"$f":"E26+C26","v":874714.99173309957},{"$f":"F26+D26","v":912899.99571338319},"Group Life"]
[null,"تأمين ائتمان حياة جماعي ",1032487.0632838929,1079017.1568907578,11429,10033,1043916.0632838929,1089050.1568907578,"Group Credit Life"]
[null,"تأمين حياة فردي",7443270.8990078438,7794465.9003294874,27782776.537634555,31084913.427709371,35226047.436642401,38879379.328038856,"Individual Life"]
[null,"دفعات الحياة وتكوين الأموال",0,0,537927.85182253714,492814.98347062292,537927.85182253714,492814.98347062292,"Annuities & Fund Accumulation"]
[null,"المجموع - تأمين الأشخاص وعمليات تكوين الأموال",{"$f":"C26+C27+C28+C29","v":9198972.3406314868},{"$f":"D26+D27+D28+D29","v":9617897.2632765602},{"$f":"E26+E27+E28+E29","v":28483634.002850443},31756247.200837061,37682606.343481936,41374144.464113623,"Total - Insurance of Persons & Fund Accumulation"]
[]
[null,"المجموع - كافة فروع التأمين",{"$f":"C22+C24+C30","v":54033474.022241272},{"$f":"D22+D24+D30","v":54451970.36698246},{"$f":"E22+E24+E30","v":38199075.642188773},41806376.164226726,92232549.664430052,96258346.531209186,"TOTAL - All Types of Business Combined"]

{"sheet":"9B","index":22,"n_rows":32,"n_cols":9,"rows_kept":32,"cut":false,"hidden":false,"merged":[[5,1,5,8],[7,1,7,8],[12,1,14,1],[12,2,12,3],[12,4,12,5],[12,6,12,7],[12,8,14,8],[13,2,13,3],[13,4,13,5],[13,6,13,7],[8,1,8,8],[6,1,6,8]]}
[]
[]
[]
[]
[]
[null,"إجمالي المُخصصات الفنية حسب فرع التأمين"]
[null," شركات التأمين التقليدي الوطنية وشركات التأمين التكافلي الوطنية "]
[null,"Gross Technical Provisions by Line of Business"]
[null,"Traditional & Takaful National Companies"]
[]
[null,"جدول رقم 9B",null,null,null,null,null,null,"TABLE 9B"]
[null,"بالألف درهم ",null,null,null,null,null,null,"AED in 000's"]
[null,"فروع التأمين","شركات التأمين التقليدي الوطنية",null,"شركات التأمين التكافلي الوطنية",null,"الشركات الوطنية",null,"Line of Business"]
[null,null,"TRADITIONAL COMPANIES",null,"TAKAFUL OPERATORS",null,"NATIONAL COMPANIES"]
[null,null,2024,2025,2024,2025,2024,2025]
[null,"تأمين الحريق",10707022.757146794,8007273.8420595136,1188208.7409673724,918471.80883426697,{"$f":"E16+C16","v":11895231.498114167},{"$f":"F16+D16","v":8925745.6508937813},"Fire"]
[null,"التأمين البحري والطيران",2604050.8885203404,2348137.8146912274,94115.916804680368,113539.28113265328,2698166.805325021,2461677.0958238808,"Marine & Aviation"]
[null,"تأمين السيارات والمركبات الأخرى",4110999.9168532137,4832303.5665639304,1230467.7372305079,1667585.0759273607,5341467.6540837213,6499888.6424912913,"Motor & Transportation"]
[null,"التأمين الهندسي والانشاءات والطاقة",6800716.8956309333,5978612.036847434,446664.33116948284,467605.24973870895,7247381.2268004166,6446217.2865861431,"Engineering, Construction & Energy"]
[null,"أخرى",3993618.7365021864,4815130.3835553806,512541.56682067114,634839.77898067678,4506160.3033228572,5449970.1625360576,"Other"]
[null,"اعادة التأمين غير النسبية - المسؤوليات والممتلكات",12508.366226284947,13717.459613797357,0,0,12508.366226284947,13717.459613797357,"Reinsurance - Property & Liability"]
[null,"المجموع - تأمين الممتلكات والمسؤوليات",{"$f":"C16+C17+C18+C19+C20+C21","v":28228917.560879752},25995175.103331279,{"$f":"E16+E17+E18+E19+E20+E21","v":3471998.2929927148},{"$f":"F16+F17+F18+F19+F20+F21","v":3802041.1946136672},{"$f":"G16+G17+G18+G19+G20+G21","v":31700915.853872471},29797216.297944952,"Total - Property & Liability Insurance"]
[]
[null,"المجموع - تأمين صحي",11920980.506166443,13767036.570597772,1212605.3215708716,1269820.2351631774,{"$f":"E24+C24","v":13133585.827737315},{"$f":"F24+D24","v":15036856.80576095},"Total - Health Insurance"]
[]
[null,"تأمين حياة جماعي ",645571.55837561761,665460.47005299805,77642.819964132112,78953.736003316793,{"$f":"E26+C26","v":723214.37833974976},{"$f":"F26+D26","v":744414.20605631487},"Group Life"]
[null,"تأمين ائتمان حياة جماعي ",746990.67249862605,759556.26327491296,285496.39078526694,319460.89361584495,1032487.063283893,1079017.1568907578,"Group Credit Life"]
[null,"تأمين حياة فردي",4656399.9329526834,5165832.4245113451,2786870.9660551599,2628633.4758181418,7443270.8990078438,7794465.9003294874,"Individual Life"]
[null,"دفعات الحياة وتكوين الأموال",0,0,0,0,0,0,"Annuities & Fund Accumulation"]
[null,"المجموع - تأمين الأشخاص وعمليات تكوين الأموال",{"$f":"C26+C27+C28+C29","v":6048962.1638269275},{"$f":"D26+D27+D28+D29","v":6590849.1578392563},{"$f":"E26+E27+E28+E29","v":3150010.1768045588},3027048.1054373034,9198972.3406314868,9617897.2632765602,"Total - Insurance of Persons & Fund Accumulation"]
[]
[null,"المجموع - كافة فروع التأمين",{"$f":"C22+C24+C30","v":46198860.230873123},{"$f":"D22+D24+D30","v":46353060.831768304},{"$f":"E22+E24+E30","v":7834613.7913681455},8098909.5352141485,54033474.022241272,54451970.36698246,"TOTAL - All Types of Business Combined"]

{"sheet":"9C","index":23,"n_rows":32,"n_cols":11,"rows_kept":32,"cut":false,"hidden":false,"merged":[[12,10,14,10],[5,1,5,10],[6,1,6,10],[7,1,7,10],[8,1,8,10],[13,4,13,5],[13,8,13,9],[12,1,14,1],[12,2,12,3],[12,4,12,5],[12,8,12,9],[13,2,13,3],[12,6,12,7],[13,6,13,7]]}
[]
[]
[]
[]
[]
[null,"إجمالي المُخصصات الفنية حسب فرع التأمين"]
[null,"شركات التأمين على الحياة وشركات التأمينات العامة وشركات التأمين على الحياة والتأمينات العامة"]
[null,"Gross Technical Provisions by Line of Business"]
[null,"Life, Non-Life & Composite Companies"]
[]
[null,"جدول رقم 9C",null,null,null,null,null,null,null,null,"TABLE 9C"]
[null,"بالألف درهم ",null,null,null,null,null,null,null,null,"AED in 000's"]
[null,"فروع التأمين","شركات التأمين على الأشخاص وتكوين الأموال",null,"شركات تأمين الممتلكات والمسؤوليات",null,"شركات التأمين (النوعين معاً)",null,"الاجمالي",null,"Line of Business"]
[null,null,"LIFE COMPANIES",null,"NON-LIFE COMPANIES",null,"COMPOSITE COMPANIES",null,"TOTAL"]
[null,null,2024,2025,2024,2025,2024,2025,2024,2025]
[null,"تأمين الحريق",0,0,3688585.7439095047,2799336.4699274912,10324333.284230925,7725084.7486097692,{"$f":"G16+E16+C16","v":14012919.028140429},{"$f":"H16+F16+D16","v":10524421.21853726},"Fire"]
[null,"التأمين البحري والطيران",0,0,547544.27379936678,522520.63122434414,2596712.8216545568,2350446.2448149892,3144257.0954539236,2872966.8760393332,"Marine & Aviation"]
[null,"تأمين السيارات والمركبات الأخرى",1E-3,1E-3,2998281.1675665095,3710429.2453494896,4245074.6016109679,4830955.6845311103,7243355.770177478,8541384.9308806006,"Motor & Transportation"]
[null,"التأمين الهندسي والانشاءات والطاقة",0,0,1394787.4587334408,1335172.8648762293,6474803.1912875287,5690623.3989808084,7869590.65002097,7025796.2638570378,"Engineering, Construction & Energy"]
[null,"أخرى",0,0,1099274.1764789489,984692.26948949741,4178096.2189640719,5145427.9600518569,5277370.3954430204,6130120.2295413539,"Other"]
[null,"اعادة التأمين غير النسبية - المسؤوليات والممتلكات",0,0,12508.366226284947,13717.459613797357,0,0,12508.366226284947,13717.459613797357,"Reinsurance - Property & Liability"]
[null,"المجموع - تأمين الممتلكات والمسؤوليات",{"$f":"C16+C17+C18+C19+C20+C21","v":1E-3},{"$f":"D16+D17+D18+D19+D20+D21","v":1E-3},{"$f":"E16+E17+E18+E19+E20+E21","v":9740981.1867140569},9365868.9404808488,{"$f":"G16+G17+G18+G19+G20+G21","v":27819020.117748052},25742538.036988534,37560001.305462107,35108406.978469387,"Total - Property & Liability Insurance"]
[]
[null,"المجموع - تأمين صحي",1264908.8215086318,770662.59822724457,7213917.1831721356,9270321.2899401616,8511116.0108052399,9734811.2004587781,{"$f":"G24+E24+C24","v":16989942.015486006},19775795.088626184,"Total - Health Insurance"]
[]
[null,"تأمين حياة جماعي ",176906.26570786469,188518.77891383183,0,0,697808.72602523479,724381.2167995515,{"$f":"G26+E26+C26","v":874714.99173309945},912899.99571338331,"Group Life"]
[null,"تأمين ائتمان حياة جماعي ",37395.757678155867,44328.477002933447,0,0,1006520.3056057371,1044721.6798878245,1043916.063283893,1089050.1568907578,"Group Credit Life"]
[null,"تأمين حياة فردي",23766484.46136931,26243568.301438056,0,0,11459562.975273093,12635811.026600806,35226047.436642401,38879379.328038864,"Individual Life"]
[null,"دفعات الحياة وتكوين الأموال",250506.85182253717,236278.98347062292,0,0,287421,256536,537927.85182253714,492814.98347062292,"Annuities & Fund Accumulation"]
[null,"المجموع - تأمين الأشخاص وعمليات تكوين الأموال",{"$f":"C26+C27+C28+C29","v":24231293.336577866},{"$f":"D26+D27+D28+D29","v":26712694.540825445},{"$f":"E26+E27+E28+E29","v":0},0,{"$f":"G26+G27+G28+G29","v":13451313.006904066},14661449.923288181,37682606.343481936,41374144.46411363,"Total - Insurance of Persons & Fund Accumulation"]
[]
[null,"المجموع - كافة فروع التأمين",{"$f":"C22+C24+C30","v":25496202.159086499},{"$f":"D22+D24+D30","v":27483357.140052691},{"$f":"E22+E24+E30","v":16954898.369886193},18636190.23042101,{"$f":"G22+G24+G30","v":49781449.135457359},50138799.160735495,92232549.664430052,96258346.531209201,"TOTAL - All Types of Business Combined"]

{"sheet":"10A","index":24,"n_rows":32,"n_cols":9,"rows_kept":32,"cut":false,"hidden":false,"merged":[[5,1,5,8],[7,1,7,8],[12,1,14,1],[12,2,12,3],[12,4,12,5],[12,6,12,7],[12,8,14,8],[13,2,13,3],[13,4,13,5],[13,6,13,7],[8,1,8,8],[6,1,6,8]]}
[]
[]
[]
[]
[]
[null,"صافي المُخصصات الفنية حسب فرع التأمين"]
[null,"الشركات الوطنية والاجنبية"]
[null,"Net Technical Provisions by Line of Business"]
[null,"National & Foreign Companies"]
[]
[null,"جدول رقم 10A",null,null,null,null,null,null,"TABLE 10A"]
[null,"بالألف درهم ",null,null,null,null,null,null,"AED in 000's"]
[null,"فروع التأمين","الشركات الوطنية",null,"الشركات الأجنبية",null,"الاجمالي",null,"Line of Business"]
[null,null,"NATIONAL COMPANIES",null,"FOREIGN COMPANIES",null,"TOTAL"]
[null,null,2024,2025,2024,2025,2024,2025]
[null,"تأمين الحريق",1012364.4801473188,1266695.4020951323,730601.35293601209,669903.53992167325,{"$f":"E16+C16","v":1742965.8330833309},1936598.9420168055,"Fire"]
[null,"التأمين البحري والطيران",527481.59175992233,592977.94491800084,238848.09894970927,219386.5546504154,766329.69070963166,812364.49956841627,"Marine & Aviation"]
[null,"تأمين السيارات والمركبات الأخرى",4082202.2362571964,5542900.1996448077,1785144.5831584611,1929096.5333133505,5867346.8194156578,7471996.7329581585,"Motor & Transportation"]
[null,"التأمين الهندسي والانشاءات والطاقة",1035171.3309260109,1034477.4796591925,340726.79859745334,247369.24310179433,1375898.1295234642,1281846.7227609868,"Engineering, Construction & Energy"]
[null,"أخرى",943347.78902215359,1120277.1933947699,275241.77167547052,257411.15903567689,1218589.560697624,1377688.3524304468,"Other"]
[null,"اعادة التأمين غير النسبية - المسؤوليات والممتلكات",4444.3232712433201,3282.9390266565356,0,0,4444.3232712433201,3282.9390266565356,"Reinsurance - Property & Liability"]
[null,"المجموع - تأمين الممتلكات والمسؤوليات",{"$f":"C16+C17+C18+C19+C20+C21","v":7605011.7513838448},{"$f":"D16+D17+D18+D19+D20+D21","v":9560611.1587385591},{"$f":"E16+E17+E18+E19+E20+E21","v":3370562.6053171065},3323167.0300229108,10975574.356700951,12883778.188761469,"Total - Property & Liability Insurance"]
[]
[null,"المجموع - تأمين صحي",7737796.7286766218,8617934.8413176779,2928440.2885869835,3401171.4225328248,{"$f":"E24+C24","v":10666237.017263606},{"$f":"F24+D24","v":12019106.263850503},"Total - Health Insurance"]
[]
[null,"تأمين حياة جماعي ",231027.60671344621,263251.41452196625,32655.19237081434,30479.231304345401,{"$f":"E26+C26","v":263682.79908426054},{"$f":"F26+D26","v":293730.64582631167},"Group Life"]
[null,"تأمين ائتمان حياة جماعي ",486910.2854534841,482976.23158610385,2789,2474,489699.2854534841,485450.23158610385,"Group Credit Life"]
[null,"تأمين حياة فردي",7328132.8228279343,7663759.0361583177,26436656.840506461,29772635.745415259,33764789.663334392,37436394.781573579,"Individual Life"]
[null,"دفعات الحياة وتكوين الأموال",0,0,537927.85182253714,492814.98347062292,537927.85182253714,492814.98347062292,"Annuities & Fund Accumulation"]
[null,"المجموع - تأمين الأشخاص وعمليات تكوين الأموال",{"$f":"C26+C27+C28+C29","v":8046070.7149948645},{"$f":"D26+D27+D28+D29","v":8409986.6822663881},{"$f":"E26+E27+E28+E29","v":27010028.88469981},{"$f":"F26+F27+F28+F29","v":30298403.960190225},{"$f":"G26+G27+G28+G29","v":35056099.599694677},38708390.642456621,"Total - Insurance of Persons & Fund Accumulation"]
[]
[null,"المجموع - كافة فروع التأمين",{"$f":"C22+C24+C30","v":23388879.195055328},{"$f":"D22+D24+D30","v":26588532.682322625},{"$f":"E22+E24+E30","v":33309031.7786039},{"$f":"F22+F24+F30","v":37022742.41274596},{"$f":"G22+G24+G30","v":56697910.973659232},63611275.095068589,"TOTAL - All Types of Business Combined"]

{"sheet":"10B","index":25,"n_rows":32,"n_cols":9,"rows_kept":32,"cut":false,"hidden":false,"merged":[[5,1,5,8],[7,1,7,8],[12,1,14,1],[12,2,12,3],[12,4,12,5],[12,6,12,7],[12,8,14,8],[13,2,13,3],[13,4,13,5],[13,6,13,7],[8,1,8,8],[6,1,6,8]]}
[]
[]
[]
[]
[]
[null,"صافي المُخصصات الفنية حسب فرع التأمين"]
[null," شركات التأمين التقليدي الوطنية وشركات التأمين التكافلي الوطنية "]
[null,"Net Technical Provisions by Line of Business"]
[null,"Traditional & Takaful National Companies"]
[]
[null,"جدول رقم 10B",null,null,null,null,null,null,"TABLE 10B"]
[null,"بالألف درهم ",null,null,null,null,null,null,"AED in 000's"]
[null,"فروع التأمين","شركات التأمين التقليدي الوطنية",null,"شركات التأمين التكافلي الوطنية",null,"الشركات الوطنية",null,"Line of Business"]
[null,null,"TRADITIONAL COMPANIES",null,"TAKAFUL OPERATORS",null,"NATIONAL COMPANIES"]
[null,null,2024,2025,2024,2025,2024,2025]
[null,"تأمين الحريق",947605.83609477419,1190565.6126801858,64758.644052544703,76129.789414946514,{"$f":"E16+C16","v":1012364.4801473189},{"$f":"F16+D16","v":1266695.4020951323},"Fire"]
[null,"التأمين البحري والطيران",502457.96446772257,556466.28041255008,25023.627292199693,36511.664505450739,527481.59175992222,592977.94491800084,"Marine & Aviation"]
[null,"تأمين السيارات والمركبات الأخرى",3201836.9233488464,4129447.3208040129,880365.31290834956,1413452.8788407936,4082202.2362571959,5542900.1996448068,"Motor & Transportation"]
[null,"التأمين الهندسي والانشاءات والطاقة",964075.3638759281,938973.97292693052,71095.967050082691,95503.506732261973,1035171.3309260109,1034477.4796591925,"Engineering, Construction & Energy"]
[null,"أخرى",771007.04105374916,899215.51626018691,172340.74796840452,221061.67713458301,943347.78902215371,1120277.1933947699,"Other"]
[null,"اعادة التأمين غير النسبية - المسؤوليات والممتلكات",4444.3232712433201,3282.9390266565356,0,0,4444.3232712433201,3282.9390266565356,"Reinsurance - Property & Liability"]
[null,"المجموع - تأمين الممتلكات والمسؤوليات",{"$f":"C16+C17+C18+C19+C20+C21","v":6391427.4521122631},{"$f":"D16+D17+D18+D19+D20+D21","v":7717951.6421105228},{"$f":"E16+E17+E18+E19+E20+E21","v":1213584.2992715812},{"$f":"F16+F17+F18+F19+F20+F21","v":1842659.5166280358},7605011.7513838448,9560611.1587385591,"Total - Property & Liability Insurance"]
[]
[null,"المجموع - تأمين صحي",7148889.0368235186,7973263.136757642,588907.69185310241,644671.70456003712,{"$f":"E24+C24","v":7737796.7286766209},{"$f":"F24+D24","v":8617934.8413176797},"Total - Health Insurance"]
[]
[null,"تأمين حياة جماعي ",218651.97864859313,246555.20100608896,12375.628064853074,16696.213515877294,{"$f":"E26+C26","v":231027.60671344621},263251.41452196625,"Group Life"]
[null,"تأمين ائتمان حياة جماعي ",439303.26820935454,433576.12982952624,47607.017244129544,49400.101756577664,486910.2854534841,482976.23158610391,"Group Credit Life"]
[null,"تأمين حياة فردي",4568782.0891560391,5067226.2277207226,2759350.7336718943,2596532.8084375947,7328132.8228279334,7663759.0361583177,"Individual Life"]
[null,"دفعات الحياة وتكوين الأموال",0,0,0,0,0,0,"Annuities & Fund Accumulation"]
[null,"المجموع - تأمين الأشخاص وعمليات تكوين الأموال",{"$f":"C26+C27+C28+C29","v":5226737.3360139867},{"$f":"D26+D27+D28+D29","v":5747357.5585563378},{"$f":"E26+E27+E28+E29","v":2819333.3789808769},2662629.1237100498,8046070.7149948636,8409986.6822663881,"Total - Insurance of Persons & Fund Accumulation"]
[]
[null,"المجموع - كافة فروع التأمين",{"$f":"C22+C24+C30","v":18767053.824949767},{"$f":"D22+D24+D30","v":21438572.337424502},{"$f":"E22+E24+E30","v":4621825.3701055609},5149960.3448981233,23388879.195055328,26588532.682322625,"TOTAL - All Types of Business Combined"]

{"sheet":"11A","index":26,"n_rows":32,"n_cols":11,"rows_kept":32,"cut":false,"hidden":false,"merged":[[5,1,5,10],[6,1,6,10],[12,1,14,1],[12,10,14,10],[12,2,13,2],[12,3,13,3],[12,4,13,4],[12,5,13,5],[12,6,13,6],[12,7,13,7],[12,8,13,8],[12,9,13,9],[7,1,7,10]]}
[]
[]
[]
[]
[]
[null,"إجمالي المُخصصات الفنية حسب فرع التأمين"]
[null,"Gross Technical Provisions by Line of Business"]
[null,"(2025)"]
[]
[]
[null,"جدول رقم 11A",null,null,null,null,null,null,null,null,"TABLE 11A"]
[null,"بالألف درهم ",null,null,null,null,null,null,null,null,"AED in 000's"]
[null,"فروع التأمين","مخصص الأقساط غير المكتسبة ","مخصص المخاطر غير المنتهية","مخصص المطالبات تحت التسوية","مخصص المطالبات المتكبدة غير المبلغة","مصاريف تسوية المطالبات الموزعة","مصاريف تسوية المطالبات غير الموزعة ","المخصص الحسابي","المجموع","Line of Business"]
[]
[null,null,"UPR","URR","OSLR","IBNR","ALAE","ULAE","MATH","Total"]
[null,"تأمين الحريق",2420519.0217112815,17864.967339630126,6927584.4664101964,1041924.5036339306,74252.316386521357,42275.943055701951,0,{"$f":"C16+D16+E16+F16+G16+H16+I16","v":10524421.218537262},"Fire"]
[null,"التأمين البحري والطيران",798626.06427215179,2522.4318987272163,1617508.3841840823,427610.01813650288,11458.088257245916,15241.889290623469,0,{"$f":"C17+D17+E17+F17+G17+H17+I17","v":2872966.8760393332},"Marine & Aviation"]
[null,"تأمين السيارات والمركبات الأخرى",5091670.6379730497,92000.765439453782,1780942.5182054369,1479673.1895246888,9022.8544038669297,88074.968334102654,1E-3,8541384.9348805975,"Motor & Transportation"]
[null,"التأمين الهندسي والانشاءات والطاقة",2656344.2823818158,14106.079486575645,3512491.1941386773,792233.11901395582,22657.205835157962,27964.38300085497,0,7025796.2638570378,"Engineering, Construction & Energy"]
[null,"أخرى",3835487.4477166827,9728.0075814761585,1491111.9603910409,745498.05609064852,21023.199287048141,27271.558474457532,0,6130120.2295413548,"Other"]
[null,"اعادة التأمين غير النسبية - المسؤوليات والممتلكات",2437.9515241253503,0,7725.5430500000002,3200.7871080209597,0,353.17793165104803,0,13717.459613797357,"Reinsurance - Property & Liability"]
[null,"المجموع - تأمين الممتلكات والمسؤوليات",{"$f":"C16+C17+C18+C19+C20+C21","v":14805085.405579107},136222.25174586292,15337364.066379435,4490139.6735077472,138413.66416984031,201181.9200873916,1E-3,{"$f":"J16+J17+J18+J19+J20+J21","v":35108406.982469387},"Total - Property & Liability Insurance"]
[]
[null,"المجموع - تأمين صحي",11945935.202929854,79459.387503636885,3759419.9064677493,3920745.8927326198,4748.5936222030005,65486.105370117621,0,{"$f":"C24+D24+E24+F24+G24+H24+I24","v":19775795.088626184},"Total - Health Insurance"]
[]
[null,"تأمين حياة جماعي ",290188.46656115772,1188.7825824433251,445264.75960189331,168046.98216205393,0,4507.6636884580566,3703.3411173770046,{"$f":"C26+D26+E26+F26+G26+H26+I26","v":912899.99571338331},"Group Life"]
[null,"تأمين ائتمان حياة جماعي ",21702.002057667116,0,392426.26095089002,131613.85111404312,0,3445.6030740494521,539862.43969410821,1089050.1568907578,"Group Credit Life"]
[null,"تأمين حياة فردي",372851.9270043475,0,207341.70352906798,47384.354583491098,0,50.564933071157377,38251750.777988881,38879379.328038856,"Individual Life"]
[null,"دفعات الحياة وتكوين الأموال",0,0,0,0,0,0,492814.98347062292,492814.98347062292,"Annuities & Fund Accumulation"]
[null,"المجموع - تأمين الأشخاص وعمليات تكوين الأموال",{"$f":"C26+C27+C28+C29","v":684742.3956231724},1188.7825824433251,1045032.7240818513,347045.18785958819,0,8003.8316955786659,39288131.542270996,{"$f":"J26+J27+J28+J29","v":41374144.464113623},"Total - Insurance of Persons & Fund Accumulation"]
[]
[null,"المجموع - كافة فروع التأمين",{"$f":"C22+C24+C30","v":27435763.004132133},216870.42183194312,20141816.696929038,8757930.7540999539,143162.25779204333,274671.85715308785,39288131.543270998,{"$f":"J22+J24+J30","v":96258346.535209194},"TOTAL - All Types of Business Combined"]

{"sheet":"11B","index":27,"n_rows":32,"n_cols":11,"rows_kept":32,"cut":false,"hidden":false,"merged":[[12,9,13,9],[12,10,14,10],[5,1,5,10],[6,1,6,10],[12,1,14,1],[12,2,13,2],[12,3,13,3],[12,4,13,4],[12,5,13,5],[12,6,13,6],[12,7,13,7],[12,8,13,8],[7,1,7,10]]}
[]
[]
[]
[]
[]
[null,"صافي المخصصات الفنية حسب فرع التأمين"]
[null,"Net Technical Provisions by Line of Business"]
[null,"(2025)"]
[]
[]
[null,"جدول رقم 11B",null,null,null,null,null,null,null,null,"TABLE 11B"]
[null,"بالألف درهم ",null,null,null,null,null,null,null,null,"AED in 000's"]
[null,"فروع التأمين","مخصص الأقساط غير المكتسبة ","مخصص المخاطر غير المنتهية","مخصص المطالبات تحت التسوية","مخصص المطالبات المتكبدة غير المبلغة","مصاريف تسوية المطالبات الموزعة","مصاريف تسوية المطالبات غير الموزعة ","المخصص الحسابي","المجموع","Line of Business"]
[]
[null,null,"UPR","URR","OSLR","IBNR","ALAE","ULAE","MATH","Total"]
[null,"تأمين الحريق",540645.8601299345,23047.538732789926,920082.2847248601,391415.94476716296,19131.370606356526,42275.943055701951,0,{"$f":"C16+D16+E16+F16+G16+H16+I16","v":1936598.942016806},"Fire"]
[null,"التأمين البحري والطيران",187912.63243699289,3081.9012331698937,460605.8663975849,142512.73384191794,3009.4763681272143,15241.889290623469,0,{"$f":"C17+D17+E17+F17+G17+H17+I17","v":812364.49956841627},"Marine & Aviation"]
[null,"تأمين السيارات والمركبات الأخرى",4614568.7595858015,91097.868429453796,1420048.9967195231,1249781.2300318489,8424.9128574276911,88074.968334102654,1E-3,7471996.7369581582,"Motor & Transportation"]
[null,"التأمين الهندسي والانشاءات والطاقة",481287.52799901308,17710.649510050524,526012.92706329294,219762.95090313541,9108.2842846398926,27964.38300085497,0,1281846.7227609868,"Engineering, Construction & Energy"]
[null,"أخرى",863563.0647352956,3099.19862818417,268604.10513714619,212148.22072071672,3002.2047346465924,27271.558474457532,0,1377688.3524304468,"Other"]
[null,"اعادة التأمين غير النسبية - المسؤوليات والممتلكات",1941.6035185713681,0,655.76066249999963,332.39691393411999,0,353.17793165104803,0,3282.9390266565356,"Reinsurance - Property & Liability"]
[null,"المجموع - تأمين الممتلكات والمسؤوليات",{"$f":"C16+C17+C18+C19+C20+C21","v":6689919.4484056085},138037.15653364832,3596009.9407049068,2215953.4771787156,42676.248851197917,201181.9200873916,1E-3,{"$f":"J16+J17+J18+J19+J20+J21","v":12883778.19276147},"Total - Property & Liability Insurance"]
[]
[null,"المجموع - تأمين صحي",7297504.8073869012,75374.98052484123,2297622.863367497,2278371.5211481941,4745.9860529530006,65486.105370117621,0,{"$f":"C24+D24+E24+F24+G24+H24+I24","v":12019106.263850505},"Total - Health Insurance"]
[]
[null,"تأمين حياة جماعي ",134030.9666755636,1188.7825824433251,100815.6640374214,52817.234507957357,0,4507.6636884580566,370.33433446790048,{"$f":"C26+D26+E26+F26+G26+H26+I26","v":293730.64582631161},"Group Life"]
[null,"تأمين ائتمان حياة جماعي ",7757.0799271806754,0,45043.073558669035,34020.276205210277,0,3445.6030740494521,395184.19882099441,485450.23158610385,"Group Credit Life"]
[null,"تأمين حياة فردي",371309.52272912936,0,137565.84198474398,33298.12971857837,0,50.564933071157377,36894170.72220806,37436394.781573586,"Individual Life"]
[null,"دفعات الحياة وتكوين الأموال",0,0,0,0,0,0,492814.98347062292,492814.98347062292,"Annuities & Fund Accumulation"]
[null,"المجموع - تأمين الأشخاص وعمليات تكوين الأموال",{"$f":"C26+C27+C28+C29","v":513097.56933187362},1188.7825824433251,283424.57958083443,120135.640431746,0,8003.8316955786659,37782540.23883415,{"$f":"J26+J27+J28+J29","v":38708390.642456628},"Total - Insurance of Persons & Fund Accumulation"]
[]
[null,"المجموع - كافة فروع التأمين",{"$f":"C22+C24+C30","v":14500521.825124383},214600.91964093287,6177057.3836532384,4614460.6387586556,47422.234904150915,274671.85715308785,37782540.239834152,{"$f":"J22+J24+J30","v":63611275.099068604},"TOTAL - All Types of Business Combined"]

{"sheet":"12A","index":28,"n_rows":33,"n_cols":9,"rows_kept":33,"cut":false,"hidden":false,"merged":[[9,1,9,8],[5,1,5,8],[7,1,7,8],[12,1,15,1],[12,2,12,3],[12,4,12,5],[12,6,12,7],[12,8,15,8],[13,2,13,3],[13,4,13,5],[13,6,13,7],[8,1,8,8],[6,1,6,8]]}
[]
[]
[]
[]
[]
[null,"إجمالي المُطالبات المدفوعة والمتكبدة حسب فرع التأمين"]
[null,"الشركات الوطنية والاجنبية"]
[null,"Gross Paid and Incurred Claims by Line of Business"]
[null,"National & Foreign Companies"]
[null,"(2025)"]
[null,"جدول رقم 12A",null,null,null,null,null,null,"TABLE 12A"]
[null,"بالألف درهم ",null,null,null,null,null,null,"AED in 000's"]
[null,"فروع التأمين","الشركات الوطنية",null,"الشركات الأجنبية",null,"الاجمالي",null,"Line of Business"]
[null,null,"NATIONAL COMPANIES",null,"FOREIGN COMPANIES",null,"TOTAL"]
[null,null,"المدفوعة","المتكبدة","المدفوعة","المتكبدة","المدفوعة","المتكبدة"]
[null,null,"Paid","Incurred","Paid","Incurred","Paid","Incurred"]
[null,"تأمين الحريق",4610240.141608349,1401830.7813459812,705112.11406749301,218277.47478894389,{"$f":"C17+E17","v":5315352.2556758421},{"$f":"D17+F17","v":1620108.2561349249},"Fire"]
[null,"التأمين البحري والطيران",1053424.6257081984,926839.82672722475,167603.17328369984,126836.03338425937,{"$f":"C18+E18","v":1221027.7989918983},{"$f":"D18+F18","v":1053675.8601114841},"Marine & Aviation"]
[null,"تأمين السيارات والمركبات الأخرى",4805551.4710385827,5077275.8809283869,1573957.2263666184,1519019.4853767024,6379508.6974052014,6596295.3663050896,"Motor & Transportation"]
[null,"التأمين الهندسي والانشاءات والطاقة",1470025.3279937867,469338.77649075683,120632.17340109509,-3161.602728750544,1590657.5013948819,466177.17376200628,"Engineering, Construction & Energy"]
[null,"أخرى",844951.02834309591,967826.00530731271,251692.41051738872,137497.14307529997,1096643.4388604846,1105323.1483826127,"Other"]
[null,"اعادة التأمين غير النسبية - المسؤوليات والممتلكات",3943.0533499999997,5401.566150969501,0,0,3943.0533499999997,5401.566150969501,"Reinsurance - Property & Liability"]
[null,"المجموع - تأمين الممتلكات والمسؤوليات",{"$f":"C17+C18+C19+C20+C21+C22","v":12788135.648042012},8848512.8369506318,{"$f":"E17+E18+E19+E20+E21+E22","v":2818997.0976362955},{"$f":"F17+F18+F19+F20+F21+F22","v":1998468.5338964551},{"$f":"G17+G18+G19+G20+G21+G22","v":15607132.745678309},{"$f":"H17+H18+H19+H20+H21+H22","v":10846981.370847087},"Total - Property & Liability Insurance"]
[]
[null,"المجموع - تأمين صحي",18048424.106802084,18905957.118164849,8159864.763634705,8524940.7482468635,{"$f":"C25+E25","v":26208288.870436788},{"$f":"D25+F25","v":27430897.866411712},"Total - Health Insurance"]
[]
[null,"تأمين حياة جماعي ",713119.22613417695,702344.24586046883,86662.690650000004,107199.8028668695,{"$f":"C27+E27","v":799781.91678417695},{"$f":"D27+F27","v":809544.04872733832},"Group Life"]
[null,"تأمين ائتمان حياة جماعي ",176187.24293174507,220308.79373081782,2320,1531,178507.24293174507,221839.79373081782,"Group Credit Life"]
[null,"تأمين حياة فردي",863651.45567722933,1370142.6473878319,2459711.4548120424,5761933.2860628255,3323362.9104892719,7132075.9334506579,"Individual Life"]
[null,"دفعات الحياة وتكوين الأموال",0,0,87047.122422800006,41934.254070885778,87047.122422800006,41934.254070885778,"Annuities & Fund Accumulation"]
[null,"المجموع - تأمين الأشخاص وعمليات تكوين الأموال",{"$f":"C27+C28+C29+C30","v":1752957.9247431513},2292795.6869791187,2635741.2678848426,5912598.3430005806,{"$f":"G27+G28+G29+G30","v":4388699.1926279943},{"$f":"H27+H28+H29+H30","v":8205394.0299796993},"Total - Insurance of Persons & Fund Accumulation"]
[]
[null,"المجموع - كافة فروع التأمين",{"$f":"C23+C25+C31","v":32589517.679587245},30047265.642094601,13614603.129155844,16436007.625143901,46204120.808743089,46483273.267238498,"TOTAL - All Types of Business Combined"]

{"sheet":"12B","index":29,"n_rows":33,"n_cols":9,"rows_kept":33,"cut":false,"hidden":false,"merged":[[13,6,13,7],[5,1,5,8],[7,1,7,8],[9,1,9,8],[12,1,15,1],[12,2,12,3],[12,4,12,5],[12,6,12,7],[12,8,15,8],[13,2,13,3],[13,4,13,5],[8,1,8,8],[6,1,6,8]]}
[]
[]
[]
[]
[]
[null,"إجمالي المُطالبات المدفوعة والمتكبدة حسب فرع التأمين"]
[null," شركات التأمين التقليدي الوطنية وشركات التأمين التكافلي الوطنية "]
[null,"Gross Paid and Incurred Claims by Line of Business"]
[null,"Traditional & Takaful National Companies"]
[null,"(2025)"]
[null,"جدول رقم 12B",null,null,null,null,null,null,"TABLE 12B"]
[null,"بالألف درهم ",null,null,null,null,null,null,"AED in 000's"]
[null,"فروع التأمين","شركات التأمين التقليدي الوطنية",null,"شركات التأمين التكافلي الوطنية",null,"الشركات الوطنية",null,"Line of Business"]
[null,null,"TRADITIONAL COMPANIES",null,"TAKAFUL OPERATORS",null,"NATIONAL COMPANIES"]
[null,null,"المدفوعة","المتكبدة","المدفوعة","المتكبدة","المدفوعة","المتكبدة"]
[null,null,"Paid","Incurred","Paid","Incurred","Paid","Incurred"]
[null,"تأمين الحريق",4167779.0760183483,1224922.8358732644,442461.06559000001,176907.94547271688,{"$f":"C17+E17","v":4610240.1416083481},{"$f":"D17+F17","v":1401830.7813459812},"Fire"]
[null,"التأمين البحري والطيران",1024792.1296081984,896971.22274378676,28632.4961,29868.603983438021,{"$f":"C18+E18","v":1053424.6257081984},{"$f":"D18+F18","v":926839.82672722475},"Marine & Aviation"]
[null,"تأمين السيارات والمركبات الأخرى",3889589.3749085832,4061037.8545257524,915962.09612999996,1016238.0264026355,4805551.4710385837,5077275.8809283879,"Motor & Transportation"]
[null,"التأمين الهندسي والانشاءات والطاقة",1416290.3387937867,439245.22411453706,53734.989200000004,30093.552376219748,1470025.3279937867,469338.77649075683,"Engineering, Construction & Energy"]
[null,"أخرى",736848.12315309583,754401.46601229941,108102.90518999999,213424.53929501321,844951.02834309579,967826.00530731259,"Other"]
[null,"اعادة التأمين غير النسبية - المسؤوليات والممتلكات",3943.0533499999997,5401.566150969501,0,0,3943.0533499999997,5401.566150969501,"Reinsurance - Property & Liability"]
[null,"المجموع - تأمين الممتلكات والمسؤوليات",{"$f":"C17+C18+C19+C20+C21+C22","v":11239242.095832011},{"$f":"D17+D18+D19+D20+D21+D22","v":7381980.1694206102},1548893.5522099999,1466532.6675300235,{"$f":"G17+G18+G19+G20+G21+G22","v":12788135.648042012},{"$f":"H17+H18+H19+H20+H21+H22","v":8848512.8369506318},"Total - Property & Liability Insurance"]
[]
[null,"المجموع - تأمين صحي",16452786.70346608,17271893.327570006,1595637.403335999,1634063.790594843,{"$f":"C25+E25","v":18048424.10680208},{"$f":"D25+F25","v":18905957.118164849},"Total - Health Insurance"]
[]
[null,"تأمين حياة جماعي ",650460.14282417693,639871.08359906171,62659.083310000002,62473.162261407095,{"$f":"C27+E27","v":713119.22613417695},{"$f":"D27+F27","v":702344.24586046883},"Group Life"]
[null,"تأمين ائتمان حياة جماعي ",142431.07176174509,155454.96372182539,33756.171170000001,64853.830008992416,176187.24293174507,220308.79373081779,"Group Credit Life"]
[null,"تأمين حياة فردي",855253.60770722933,1382038.4415284686,8397.8479700000007,-11895.794140636652,863651.45567722933,1370142.6473878319,"Individual Life"]
[null,"دفعات الحياة وتكوين الأموال",0,0,0,0,0,0,"Annuities & Fund Accumulation"]
[null,"المجموع - تأمين الأشخاص وعمليات تكوين الأموال",{"$f":"C27+C28+C29+C30","v":1648144.8222931512},{"$f":"D27+D28+D29+D30","v":2177364.4888493558},104813.10245000001,115431.19812976287,{"$f":"G27+G28+G29+G30","v":1752957.9247431513},{"$f":"H27+H28+H29+H30","v":2292795.6869791187},"Total - Insurance of Persons & Fund Accumulation"]
[]
[null,"المجموع - كافة فروع التأمين",{"$f":"C23+C25+C31","v":29340173.621591244},26831237.985839974,3249344.0579959992,3216027.6562546296,32589517.679587245,30047265.642094601,"TOTAL - All Types of Business Combined"]

{"sheet":"13A","index":30,"n_rows":33,"n_cols":9,"rows_kept":33,"cut":false,"hidden":false,"merged":[[13,6,13,7],[5,1,5,8],[7,1,7,8],[9,1,9,8],[12,1,15,1],[12,2,12,3],[12,4,12,5],[12,6,12,7],[12,8,15,8],[13,2,13,3],[13,4,13,5],[8,1,8,8],[6,1,6,8]]}
[]
[]
[]
[]
[]
[null,"صافي المُطالبات المدفوعة والمتكبدة حسب فرع التأمين"]
[null,"الشركات الوطنية والاجنبية"]
[null,"Net Paid and Incurred Claims by Line of Business"]
[null,"National & Foreign Companies"]
[null,"(2025)"]
[null,"جدول رقم 13A",null,null,null,null,null,null,"TABLE 13A"]
[null,"بالألف درهم ",null,null,null,null,null,null,"AED in 000's"]
[null,"فروع التأمين","الشركات الوطنية",null,"الشركات الأجنبية",null,"الاجمالي",null,"Line of Business"]
[null,null,"NATIONAL COMPANIES",null,"FOREIGN COMPANIES",null,"TOTAL"]
[null,null,"المدفوعة","المتكبدة","المدفوعة","المتكبدة","المدفوعة","المتكبدة"]
[null,null,"Paid","Incurred","Paid","Incurred","Paid","Incurred"]
[null,"تأمين الحريق",419420.93860847165,539133.79502230382,179963.92747898432,165416.75436593927,{"$f":"C17+E17","v":599384.866087456},704550.54938824312,"Fire"]
[null,"التأمين البحري والطيران",169068.65342182532,230464.11272572915,94655.788783369746,78149.880073265391,263724.44220519508,308613.99279899453,"Marine & Aviation"]
[null,"تأمين السيارات والمركبات الأخرى",3946736.7169694523,4358664.7779545588,1480342.1883486547,1449975.0747730983,5427078.9053181075,5808639.8527276572,"Motor & Transportation"]
[null,"التأمين الهندسي والانشاءات والطاقة",303846.32819998363,248861.41772942134,66312.684384312743,-13365.557790523049,370159.0125842964,235495.8599388983,"Engineering, Construction & Energy"]
[null,"أخرى",192289.30645249004,211588.13095938449,63958.4323833831,40901.525361628075,256247.73883587314,252489.65632101256,"Other"]
[null,"اعادة التأمين غير النسبية - المسؤوليات والممتلكات",662.8300875000001,-70.267665012168351,0,0,662.8300875000001,-70.267665012168351,"Reinsurance - Property & Liability"]
[null,"المجموع - تأمين الممتلكات والمسؤوليات",{"$f":"C17+C18+C19+C20+C21+C22","v":5032024.7737397226},5588641.966726386,1885233.0213787046,{"$f":"F17+F18+F19+F20+F21+F22","v":1721077.6767834078},{"$f":"G17+G18+G19+G20+G21+G22","v":6917257.7951184278},{"$f":"H17+H18+H19+H20+H21+H22","v":7309719.643509794},"Total - Property & Liability Insurance"]
[]
[null,"المجموع - تأمين صحي",10102321.985270998,10545091.779105697,5640748.071840154,5895945.4235703694,{"$f":"E25+C25","v":15743070.057111152},{"$f":"F25+D25","v":16441037.202676065},"Total - Health Insurance"]
[]
[null,"تأمين حياة جماعي ",169367.10836707699,174560.35039929004,13566.687599999997,13874.190272474982,{"$f":"E27+C27","v":182933.79596707699},{"$f":"F27+D27","v":188434.54067176502},"Group Life"]
[null,"تأمين ائتمان حياة جماعي ",48798.925918144334,44918.03118213854,-97,-118,{"$f":"E28+C28","v":48701.925918144334},{"$f":"F28+D28","v":44800.03118213854},"Group Credit Life"]
[null,"تأمين حياة فردي",846747.54620522994,1336792.9952092464,2250025.0651925094,5586038.9596509859,3096772.6113977395,6922831.9548602328,"Individual Life"]
[null,"دفعات الحياة وتكوين الأموال",0,0,87047.122422800006,41934.254070885778,87047.122422800006,41934.254070885778,"Annuities & Fund Accumulation"]
[null,"المجموع - تأمين الأشخاص وعمليات تكوين الأموال",{"$f":"C27+C28+C29+C30","v":1064913.5804904513},1556271.3767906749,2350541.8752153092,{"$f":"F27+F28+F29+F30","v":5641729.403994346},{"$f":"G27+G28+G29+G30","v":3415455.4557057605},{"$f":"H27+H28+H29+H30","v":7198000.7807850214},"Total - Insurance of Persons & Fund Accumulation"]
[]
[null,"المجموع - كافة فروع التأمين",{"$f":"C23+C25+C31","v":16199260.339501172},17690005.122622758,9876522.968434168,13258752.504348123,26075783.307935342,30948757.62697088,"TOTAL - All Types of Business Combined"]

{"sheet":"13B","index":31,"n_rows":33,"n_cols":9,"rows_kept":33,"cut":false,"hidden":false,"merged":[[13,6,13,7],[5,1,5,8],[7,1,7,8],[9,1,9,8],[12,1,15,1],[12,2,12,3],[12,4,12,5],[12,6,12,7],[12,8,15,8],[13,2,13,3],[13,4,13,5],[8,1,8,8],[6,1,6,8]]}
[]
[]
[]
[]
[]
[null,"صافي المُطالبات المدفوعة والمتكبدة حسب فرع التأمين"]
[null," شركات التأمين التقليدي الوطنية وشركات التأمين التكافلي الوطنية "]
[null,"Net Paid and Incurred Claims by Line of Business"]
[null,"Traditional & Takaful National Companies"]
[null,"(2025)"]
[null,"جدول رقم 13B",null,null,null,null,null,null,"TABLE 13B"]
[null,"بالألف درهم ",null,null,null,null,null,null,"AED in 000's"]
[null,"فروع التأمين","شركات التأمين التقليدي الوطنية",null,"شركات التأمين التكافلي الوطنية",null,"الشركات الوطنية",null,"Line of Business"]
[null,null,"TRADITIONAL COMPANIES",null,"TAKAFUL OPERATORS",null,"NATIONAL COMPANIES"]
[null,null,"المدفوعة","المتكبدة","المدفوعة","المتكبدة","المدفوعة","المتكبدة"]
[null,null,"Paid","Incurred","Paid","Incurred","Paid","Incurred"]
[null,"تأمين الحريق",388221.94491231168,505188.32228855405,31198.993696160011,33945.472733749724,{"$f":"C17+E17","v":419420.93860847171},{"$f":"D17+F17","v":539133.79502230382},"Fire"]
[null,"التأمين البحري والطيران",159367.98249182533,218588.69274302223,9700.670930000002,11875.419982706946,{"$f":"C18+E18","v":169068.65342182532},{"$f":"D18+F18","v":230464.11272572918},"Marine & Aviation"]
[null,"تأمين السيارات والمركبات الأخرى",3098660.0466311621,3424254.0835120562,848076.67033829051,934410.69444250269,3946736.7169694528,4358664.7779545588,"Motor & Transportation"]
[null,"التأمين الهندسي والانشاءات والطاقة",284629.34086598363,217819.61648437189,19216.987334000005,31041.801245049461,303846.32819998363,248861.41772942134,"Engineering, Construction & Energy"]
[null,"أخرى",166272.70595249004,170623.43907833297,26016.600499999993,40964.691881051513,192289.30645249004,211588.13095938449,"Other"]
[null,"اعادة التأمين غير النسبية - المسؤوليات والممتلكات",662.8300875000001,-70.267665012168351,0,0,662.8300875000001,-70.267665012168351,"Reinsurance - Property & Liability"]
[null,"المجموع - تأمين الممتلكات والمسؤوليات",{"$f":"C17+C18+C19+C20+C21+C22","v":4097814.8509412729},4536403.8864413248,934209.92279845057,1052238.0802850602,{"$f":"G17+G18+G19+G20+G21+G22","v":5032024.7737397235},{"$f":"H17+H18+H19+H20+H21+H22","v":5588641.966726386},"Total - Property & Liability Insurance"]
[]
[null,"المجموع - تأمين صحي",9390144.0330895297,9819714.1640797388,712177.9521814686,725377.61502595874,{"$f":"C25+E25","v":10102321.985270998},{"$f":"D25+F25","v":10545091.779105697},"Total - Health Insurance"]
[]
[null,"تأمين حياة جماعي ",167953.866108077,169073.84389942826,1413.2422590000022,5486.5064998617654,{"$f":"C27+E27","v":169367.10836707699},{"$f":"D27+F27","v":174560.35039929004},"Group Life"]
[null,"تأمين ائتمان حياة جماعي ",38172.847378144339,33089.778955709415,10626.078539999999,11828.252226429124,{"$f":"C28+E28","v":48798.925918144334},{"$f":"D28+F28","v":44918.03118213854},"Group Credit Life"]
[null,"تأمين حياة فردي",844617.8298352299,1360207.0871242194,2129.7163700000006,-23414.091914972967,846747.54620522994,1336792.9952092464,"Individual Life"]
[null,"دفعات الحياة وتكوين الأموال",0,0,0,0,0,0,"Annuities & Fund Accumulation"]
[null,"المجموع - تأمين الأشخاص وعمليات تكوين الأموال",{"$f":"C27+C28+C29+C30","v":1050744.5433214512},1562370.7099793572,14169.037169000001,-6099.3331886820779,{"$f":"G27+G28+G29+G30","v":1064913.5804904513},{"$f":"H27+H28+H29+H30","v":1556271.3767906749},"Total - Insurance of Persons & Fund Accumulation"]
[]
[null,"المجموع - كافة فروع التأمين",{"$f":"C23+C25+C31","v":14538703.427352253},15918488.760500422,1660556.9121489192,1771516.3621223369,16199260.339501172,17690005.122622758,"TOTAL - All Types of Business Combined"]

{"sheet":"14A","index":32,"n_rows":33,"n_cols":9,"rows_kept":33,"cut":false,"hidden":false,"merged":[[13,6,13,7],[5,1,5,8],[7,1,7,8],[9,1,9,8],[12,1,15,1],[12,2,12,3],[12,4,12,5],[12,6,12,7],[12,8,15,8],[13,2,13,3],[13,4,13,5],[8,1,8,8],[6,1,6,8]]}
[]
[]
[]
[]
[]
[null,"نسبة الخسارة (الإجمالية) حسب فرع التأمين"]
[null,"الشركات الوطنية والاجنبية"]
[null,"Gross Loss Ratios by Line of Business"]
[null,"National & Foreign Companies"]
[null,"(2025)"]
[null,"جدول رقم 14A",null,null,null,null,null,null,"TABLE 14A"]
[]
[null,"فروع التأمين","الشركات الوطنية",null,"الشركات الأجنبية",null,"الاجمالي",null,"Line of Business"]
[null,null,"NATIONAL COMPANIES",null,"FOREIGN COMPANIES",null,"TOTAL"]
[null,null,"المدفوعة","المتكبدة","المدفوعة","المتكبدة","المدفوعة","المتكبدة"]
[null,null,"Paid","Incurred","Paid","Incurred","Paid","Incurred"]
[null,"تأمين الحريق",{"$f":"IFERROR('12A'!C17/'5A'!D16,\"\")","v":0.77391271095375047},{"$f":"IFERROR('12A'!D17/'5A'!D16,\"\")","v":0.23532280900044422},{"$f":"IFERROR('12A'!E17/'5A'!F16,\"\")","v":1.0162750396660891},{"$f":"IFERROR('12A'!F17/'5A'!F16,\"\")","v":0.31460238013740072},{"$f":"IFERROR('12A'!G17/'5A'!H16,\"\")","v":0.79919598282989746},{"$f":"IFERROR('12A'!H17/'5A'!H16,\"\")","v":0.24359326489979771},"Fire"]
[null,"التأمين البحري والطيران",{"$f":"IFERROR('12A'!C18/'5A'!D17,\"\")","v":0.53281875059134665},{"$f":"IFERROR('12A'!D18/'5A'!D17,\"\")","v":0.46879257084302728},{"$f":"IFERROR('12A'!E18/'5A'!F17,\"\")","v":0.44063554350759987},{"$f":"IFERROR('12A'!F18/'5A'!F17,\"\")","v":0.33345707847678691},{"$f":"IFERROR('12A'!G18/'5A'!H17,\"\")","v":0.51794526225150905},{"$f":"IFERROR('12A'!H18/'5A'!H17,\"\")","v":0.44695658865760851},"Marine & Aviation"]
[null,"تأمين السيارات والمركبات الأخرى",{"$f":"IFERROR('12A'!C19/'5A'!D18,\"\")","v":0.69983349726778565},{"$f":"IFERROR('12A'!D19/'5A'!D18,\"\")","v":0.73940478169003088},{"$f":"IFERROR('12A'!E19/'5A'!F18,\"\")","v":0.68783545499682586},{"$f":"IFERROR('12A'!F19/'5A'!F18,\"\")","v":0.66382709858327305},{"$f":"IFERROR('12A'!G19/'5A'!H18,\"\")","v":0.69683460247755313},{"$f":"IFERROR('12A'!H19/'5A'!H18,\"\")","v":0.72051423979926899},"Motor & Transportation"]
[null,"التأمين الهندسي والانشاءات والطاقة",{"$f":"IFERROR('12A'!C20/'5A'!D19,\"\")","v":0.38611985339634453},{"$f":"IFERROR('12A'!D20/'5A'!D19,\"\")","v":0.12327748108881338},{"$f":"IFERROR('12A'!E20/'5A'!F19,\"\")","v":0.63613067353916264},{"$f":"IFERROR('12A'!F20/'5A'!F19,\"\")","v":-1.6672106757259837E-2},{"$f":"IFERROR('12A'!G20/'5A'!H19,\"\")","v":0.3979819742421396},{"$f":"IFERROR('12A'!H20/'5A'!H19,\"\")","v":0.11663737278309684},"Engineering, Construction & Energy"]
[null,"أخرى",{"$f":"IFERROR('12A'!C21/'5A'!D20,\"\")","v":0.16688209131953724},{"$f":"IFERROR('12A'!D21/'5A'!D20,\"\")","v":0.19115051923877288},{"$f":"IFERROR('12A'!E21/'5A'!F20,\"\")","v":0.44425846914906553},{"$f":"IFERROR('12A'!F21/'5A'!F20,\"\")","v":0.242694128795682},{"$f":"IFERROR('12A'!G21/'5A'!H20,\"\")","v":0.19479583596622091},{"$f":"IFERROR('12A'!H21/'5A'!H20,\"\")","v":0.19633760534393566},"Other"]
[null,"اعادة التأمين غير النسبية - المسؤوليات والممتلكات",{"$f":"IFERROR('12A'!C22/'5A'!D21,\"\")","v":0.66789898788519331},{"$f":"IFERROR('12A'!D22/'5A'!D21,\"\")","v":0.91495098975200262},"-","-",{"$f":"IFERROR('12A'!G22/'5A'!H21,\"\")","v":0.66789898788519331},{"$f":"IFERROR('12A'!H22/'5A'!H21,\"\")","v":0.91495098975200262},"Reinsurance - Property & Liability"]
[null,"المجموع - تأمين الممتلكات والمسؤوليات",{"$f":"IFERROR('12A'!C23/'5A'!D22,\"\")","v":0.54010613311866229},{"$f":"IFERROR('12A'!D23/'5A'!D22,\"\")","v":0.37371640274616436},{"$f":"IFERROR('12A'!E23/'5A'!F22,\"\")","v":0.68444817939470093},{"$f":"IFERROR('12A'!F23/'5A'!F22,\"\")","v":0.4852251003557097},{"$f":"IFERROR('12A'!G23/'5A'!H22,\"\")","v":0.56149407357800118},{"$f":"IFERROR('12A'!H23/'5A'!H22,\"\")","v":0.39023924862996473},"Total - Property & Liability Insurance"]
[]
[null,"المجموع - تأمين صحي",{"$f":"IFERROR('12A'!C25/'5A'!D24,\"\")","v":0.74893105025856255},{"$f":"IFERROR('12A'!D25/'5A'!D24,\"\")","v":0.78451493808338701},{"$f":"IFERROR('12A'!E25/'5A'!F24,\"\")","v":0.76288128146744949},{"$f":"IFERROR('12A'!F25/'5A'!F24,\"\")","v":0.79701292985151606},{"$f":"IFERROR('12A'!G25/'5A'!H24,\"\")","v":0.75321940040255919},{"$f":"IFERROR('12A'!H25/'5A'!H24,\"\")","v":0.788356864714996},"Total - Health Insurance"]
[]
[null,"تأمين حياة جماعي ",{"$f":"IFERROR('12A'!C27/'5A'!D26,\"\")","v":0.61285560117746407},{"$f":"IFERROR('12A'!D27/'5A'!D26,\"\")","v":0.6035955689537974},{"$f":"IFERROR('12A'!E27/'5A'!F26,\"\")","v":0.35136515607475838},{"$f":"IFERROR('12A'!F27/'5A'!F26,\"\")","v":0.43463081036361673},{"$f":"IFERROR('12A'!G27/'5A'!H26,\"\")","v":0.56712211539984281},{"$f":"IFERROR('12A'!H27/'5A'!H26,\"\")","v":0.57404440359145248},"Group Life"]
[null,"تأمين ائتمان حياة جماعي ",{"$f":"IFERROR('12A'!C28/'5A'!D27,\"\")","v":0.25106767511764666},{"$f":"IFERROR('12A'!D28/'5A'!D27,\"\")","v":0.31394109885355109},{"$f":"IFERROR('12A'!E28/'5A'!F27,\"\")","v":0.13661523966552822},{"$f":"IFERROR('12A'!F28/'5A'!F27,\"\")","v":9.0154281003415382E-2},{"$f":"IFERROR('12A'!G28/'5A'!H27,\"\")","v":0.24836343229458605},{"$f":"IFERROR('12A'!H28/'5A'!H27,\"\")","v":0.30865354080661045},"Group Credit Life"]
[null,"تأمين حياة فردي",{"$f":"IFERROR('12A'!C29/'5A'!D28,\"\")","v":0.54048008169217865},{"$f":"IFERROR('12A'!D29/'5A'!D28,\"\")","v":0.85744637506507237},{"$f":"IFERROR('12A'!E29/'5A'!F28,\"\")","v":0.53245060084011631},{"$f":"IFERROR('12A'!F29/'5A'!F28,\"\")","v":1.2472783481017096},{"$f":"IFERROR('12A'!G29/'5A'!H28,\"\")","v":0.53451421153739753},{"$f":"IFERROR('12A'!H29/'5A'!H28,\"\")","v":1.1470898745848939},"Individual Life"]
[null,"دفعات الحياة وتكوين الأموال","-","-",{"$f":"IFERROR('12A'!E30/'5A'!F29,\"\")","v":3.0918340537933311},{"$f":"IFERROR('12A'!F30/'5A'!F29,\"\")","v":1.489466293061819},{"$f":"IFERROR('12A'!G30/'5A'!H29,\"\")","v":3.0918340537933311},{"$f":"IFERROR('12A'!H30/'5A'!H29,\"\")","v":1.489466293061819},"Annuities & Fund Accumulation"]
[null,"المجموع - تأمين الأشخاص وعمليات تكوين الأموال",{"$f":"IFERROR('12A'!C31/'5A'!D30,\"\")","v":0.50615444266531529},{"$f":"IFERROR('12A'!D31/'5A'!D30,\"\")","v":0.66202885232307884},{"$f":"IFERROR('12A'!E31/'5A'!F30,\"\")","v":0.53665930185321808},{"$f":"IFERROR('12A'!F31/'5A'!F30,\"\")","v":1.2038552256836381},{"$f":"IFERROR('12A'!G31/'5A'!H30,\"\")","v":0.52404423386189325},{"$f":"IFERROR('12A'!H31/'5A'!H30,\"\")","v":0.97978677490557053},"Total - Insurance of Persons & Fund Accumulation"]
[null,null,{"$f":"IFERROR('12A'!C32/'5A'!D31,\"\")","v":""},{"$f":"IFERROR('12A'!D32/'5A'!D31,\"\")","v":""},{"$f":"IFERROR('12A'!E32/'5A'!F31,\"\")","v":""},{"$f":"IFERROR('12A'!F32/'5A'!F31,\"\")","v":""},{"$f":"IFERROR('12A'!G32/'5A'!H31,\"\")","v":""},{"$f":"IFERROR('12A'!H32/'5A'!H31,\"\")","v":""}]
[null,"المجموع - كافة فروع التأمين",{"$f":"IFERROR('12A'!C33/'5A'!D32,\"\")","v":0.63602608309054909},{"$f":"IFERROR('12A'!D33/'5A'!D32,\"\")","v":0.58641078587956275},{"$f":"IFERROR('12A'!E33/'5A'!F32,\"\")","v":0.69018072746487436},{"$f":"IFERROR('12A'!F33/'5A'!F32,\"\")","v":0.83320942900253281},{"$f":"IFERROR('12A'!G33/'5A'!H32,\"\")","v":0.65107936116440024},{"$f":"IFERROR('12A'!H33/'5A'!H32,\"\")","v":0.65501300173938271},"TOTAL - All Types of Business Combined"]

{"sheet":"14B","index":33,"n_rows":33,"n_cols":9,"rows_kept":33,"cut":false,"hidden":false,"merged":[[13,6,13,7],[5,1,5,8],[7,1,7,8],[9,1,9,8],[12,1,15,1],[12,2,12,3],[12,4,12,5],[12,6,12,7],[12,8,15,8],[13,2,13,3],[13,4,13,5],[8,1,8,8],[6,1,6,8]]}
[]
[]
[]
[]
[]
[null,"نسبة الخسارة (الإجمالية) حسب فرع التأمين"]
[null," شركات التأمين التقليدي الوطنية وشركات التأمين التكافلي الوطنية "]
[null,"Gross Loss Ratios by Line of Business"]
[null,"Traditional & Takaful National Companies"]
[null,"(2025)"]
[null,"جدول رقم 14B",null,null,null,null,null,null,"TABLE 14B"]
[]
[null,"فروع التأمين","شركات التأمين التقليدي الوطنية",null,"شركات التأمين التكافلي الوطنية",null,"الشركات الوطنية",null,"Line of Business"]
[null,null,"TRADITIONAL COMPANIES",null,"TAKAFUL OPERATORS",null,"NATIONAL COMPANIES"]
[null,null,"المدفوعة","المتكبدة","المدفوعة","المتكبدة","المدفوعة","المتكبدة"]
[null,null,"Paid","Incurred","Paid","Incurred","Paid","Incurred"]
[null,"تأمين الحريق",{"$f":"IFERROR('12B'!C17/'5B'!D16,\"\")","v":0.78952467421128814},{"$f":"IFERROR('12B'!D17/'5B'!D16,\"\")","v":0.23204368208756482},{"$f":"IFERROR('12B'!E17/'5B'!F16,\"\")","v":0.65239677224924564},{"$f":"IFERROR('12B'!F17/'5B'!F16,\"\")","v":0.26084594010039486},{"$f":"IFERROR('12B'!G17/'5B'!H16,\"\")","v":0.77391271095375036},{"$f":"IFERROR('12B'!H17/'5B'!H16,\"\")","v":0.23532280900044422},"Fire"]
[null,"التأمين البحري والطيران",{"$f":"IFERROR('12B'!C18/'5B'!D17,\"\")","v":0.56179978465954616},{"$f":"IFERROR('12B'!D18/'5B'!D17,\"\")","v":0.49172727348709117},{"$f":"IFERROR('12B'!E18/'5B'!F17,\"\")","v":0.18719512695210874},{"$f":"IFERROR('12B'!F18/'5B'!F17,\"\")","v":0.19527662188564626},{"$f":"IFERROR('12B'!G18/'5B'!H17,\"\")","v":0.53281875059134676},{"$f":"IFERROR('12B'!H18/'5B'!H17,\"\")","v":0.46879257084302733},"Marine & Aviation"]
[null,"تأمين السيارات والمركبات الأخرى",{"$f":"IFERROR('12B'!C19/'5B'!D18,\"\")","v":0.70435225486044351},{"$f":"IFERROR('12B'!D19/'5B'!D18,\"\")","v":0.73539926562969371},{"$f":"IFERROR('12B'!E19/'5B'!F18,\"\")","v":0.68127354259230155},{"$f":"IFERROR('12B'!F19/'5B'!F18,\"\")","v":0.75585669242155085},{"$f":"IFERROR('12B'!G19/'5B'!H18,\"\")","v":0.69983349726778565},{"$f":"IFERROR('12B'!H19/'5B'!H18,\"\")","v":0.73940478169003099},"Motor & Transportation"]
[null,"التأمين الهندسي والانشاءات والطاقة",{"$f":"IFERROR('12B'!C20/'5B'!D19,\"\")","v":0.39968423791730789},{"$f":"IFERROR('12B'!D20/'5B'!D19,\"\")","v":0.12395720556037591},{"$f":"IFERROR('12B'!E20/'5B'!F19,\"\")","v":0.20381143033130777},{"$f":"IFERROR('12B'!F20/'5B'!F19,\"\")","v":0.11414182909238348},{"$f":"IFERROR('12B'!G20/'5B'!H19,\"\")","v":0.38611985339634453},{"$f":"IFERROR('12B'!H20/'5B'!H19,\"\")","v":0.12327748108881338},"Engineering, Construction & Energy"]
[null,"أخرى",{"$f":"IFERROR('12B'!C21/'5B'!D20,\"\")","v":0.16702516254386729},{"$f":"IFERROR('12B'!D21/'5B'!D20,\"\")","v":0.17100406925764275},{"$f":"IFERROR('12B'!E21/'5B'!F20,\"\")","v":0.16591338433963279},{"$f":"IFERROR('12B'!F21/'5B'!F20,\"\")","v":0.32755814983257425},{"$f":"IFERROR('12B'!G21/'5B'!H20,\"\")","v":0.16688209131953724},{"$f":"IFERROR('12B'!H21/'5B'!H20,\"\")","v":0.19115051923877288},"Other"]
[null,"اعادة التأمين غير النسبية - المسؤوليات والممتلكات",{"$f":"IFERROR('12B'!C22/'5B'!D21,\"\")","v":0.66789898788519331},{"$f":"IFERROR('12B'!D22/'5B'!D21,\"\")","v":0.91495098975200262},{"$f":"IFERROR('12B'!E22/'5B'!F21,\"\")","v":""},{"$f":"IFERROR('12B'!F22/'5B'!F21,\"\")","v":""},{"$f":"IFERROR('12B'!G22/'5B'!H21,\"\")","v":0.66789898788519331},{"$f":"IFERROR('12B'!H22/'5B'!H21,\"\")","v":0.91495098975200262},"Reinsurance - Property & Liability"]
[null,"المجموع - تأمين الممتلكات والمسؤوليات",{"$f":"IFERROR('12B'!C23/'5B'!D22,\"\")","v":0.54595955626989745},{"$f":"IFERROR('12B'!D23/'5B'!D22,\"\")","v":0.35858846916240478},{"$f":"IFERROR('12B'!E23/'5B'!F22,\"\")","v":0.50112029336491226},{"$f":"IFERROR('12B'!F23/'5B'!F22,\"\")","v":0.47447371675948025},{"$f":"IFERROR('12B'!G23/'5B'!H22,\"\")","v":0.54010613311866229},{"$f":"IFERROR('12B'!H23/'5B'!H22,\"\")","v":0.3737164027461643},"Total - Property & Liability Insurance"]
[]
[null,"المجموع - تأمين صحي",{"$f":"IFERROR('12B'!C25/'5B'!D24,\"\")","v":0.74842806438320286},{"$f":"IFERROR('12B'!D25/'5B'!D24,\"\")","v":0.78568876655181563},{"$f":"IFERROR('12B'!E25/'5B'!F24,\"\")","v":0.75415709115202822},{"$f":"IFERROR('12B'!F25/'5B'!F24,\"\")","v":0.77231881910978584},{"$f":"IFERROR('12B'!G25/'5B'!H24,\"\")","v":0.74893105025856221},{"$f":"IFERROR('12B'!H25/'5B'!H24,\"\")","v":0.7845149380833869},"Total - Health Insurance"]
[]
[null,"تأمين حياة جماعي ",{"$f":"IFERROR('12B'!C27/'5B'!D26,\"\")","v":0.57648011241438235},{"$f":"IFERROR('12B'!D27/'5B'!D26,\"\")","v":0.56709539896222083},{"$f":"IFERROR('12B'!E27/'5B'!F26,\"\")","v":1.7765472988931961},{"$f":"IFERROR('12B'!F27/'5B'!F26,\"\")","v":1.7712759556299855},{"$f":"IFERROR('12B'!G27/'5B'!H26,\"\")","v":0.61285560117746407},{"$f":"IFERROR('12B'!H27/'5B'!H26,\"\")","v":0.6035955689537974},"Group Life"]
[null,"تأمين ائتمان حياة جماعي ",{"$f":"IFERROR('12B'!C28/'5B'!D27,\"\")","v":0.488876617315741},{"$f":"IFERROR('12B'!D28/'5B'!D27,\"\")","v":0.53357947721123078},{"$f":"IFERROR('12B'!E28/'5B'!F27,\"\")","v":8.2250194987356709E-2},{"$f":"IFERROR('12B'!F28/'5B'!F27,\"\")","v":0.15802266604979157},{"$f":"IFERROR('12B'!G28/'5B'!H27,\"\")","v":0.25106767511764666},{"$f":"IFERROR('12B'!H28/'5B'!H27,\"\")","v":0.31394109885355109},"Group Credit Life"]
[null,"تأمين حياة فردي",{"$f":"IFERROR('12B'!C29/'5B'!D28,\"\")","v":0.64246079958761571},{"$f":"IFERROR('12B'!D29/'5B'!D28,\"\")","v":1.0381780494156656},{"$f":"IFERROR('12B'!E29/'5B'!F28,\"\")","v":3.1485788607577822E-2},{"$f":"IFERROR('12B'!F29/'5B'!F28,\"\")","v":-4.4600528727045827E-2},{"$f":"IFERROR('12B'!G29/'5B'!H28,\"\")","v":0.54048008169217865},{"$f":"IFERROR('12B'!H29/'5B'!H28,\"\")","v":0.85744637506507237},"Individual Life"]
[null,"دفعات الحياة وتكوين الأموال","-","-","-","-","-","-","Annuities & Fund Accumulation"]
[null,"المجموع - تأمين الأشخاص وعمليات تكوين الأموال",{"$f":"IFERROR('12B'!C31/'5B'!D30,\"\")","v":0.59913161506439572},{"$f":"IFERROR('12B'!D31/'5B'!D30,\"\")","v":0.79151290902526295},{"$f":"IFERROR('12B'!E31/'5B'!F30,\"\")","v":0.14712733030975822},{"$f":"IFERROR('12B'!F31/'5B'!F30,\"\")","v":0.16203207059337232},{"$f":"IFERROR('12B'!G31/'5B'!H30,\"\")","v":0.50615444266531529},{"$f":"IFERROR('12B'!H31/'5B'!H30,\"\")","v":0.66202885232307884},"Total - Insurance of Persons & Fund Accumulation"]
[]
[null,"المجموع - كافة فروع التأمين",{"$f":"IFERROR('12B'!C33/'5B'!D32,\"\")","v":0.64739683189830866},{"$f":"IFERROR('12B'!D33/'5B'!D32,\"\")","v":0.59203666249471498},{"$f":"IFERROR('12B'!E33/'5B'!F32,\"\")","v":0.54896395031559198},{"$f":"IFERROR('12B'!F33/'5B'!F32,\"\")","v":0.54333527474790722},{"$f":"IFERROR('12B'!G33/'5B'!H32,\"\")","v":0.63602608309054898},{"$f":"IFERROR('12B'!H33/'5B'!H32,\"\")","v":0.58641078587956263},"TOTAL - All Types of Business Combined"]

{"sheet":"15A","index":34,"n_rows":33,"n_cols":9,"rows_kept":33,"cut":false,"hidden":false,"merged":[[13,6,13,7],[5,1,5,8],[7,1,7,8],[9,1,9,8],[12,1,15,1],[12,2,12,3],[12,4,12,5],[12,6,12,7],[12,8,15,8],[13,2,13,3],[13,4,13,5],[8,1,8,8],[6,1,6,8]]}
[]
[]
[]
[]
[]
[null,"نسبة الخسارة (الصافية) حسب فرع التأمين"]
[null,"الشركات الوطنية والاجنبية"]
[null,"Net Loss Ratios by Line of Business"]
[null,"National & Foreign Companies"]
[null,"(2025)"]
[null,"جدول رقم 15A",null,null,null,null,null,null,"TABLE 15A"]
[]
[null,"فروع التأمين","الشركات الوطنية",null,"الشركات الأجنبية",null,"الاجمالي",null,"Line of Business"]
[null,null,"NATIONAL COMPANIES",null,"FOREIGN COMPANIES",null,"TOTAL"]
[null,null,"المدفوعة","المتكبدة","المدفوعة","المتكبدة","المدفوعة","المتكبدة"]
[null,null,"Paid","Incurred","Paid","Incurred","Paid","Incurred"]
[null,"تأمين الحريق",{"$f":"IFERROR('13A'!C17/'6A'!D16,\"\")","v":0.42089462527093069},{"$f":"IFERROR('13A'!D17/'6A'!D16,\"\")","v":0.54102810741796359},{"$f":"IFERROR('13A'!E17/'6A'!F16,\"\")","v":0.56975929192237984},{"$f":"IFERROR('13A'!F17/'6A'!F16,\"\")","v":0.52370346746651097},{"$f":"IFERROR('13A'!G17/'6A'!H16,\"\")","v":0.45672350819168039},{"$f":"IFERROR('13A'!H17/'6A'!H16,\"\")","v":0.53685839736904983},"Fire"]
[null,"التأمين البحري والطيران",{"$f":"IFERROR('13A'!C18/'6A'!D17,\"\")","v":0.48197039284247117},{"$f":"IFERROR('13A'!D18/'6A'!D17,\"\")","v":0.65699274642813332},{"$f":"IFERROR('13A'!E18/'6A'!F17,\"\")","v":0.49615072004878985},{"$f":"IFERROR('13A'!F18/'6A'!F17,\"\")","v":0.40963283670707201},{"$f":"IFERROR('13A'!G18/'6A'!H17,\"\")","v":0.48696576504596895},{"$f":"IFERROR('13A'!H18/'6A'!H17,\"\")","v":0.56985407894169426},"Marine & Aviation"]
[null,"تأمين السيارات والمركبات الأخرى",{"$f":"IFERROR('13A'!C19/'6A'!D18,\"\")","v":0.70250985876091143},{"$f":"IFERROR('13A'!D19/'6A'!D18,\"\")","v":0.77583208537361281},{"$f":"IFERROR('13A'!E19/'6A'!F18,\"\")","v":0.68234892194818708},{"$f":"IFERROR('13A'!F19/'6A'!F18,\"\")","v":0.66835150474691574},{"$f":"IFERROR('13A'!G19/'6A'!H18,\"\")","v":0.69689334924534618},{"$f":"IFERROR('13A'!H19/'6A'!H18,\"\")","v":0.74588974145200826},"Motor & Transportation"]
[null,"التأمين الهندسي والانشاءات والطاقة",{"$f":"IFERROR('13A'!C20/'6A'!D19,\"\")","v":0.56344292940845975},{"$f":"IFERROR('13A'!D20/'6A'!D19,\"\")","v":0.46148066706245988},{"$f":"IFERROR('13A'!E20/'6A'!F19,\"\")","v":0.72233536247724561},{"$f":"IFERROR('13A'!F20/'6A'!F19,\"\")","v":-0.14558926577871936},{"$f":"IFERROR('13A'!G20/'6A'!H19,\"\")","v":0.5865573549453087},{"$f":"IFERROR('13A'!H20/'6A'!H19,\"\")","v":0.3731688923145543},"Engineering, Construction & Energy"]
[null,"أخرى",{"$f":"IFERROR('13A'!C21/'6A'!D20,\"\")","v":0.13964875735751839},{"$f":"IFERROR('13A'!D21/'6A'!D20,\"\")","v":0.15366439301906004},{"$f":"IFERROR('13A'!E21/'6A'!F20,\"\")","v":0.25547604503873478},{"$f":"IFERROR('13A'!F21/'6A'!F20,\"\")","v":0.16337736160892949},{"$f":"IFERROR('13A'!G21/'6A'!H20,\"\")","v":0.15746807130040455},{"$f":"IFERROR('13A'!H21/'6A'!H20,\"\")","v":0.15515867334008965},"Other"]
[null,"اعادة التأمين غير النسبية - المسؤوليات والممتلكات",{"$f":"IFERROR('13A'!C22/'6A'!D21,\"\")","v":0.15254372097063554},{"$f":"IFERROR('13A'!D22/'6A'!D21,\"\")","v":-1.6171400917092946E-2},"-","-",{"$f":"IFERROR('13A'!G22/'6A'!H21,\"\")","v":0.15254372097063554},{"$f":"IFERROR('13A'!H22/'6A'!H21,\"\")","v":-1.6171400917092946E-2},"Reinsurance - Property & Liability"]
[null,"المجموع - تأمين الممتلكات والمسؤوليات",{"$f":"IFERROR('13A'!C23/'6A'!D22,\"\")","v":0.56629327494835513},{"$f":"IFERROR('13A'!D23/'6A'!D22,\"\")","v":0.62893377997009803},{"$f":"IFERROR('13A'!E23/'6A'!F22,\"\")","v":0.62460655695661571},{"$f":"IFERROR('13A'!F23/'6A'!F22,\"\")","v":0.57021937859141225},{"$f":"IFERROR('13A'!G23/'6A'!H22,\"\")","v":0.58107846123189988},{"$f":"IFERROR('13A'!H23/'6A'!H22,\"\")","v":0.61404689087701447},"Total - Property & Liability Insurance"]
[]
[null,"المجموع - تأمين صحي",{"$f":"IFERROR('13A'!C25/'6A'!D24,\"\")","v":0.72292802996174654},{"$f":"IFERROR('13A'!D25/'6A'!D24,\"\")","v":0.754612893624791},{"$f":"IFERROR('13A'!E25/'6A'!F24,\"\")","v":0.76341591866273262},{"$f":"IFERROR('13A'!F25/'6A'!F24,\"\")","v":0.79795419589656469},{"$f":"IFERROR('13A'!G25/'6A'!H24,\"\")","v":0.73693158705854644},{"$f":"IFERROR('13A'!H25/'6A'!H24,\"\")","v":0.76960336165079268},"Total - Health Insurance"]
[]
[null,"تأمين حياة جماعي ",{"$f":"IFERROR('13A'!C27/'6A'!D26,\"\")","v":0.42377353965194453},{"$f":"IFERROR('13A'!D27/'6A'!D26,\"\")","v":0.43676755353975549},{"$f":"IFERROR('13A'!E27/'6A'!F26,\"\")","v":0.23471338514687426},{"$f":"IFERROR('13A'!F27/'6A'!F26,\"\")","v":0.24003340100677467},{"$f":"IFERROR('13A'!G27/'6A'!H26,\"\")","v":0.39988564661827758},{"$f":"IFERROR('13A'!H27/'6A'!H26,\"\")","v":0.41191004507066692},"Group Life"]
[null,"تأمين ائتمان حياة جماعي ",{"$f":"IFERROR('13A'!C28/'6A'!D27,\"\")","v":0.19884636458148205},{"$f":"IFERROR('13A'!D28/'6A'!D27,\"\")","v":0.18303245484763625},{"$f":"IFERROR('13A'!E28/'6A'!F27,\"\")","v":-2.4177467597208374E-2},{"$f":"IFERROR('13A'!F28/'6A'!F27,\"\")","v":-2.9411764705882353E-2},{"$f":"IFERROR('13A'!G28/'6A'!H27,\"\")","v":0.19525898696231397},{"$f":"IFERROR('13A'!H28/'6A'!H27,\"\")","v":0.17961525216080723},"Group Credit Life"]
[null,"تأمين حياة فردي",{"$f":"IFERROR('13A'!C29/'6A'!D28,\"\")","v":0.56889509042578768},{"$f":"IFERROR('13A'!D29/'6A'!D28,\"\")","v":0.89813661143554024},{"$f":"IFERROR('13A'!E29/'6A'!F28,\"\")","v":0.50628520629382379},{"$f":"IFERROR('13A'!F29/'6A'!F28,\"\")","v":1.2569321696913029},{"$f":"IFERROR('13A'!G29/'6A'!H28,\"\")","v":0.52199318025820207},{"$f":"IFERROR('13A'!H29/'6A'!H28,\"\")","v":1.1669152120534789},"Individual Life"]
[null,"دفعات الحياة وتكوين الأموال","-","-",{"$f":"IFERROR('13A'!E30/'6A'!F29,\"\")","v":3.0920830488854607},{"$f":"IFERROR('13A'!F30/'6A'!F29,\"\")","v":1.4895862444532624},{"$f":"IFERROR('13A'!G30/'6A'!H29,\"\")","v":3.0920830488854607},{"$f":"IFERROR('13A'!H30/'6A'!H29,\"\")","v":1.4895862444532624},"Annuities & Fund Accumulation"]
[null,"المجموع - تأمين الأشخاص وعمليات تكوين الأموال",{"$f":"IFERROR('13A'!C31/'6A'!D30,\"\")","v":0.49914355398805937},{"$f":"IFERROR('13A'!D31/'6A'!D30,\"\")","v":0.72945151626616245},{"$f":"IFERROR('13A'!E31/'6A'!F30,\"\")","v":0.51840854173561268},{"$f":"IFERROR('13A'!F31/'6A'!F30,\"\")","v":1.2442750941944962},{"$f":"IFERROR('13A'!G31/'6A'!H30,\"\")","v":0.51224420907667456},{"$f":"IFERROR('13A'!H31/'6A'!H30,\"\")","v":1.0795439333652823},"Total - Insurance of Persons & Fund Accumulation"]
[]
[null,"المجموع - كافة فروع التأمين",{"$f":"IFERROR('13A'!C33/'6A'!D32,\"\")","v":0.64813752089462462},{"$f":"IFERROR('13A'!D33/'6A'!D32,\"\")","v":0.70778269035109453},{"$f":"IFERROR('13A'!E33/'6A'!F32,\"\")","v":0.66102390370273401},{"$f":"IFERROR('13A'!F33/'6A'!F32,\"\")","v":0.8873924929516066},{"$f":"IFERROR('13A'!G33/'6A'!H32,\"\")","v":0.65295884567882967},{"$f":"IFERROR('13A'!H33/'6A'!H32,\"\")","v":0.77498209034246091},"TOTAL - All Types of Business Combined"]

{"sheet":"15B","index":35,"n_rows":33,"n_cols":9,"rows_kept":33,"cut":false,"hidden":false,"merged":[[13,6,13,7],[5,1,5,8],[7,1,7,8],[9,1,9,8],[12,1,15,1],[12,2,12,3],[12,4,12,5],[12,6,12,7],[12,8,15,8],[13,2,13,3],[13,4,13,5],[8,1,8,8],[6,1,6,8]]}
[]
[]
[]
[]
[]
[null,"نسبة الخسارة (الصافية) حسب فرع التأمين"]
[null," شركات التأمين التقليدي الوطنية وشركات التأمين التكافلي الوطنية "]
[null,"Net Loss Ratios by Line of Business"]
[null,"Traditional & Takaful National Companies"]
[null,"(2025)"]
[null,"جدول رقم 15B",null,null,null,null,null,null,"TABLE 15B"]
[]
[null,"فروع التأمين","شركات التأمين التقليدي الوطنية",null,"شركات التأمين التكافلي الوطنية",null,"الشركات الوطنية",null,"Line of Business"]
[null,null,"TRADITIONAL COMPANIES",null,"TAKAFUL OPERATORS",null,"NATIONAL COMPANIES"]
[null,null,"المدفوعة","المتكبدة","المدفوعة","المتكبدة","المدفوعة","المتكبدة"]
[null,null,"Paid","Incurred","Paid","Incurred","Paid","Incurred"]
[null,"تأمين الحريق",{"$f":"IFERROR('13B'!C17/'6B'!D16,\"\")","v":0.43256850719762652},{"$f":"IFERROR('13B'!D17/'6B'!D16,\"\")","v":0.56289594467770909},{"$f":"IFERROR('13B'!E17/'6B'!F16,\"\")","v":0.31508455397294333},{"$f":"IFERROR('13B'!F17/'6B'!F16,\"\")","v":0.34282176662097513},{"$f":"IFERROR('13B'!G17/'6B'!H16,\"\")","v":0.42089462527093074},{"$f":"IFERROR('13B'!H17/'6B'!H16,\"\")","v":0.54102810741796359},"Fire"]
[null,"التأمين البحري والطيران",{"$f":"IFERROR('13B'!C18/'6B'!D17,\"\")","v":0.50814435795989077},{"$f":"IFERROR('13B'!D18/'6B'!D17,\"\")","v":0.69696942381066007},{"$f":"IFERROR('13B'!E18/'6B'!F17,\"\")","v":0.26105837461356424},{"$f":"IFERROR('13B'!F18/'6B'!F17,\"\")","v":0.31958385774651932},{"$f":"IFERROR('13B'!G18/'6B'!H17,\"\")","v":0.48197039284247112},{"$f":"IFERROR('13B'!H18/'6B'!H17,\"\")","v":0.65699274642813332},"Marine & Aviation"]
[null,"تأمين السيارات والمركبات الأخرى",{"$f":"IFERROR('13B'!C19/'6B'!D18,\"\")","v":0.7007034419500624},{"$f":"IFERROR('13B'!D19/'6B'!D18,\"\")","v":0.77433038355951567},{"$f":"IFERROR('13B'!E19/'6B'!F18,\"\")","v":0.70918999207680777},{"$f":"IFERROR('13B'!F19/'6B'!F18,\"\")","v":0.78138538196532126},{"$f":"IFERROR('13B'!G19/'6B'!H18,\"\")","v":0.70250985876091165},{"$f":"IFERROR('13B'!H19/'6B'!H18,\"\")","v":0.77583208537361292},"Motor & Transportation"]
[null,"التأمين الهندسي والانشاءات والطاقة",{"$f":"IFERROR('13B'!C20/'6B'!D19,\"\")","v":0.59741801628547531},{"$f":"IFERROR('13B'!D20/'6B'!D19,\"\")","v":0.4571888575936634},{"$f":"IFERROR('13B'!E20/'6B'!F19,\"\")","v":0.30583352483679993},{"$f":"IFERROR('13B'!F20/'6B'!F19,\"\")","v":0.49402246705237063},{"$f":"IFERROR('13B'!G20/'6B'!H19,\"\")","v":0.56344292940845975},{"$f":"IFERROR('13B'!H20/'6B'!H19,\"\")","v":0.46148066706245988},"Engineering, Construction & Energy"]
[null,"أخرى",{"$f":"IFERROR('13B'!C21/'6B'!D20,\"\")","v":0.14606554031804861},{"$f":"IFERROR('13B'!D21/'6B'!D20,\"\")","v":0.14988752770416514},{"$f":"IFERROR('13B'!E21/'6B'!F20,\"\")","v":0.10903558949413697},{"$f":"IFERROR('13B'!F21/'6B'!F20,\"\")","v":0.1716830501239445},{"$f":"IFERROR('13B'!G21/'6B'!H20,\"\")","v":0.13964875735751836},{"$f":"IFERROR('13B'!H21/'6B'!H20,\"\")","v":0.15366439301906001},"Other"]
[null,"اعادة التأمين غير النسبية - المسؤوليات والممتلكات",{"$f":"IFERROR('13B'!C22/'6B'!D21,\"\")","v":0.15254372097063554},{"$f":"IFERROR('13B'!D22/'6B'!D21,\"\")","v":-1.6171400917092946E-2},"-","-",{"$f":"IFERROR('13B'!G22/'6B'!H21,\"\")","v":0.15254372097063554},{"$f":"IFERROR('13B'!H22/'6B'!H21,\"\")","v":-1.6171400917092946E-2},"Reinsurance - Property & Liability"]
[null,"المجموع - تأمين الممتلكات والمسؤوليات",{"$f":"IFERROR('13B'!C23/'6B'!D22,\"\")","v":0.56502550538673169},{"$f":"IFERROR('13B'!D23/'6B'!D22,\"\")","v":0.62550017309495498},{"$f":"IFERROR('13B'!E23/'6B'!F22,\"\")","v":0.57192209021194429},{"$f":"IFERROR('13B'!F23/'6B'!F22,\"\")","v":0.64417877351862507},{"$f":"IFERROR('13B'!G23/'6B'!H22,\"\")","v":0.56629327494835524},{"$f":"IFERROR('13B'!H23/'6B'!H22,\"\")","v":0.62893377997009803},"Total - Property & Liability Insurance"]
[]
[null,"المجموع - تأمين صحي",{"$f":"IFERROR('13B'!C25/'6B'!D24,\"\")","v":0.73204830368812301},{"$f":"IFERROR('13B'!D25/'6B'!D24,\"\")","v":0.76553725599794209},{"$f":"IFERROR('13B'!E25/'6B'!F24,\"\")","v":0.62092945067780614},{"$f":"IFERROR('13B'!F25/'6B'!F24,\"\")","v":0.63243789372080716},{"$f":"IFERROR('13B'!G25/'6B'!H24,\"\")","v":0.72292802996174654},{"$f":"IFERROR('13B'!H25/'6B'!H24,\"\")","v":0.75461289362479089},"Total - Health Insurance"]
[]
[null,"تأمين حياة جماعي ",{"$f":"IFERROR('13B'!C27/'6B'!D26,\"\")","v":0.43216698166411061},{"$f":"IFERROR('13B'!D27/'6B'!D26,\"\")","v":0.43504882911921861},{"$f":"IFERROR('13B'!E27/'6B'!F26,\"\")","v":0.12810029415949661},{"$f":"IFERROR('13B'!F27/'6B'!F26,\"\")","v":0.4973125393501846},{"$f":"IFERROR('13B'!G27/'6B'!H26,\"\")","v":0.42377353965194453},{"$f":"IFERROR('13B'!H27/'6B'!H26,\"\")","v":0.43676755353975549},"Group Life"]
[null,"تأمين ائتمان حياة جماعي ",{"$f":"IFERROR('13B'!C28/'6B'!D27,\"\")","v":0.35907364376084805},{"$f":"IFERROR('13B'!D28/'6B'!D27,\"\")","v":0.31125966012350431},{"$f":"IFERROR('13B'!E28/'6B'!F27,\"\")","v":7.6391125315591446E-2},{"$f":"IFERROR('13B'!F28/'6B'!F27,\"\")","v":8.503357985659786E-2},{"$f":"IFERROR('13B'!G28/'6B'!H27,\"\")","v":0.19884636458148205},{"$f":"IFERROR('13B'!H28/'6B'!H27,\"\")","v":0.18303245484763625},"Group Credit Life"]
[null,"تأمين حياة فردي",{"$f":"IFERROR('13B'!C29/'6B'!D28,\"\")","v":0.66448987556176042},{"$f":"IFERROR('13B'!D29/'6B'!D28,\"\")","v":1.0701216646559797},{"$f":"IFERROR('13B'!E29/'6B'!F28,\"\")","v":9.7994521139972979E-3},{"$f":"IFERROR('13B'!F29/'6B'!F28,\"\")","v":-0.10773513118721477},{"$f":"IFERROR('13B'!G29/'6B'!H28,\"\")","v":0.56889509042578779},{"$f":"IFERROR('13B'!H29/'6B'!H28,\"\")","v":0.89813661143554036},"Individual Life"]
[null,"دفعات الحياة وتكوين الأموال","-","-","-","-","-","-","Annuities & Fund Accumulation"]
[null,"المجموع - تأمين الأشخاص وعمليات تكوين الأموال",{"$f":"IFERROR('13B'!C31/'6B'!D30,\"\")","v":0.59497946320236905},{"$f":"IFERROR('13B'!D31/'6B'!D30,\"\")","v":0.88468552347479479},{"$f":"IFERROR('13B'!E31/'6B'!F30,\"\")","v":3.8559041911341581E-2},{"$f":"IFERROR('13B'!F31/'6B'!F30,\"\")","v":-1.6598477458170672E-2},{"$f":"IFERROR('13B'!G31/'6B'!H30,\"\")","v":0.49914355398805949},{"$f":"IFERROR('13B'!H31/'6B'!H30,\"\")","v":0.72945151626616256},"Total - Insurance of Persons & Fund Accumulation"]
[]
[null,"المجموع - كافة فروع التأمين",{"$f":"IFERROR('13B'!C33/'6B'!D32,\"\")","v":0.66551847765339356},{"$f":"IFERROR('13B'!D33/'6B'!D32,\"\")","v":0.72867903657074973},{"$f":"IFERROR('13B'!E33/'6B'!F32,\"\")","v":0.52751683398869831},{"$f":"IFERROR('13B'!F33/'6B'!F32,\"\")","v":0.5627658382973536},{"$f":"IFERROR('13B'!G33/'6B'!H32,\"\")","v":0.64813752089462462},{"$f":"IFERROR('13B'!H33/'6B'!H32,\"\")","v":0.70778269035109453},"TOTAL - All Types of Business Combined"]

{"sheet":"16A","index":36,"n_rows":33,"n_cols":12,"rows_kept":33,"cut":false,"hidden":false,"merged":[[13,5,13,7],[12,5,12,7],[13,8,13,10],[12,8,12,10],[5,1,5,11],[7,1,7,11],[9,1,9,11],[12,1,15,1],[12,11,15,11],[8,1,8,11],[6,1,6,11],[13,2,13,4],[12,2,12,4]]}
[]
[]
[]
[]
[]
[null,"نسبة العمولات ونسبة المصاريف والنسبة المجمعة (الإجمالية) حسب فرع التأمين"]
[null,"الشركات الوطنية والاجنبية"]
[null,"Gross Commission, Expense & Combined Ratios by Line of Business"]
[null,"National & Foreign Companies"]
[null,"(2025)"]
[null,"جدول رقم 16A",null,null,null,null,null,null,null,null,null,"TABLE 16A"]
[]
[null,"فروع التأمين","الشركات الوطنية",null,null,"الشركات الأجنبية",null,null,"الاجمالي",null,null,"Line of Business"]
[null,null,"NATIONAL COMPANIES",null,null,"FOREIGN COMPANIES",null,null,"TOTAL"]
[null,null,"نسبة العمولات","نسبة المصاريف","النسبة المجمعة","نسبة العمولات","نسبة المصاريف","النسبة المجمعة","نسبة العمولات","نسبة المصاريف","النسبة المجمعة"]
[null,null,"Commission Ratio","Expense Ratio","Combined Ratio","Commission Ratio","Expense Ratio","Combined Ratio","Commission Ratio","Expense Ratio","Combined Ratio"]
[null,"تأمين الحريق",8.6448966589417142E-2,6.4267844605273405E-2,0.38603962019513477,0.15137637338313698,0.13506175734959502,0.60104051087013266,9.3222202706186821E-2,7.1653075439622099E-2,0.40846854304560665,"Fire"]
[null,"التأمين البحري والطيران",8.6783501733188037E-2,7.0669293994947507E-2,0.62624536657116281,0.19754730714023344,0.13591882949907694,0.66692321511609731,0.10465491476290684,8.1197113933115003E-2,0.63280861735363048,"Marine & Aviation"]
[null,"تأمين السيارات والمركبات الأخرى",0.13613050724534764,0.12117360407168944,0.996708893007068,0.17974920745266146,0.13636704630395421,0.97994335233988872,0.14703294364741271,0.12497118485420763,0.99251836830088935,"Motor & Transportation"]
[null,"التأمين الهندسي والانشاءات والطاقة",6.7024176771130733E-2,6.5128770614831383E-2,0.25543042847477548,0.21340495377085869,0.19226317671836482,0.38899602373196368,7.3969422042036381E-2,7.1160844298670381E-2,0.26176763912380357,"Engineering, Construction & Energy"]
[null,"أخرى",9.2694155922708452E-2,0.10273261054457412,0.38657728570605548,0.17716420672965613,0.15951969966338259,0.57937803518872077,0.10119479122182051,0.10844737370247035,0.40597977026822651,"Other"]
[null,"اعادة التأمين غير النسبية - المسؤوليات والممتلكات",0.44341419082044292,0.1653010085421904,1.5236661891146359,"-","-","-",0.44341419082044292,0.1653010085421904,1.5236661891146359,"Reinsurance - Property & Liability"]
[null,"المجموع - تأمين الممتلكات والمسؤوليات",9.9186358585280868E-2,8.9694918149799227E-2,0.56259767948124451,0.1778072875918652,0.14186417817333732,0.8048965661209122,0.11083604619768289,9.7425119127117821E-2,0.5985004139547655,"Total - Property & Liability Insurance"]
[null,null,"","","","","","","","",""]
[null,"المجموع - تأمين صحي",4.728844605040132E-2,7.1081423358053411E-2,0.90288480749184175,8.792697761470758E-2,0.10919420221734172,0.99413410968356541,5.9780873600604773E-2,8.2797425642318345E-2,0.9309351639579192,"Total - Health Insurance"]
[]
[null,"تأمين حياة جماعي ",0.11810235942155352,8.2931967299630191E-2,0.80462989567498111,7.9304710484706775E-2,0.20556460238508353,0.71950012323340706,0.11131682763984152,0.10437985565497709,0.78974108688627109,"Group Life"]
[null,"تأمين ائتمان حياة جماعي ",0.11551535812921872,0.11445923746853126,0.54391569445130106,9.3510776115887415E-2,0.2128135673065599,0.39647862442586268,0.11499544142540254,0.1167831197828809,0.54043210201489389,"Group Credit Life"]
[null,"تأمين حياة فردي",0.10944833052649608,0.10175920696761659,1.0686539125591852,2.9825660249174924E-2,0.10322305000575011,1.3803270583566345,5.0289024837455711E-2,0.10284683612489166,1.3002257355472415,"Individual Life"]
[null,"دفعات الحياة وتكوين الأموال","-","-","-",2.9508808466340943E-2,1.4879319855872809E-2,1.5338544213840326,2.9508808466340943E-2,1.4879319855872809E-2,1.5338544213840326,"Annuities & Fund Accumulation"]
[null,"المجموع - تأمين الأشخاص وعمليات تكوين الأموال",0.11358526302697999,9.8006956757162672E-2,0.87362107210722151,3.2528842521490235E-2,0.10823506585428828,1.3446191340594167,6.6049149876840435E-2,0.10400530393707552,1.1498412287194866,"Total - Insurance of Persons & Fund Accumulation"]
[]
[null,"المجموع - كافة فروع التأمين",7.5750904967563301E-2,8.1502413733438459E-2,0.74366410458056453,9.2900234662158535E-2,0.11577659671602512,1.0418862603807164,8.051787614160516E-2,9.1029552414743212E-2,0.82656043029573123,"TOTAL - All Types of Business Combined"]

{"sheet":"16B","index":37,"n_rows":33,"n_cols":12,"rows_kept":33,"cut":false,"hidden":false,"merged":[[13,2,13,4],[13,5,13,7],[13,8,13,10],[5,1,5,11],[6,1,6,11],[7,1,7,11],[8,1,8,11],[9,1,9,11],[12,1,15,1],[12,2,12,4],[12,5,12,7],[12,8,12,10],[12,11,15,11]]}
[]
[]
[]
[]
[]
[null,"نسبة العمولات ونسبة المصاريف والنسبة المجمعة (الإجمالية) حسب فرع التأمين"]
[null," شركات التأمين التقليدي الوطنية وشركات التأمين التكافلي الوطنية "]
[null,"Gross Commission, Expense & Combined Ratios by Line of Business"]
[null,"Traditional & Takaful National Companies"]
[null,"(2025)"]
[null,"جدول رقم 16B",null,null,null,null,null,null,null,null,null,"TABLE 16B"]
[]
[null,"فروع التأمين","شركات التأمين التقليدي الوطنية",null,null,"شركات التأمين التكافلي الوطنية",null,null,"الشركات الوطنية",null,null,"Line of Business"]
[null,null,"TRADITIONAL COMPANIES",null,null,"TAKAFUL OPERATORS",null,null,"NATIONAL COMPANIES"]
[null,null,"نسبة العمولات","نسبة المصاريف","النسبة المجمعة","نسبة العمولات","نسبة المصاريف","النسبة المجمعة","نسبة العمولات","نسبة المصاريف","النسبة المجمعة"]
[null,null,"Commission Ratio","Expense Ratio","Combined Ratio","Commission Ratio","Expense Ratio","Combined Ratio","Commission Ratio","Expense Ratio","Combined Ratio"]
[null,"تأمين الحريق",8.0320822360508262E-2,6.1485809418547345E-2,0.37385031386662043,0.13414746460714186,8.5921855164179634E-2,0.48091525987171635,8.6448966589417142E-2,6.4267844605273405E-2,0.38603962019513477,"Fire"]
[null,"التأمين البحري والطيران",8.3431553645705106E-2,6.845196585181576E-2,0.64361079298461199,0.12675835016406881,9.7112828957262184E-2,0.41914780100697724,8.6783501733188037E-2,7.0669293994947507E-2,0.62624536657116281,"Marine & Aviation"]
[null,"تأمين السيارات والمركبات الأخرى",0.11992128092092723,0.12227242030921985,0.97759296685984076,0.20270688354725877,0.11666042115645921,1.0752239971252688,0.13613050724534764,0.12117360407168944,0.996708893007068,"Motor & Transportation"]
[null,"التأمين الهندسي والانشاءات والطاقة",5.8646962680298689E-2,6.3265106220059264E-2,0.24586927446073387,0.17961584565352576,9.0176845329041189E-2,0.38393452007495044,6.7024176771130733E-2,6.5128770614831383E-2,0.25543042847477548,"Engineering, Construction & Energy"]
[null,"أخرى",8.4160344793299507E-2,9.9668948494729778E-2,0.35483336254567199,0.15047490425246388,0.12347606070829258,0.60150911479333069,9.2694155922708452E-2,0.10273261054457412,0.38657728570605548,"Other"]
[null,"اعادة التأمين غير النسبية - المسؤوليات والممتلكات",0.44341419082044292,0.1653010085421904,1.5236661891146359,"","","",0.44341419082044292,0.1653010085421904,1.5236661891146359,"Reinsurance - Property & Liability"]
[null,"المجموع - تأمين الممتلكات والمسؤوليات",8.841541618271713E-2,8.6927630724732766E-2,0.53393151606985467,0.17092459169330473,0.10812601757978697,0.75352432603257202,9.9186358585280868E-2,8.9694918149799227E-2,0.56259767948124451,"Total - Property & Liability Insurance"]
[]
[null,"المجموع - تأمين صحي",4.4802533328473726E-2,6.573619934269799E-2,0.89622749922298739,7.3117166455522783E-2,0.12661848842778095,0.97205447399308964,4.728844605040132E-2,7.1081423358053411E-2,0.90288480749184175,"Total - Health Insurance"]
[]
[null,"تأمين حياة جماعي ",0.11988357812120841,8.0325842459868277E-2,0.76730481954329754,6.1119223714299342E-2,0.16630475327081584,1.9986999326151005,0.11810235942155352,8.2931967299630191E-2,0.80462989567498111,"Group Life"]
[null,"تأمين ائتمان حياة جماعي ",6.5096862558682911E-2,9.2677202461757022E-2,0.69135354223167078,0.15130679345332845,0.12992202128130442,0.43925148078442444,0.11551535812921872,0.11445923746853126,0.54391569445130106,"Group Credit Life"]
[null,"تأمين حياة فردي",6.3331233876892323E-2,8.8748219236542497E-2,1.1902575025291005,0.33962261732007376,0.16669813502361117,0.46172022361663911,0.10944833052649608,0.10175920696761659,1.0686539125591852,"Individual Life"]
[null,"دفعات الحياة وتكوين الأموال","","","","","","","","","","Annuities & Fund Accumulation"]
[null,"المجموع - تأمين الأشخاص وعمليات تكوين الأموال",8.6714269120724455E-2,8.5709732428785143E-2,0.96393691057477249,0.21734638093748879,0.1454921278662116,0.52487057939707271,0.11358526302697999,9.8006956757162672E-2,0.87362107210722151,"Total - Insurance of Persons & Fund Accumulation"]
[]
[null,"المجموع - كافة فروع التأمين",6.7157204223249403E-2,7.657454655571537E-2,0.73576841327367981,0.14155008212633777,0.11923349317048475,0.80411885004472972,7.5750904967563301E-2,8.1502413733438459E-2,0.74366410458056453,"TOTAL - All Types of Business Combined"]

{"sheet":"17A","index":38,"n_rows":33,"n_cols":12,"rows_kept":33,"cut":false,"hidden":false,"merged":[[13,2,13,4],[13,5,13,7],[13,8,13,10],[5,1,5,11],[6,1,6,11],[7,1,7,11],[8,1,8,11],[9,1,9,11],[12,1,15,1],[12,2,12,4],[12,5,12,7],[12,8,12,10],[12,11,15,11]]}
[]
[]
[]
[]
[]
[null,"نسبة العمولات ونسبة المصاريف والنسبة المجمعة (الصافية) حسب فرع التأمين"]
[null,"الشركات الوطنية والاجنبية"]
[null,"Net Commission, Expense & Combined Ratios by Line of Business"]
[null,"National & Foreign Companies"]
[null,"(2025)"]
[null,"جدول رقم 17A",null,null,null,null,null,null,null,null,null,"TABLE 17A"]
[]
[null,"فروع التأمين","الشركات الوطنية",null,null,"الشركات الأجنبية",null,null,"الاجمالي",null,null,"Line of Business"]
[null,null,"NATIONAL COMPANIES",null,null,"FOREIGN COMPANIES",null,null,"TOTAL"]
[null,null,"نسبة العمولات","نسبة المصاريف","النسبة المجمعة","نسبة العمولات","نسبة المصاريف","النسبة المجمعة","نسبة العمولات","نسبة المصاريف","النسبة المجمعة"]
[null,null,"Commission Ratio","Expense Ratio","Combined Ratio","Commission Ratio","Expense Ratio","Combined Ratio","Commission Ratio","Expense Ratio","Combined Ratio"]
[null,"تأمين الحريق",1.9229775114025131E-2,0.38419222811309428,0.944450110645083,0.21188692456222924,0.29667794847836226,1.0322683405071025,6.5598672493730456E-2,0.3631292119558211,0.96558628181860129,"Fire"]
[null,"التأمين البحري والطيران",5.819069155678154E-2,0.39830154066803924,1.1134849786529541,0.21572099468295708,0.27098720380399638,0.89634103519402553,0.11368465061679722,0.35345190566145057,1.0369906352199421,"Marine & Aviation"]
[null,"تأمين السيارات والمركبات الأخرى",0.13130893372338431,0.14810536811585731,1.0552463872128544,0.18166415172400338,0.14383421088612014,0.99384986735703928,0.14533707952265809,0.14691549308940749,1.0381423140640738,"Motor & Transportation"]
[null,"التأمين الهندسي والانشاءات والطاقة",-5.9754383722458705E-2,0.45980268834677912,0.86152897168678033,0.1185702030539605,0.39715057598322451,0.37013151325846561,-3.3813120801218816E-2,0.45068855019693566,0.79004432171027117,"Engineering, Construction & Energy"]
[null,"أخرى",-2.3022627243525977E-3,0.37775660961512719,0.5291187399098346,0.1198879423352423,0.36099492902083036,0.64426023296500223,1.6495946819283774E-2,0.37517792841918834,0.54683254857856178,"Other"]
[null,"اعادة التأمين غير النسبية - المسؤوليات والممتلكات",0.58098769899358504,0.22458952317236064,0.78940582124885272,"","","",0.58098769899358504,0.22458952317236064,0.78940582124885272,"Reinsurance - Property & Liability"]
[null,"المجموع - تأمين الممتلكات والمسؤوليات",8.3773870574756659E-2,0.23899818174561493,0.95170583229046968,0.17993655011169038,0.19358348476230361,0.94373941346540624,0.10815567659755898,0.22748339931896516,0.94968596679353834,"Total - Property & Liability Insurance"]
[]
[null,"المجموع - تأمين صحي",5.949611855329557E-2,0.12258220360406263,0.9366912157821492,6.0932917296138492E-2,0.15807023166722109,1.0169573448599243,5.9993064525969142E-2,0.13485645753973827,0.96445288371650006,"Total - Health Insurance"]
[]
[null,"تأمين حياة جماعي ",0.22436108041311334,0.24145194973048253,0.90258058368335137,-8.7596973322683291E-2,0.87717418521161172,1.029610612895703,0.18494494517224322,0.32177593338558746,0.91863092362849763,"Group Life"]
[null,"تأمين ائتمان حياة جماعي ",0.19734084719676462,0.32729690540258521,0.70767020744698605,-0.33125623130608173,0.90079760717846458,0.54012961116650049,0.18883827009343776,0.33652176519460769,0.70497528744885274,"Group Credit Life"]
[null,"تأمين حياة فردي",0.1101119323031842,0.10924731415103014,1.1174958578897547,2.988594305865486E-2,0.10729745247795487,1.3941155652279127,5.0013559772709729E-2,0.10778664642583456,1.3247154182520231,"Individual Life"]
[null,"دفعات الحياة وتكوين الأموال","","","",2.9511184903224321E-2,1.488051813416132E-2,1.5339779474906481,2.9511184903224321E-2,1.488051813416132E-2,1.5339779474906481,"Annuities & Fund Accumulation"]
[null,"المجموع - تأمين الأشخاص وعمليات تكوين الأموال",0.1415479470617742,0.15909496829946068,1.0300944316273974,2.8066397416238224E-2,0.11724012070387997,1.3895816123146145,6.4377763498250765E-2,0.13063266511393737,1.2745543619774702,"Total - Insurance of Persons & Fund Accumulation"]
[]
[null,"المجموع - كافة فروع التأمين",7.513157837341447E-2,0.16708807521940533,0.95000234394391436,7.499892430998284E-2,0.15285372394253532,1.1152451412041249,7.508194704294166E-2,0.1617624200980112,1.0118264574834137,"TOTAL - All Types of Business Combined"]

{"sheet":"17B","index":39,"n_rows":33,"n_cols":12,"rows_kept":33,"cut":false,"hidden":false,"merged":[[13,2,13,4],[13,5,13,7],[13,8,13,10],[5,1,5,11],[6,1,6,11],[7,1,7,11],[8,1,8,11],[9,1,9,11],[12,1,15,1],[12,2,12,4],[12,5,12,7],[12,8,12,10],[12,11,15,11]]}
[]
[]
[]
[]
[]
[null,"نسبة العمولات ونسبة المصاريف والنسبة المجمعة (الصافية) حسب فرع التأمين"]
[null," شركات التأمين التقليدي الوطنية وشركات التأمين التكافلي الوطنية "]
[null,"Net Commission, Expense & Combined Ratios by Line of Business"]
[null,"Traditional & Takaful National Companies"]
[null,"(2025)"]
[null,"جدول رقم 17B",null,null,null,null,null,null,null,null,null,"TABLE 17B"]
[]
[null,"فروع التأمين","شركات التأمين التقليدي الوطنية",null,null,"شركات التأمين التكافلي الوطنية",null,null,"الشركات الوطنية",null,null,"Line of Business"]
[null,null,"TRADITIONAL COMPANIES",null,null,"TAKAFUL OPERATORS",null,null,"NATIONAL COMPANIES"]
[null,null,"نسبة العمولات","نسبة المصاريف","النسبة المجمعة","نسبة العمولات","نسبة المصاريف","النسبة المجمعة","نسبة العمولات","نسبة المصاريف","النسبة المجمعة"]
[null,null,"Commission Ratio","Expense Ratio","Combined Ratio","Commission Ratio","Expense Ratio","Combined Ratio","Commission Ratio","Expense Ratio","Combined Ratio"]
[null,"تأمين الحريق",1.607416574666453E-2,0.36165018723385417,0.94062029765822786,4.7831679283149242E-2,0.58850943532932765,0.97916288123345208,1.9229775114025131E-2,0.38419222811309428,0.944450110645083,"Fire"]
[null,"التأمين البحري والطيران",5.2485152238508373E-2,0.39813116170343044,1.1475857377525989,0.10634626142285622,0.39973956355706763,0.82566968272644314,5.819069155678154E-2,0.39830154066803924,1.1134849786529541,"Marine & Aviation"]
[null,"تأمين السيارات والمركبات الأخرى",0.10984196813118866,0.15268721479617348,1.0368595664868778,0.21069381941663684,0.13116168907473852,1.1232408904566966,0.13130893372338431,0.14810536811585731,1.0552463872128544,"Motor & Transportation"]
[null,"التأمين الهندسي والانشاءات والطاقة",-0.10352473475044836,0.47054174738532195,0.82420587022853697,0.27212568201597631,0.3783758883331943,1.1445240374015413,-5.9754383722458705E-2,0.45980268834677912,0.86152897168678033,"Engineering, Construction & Energy"]
[null,"أخرى",-3.7681437552679657E-2,0.38626268940798303,0.4984687795594685,0.16648459270608193,0.33717583102876603,0.67534347385879245,-2.3022627243525977E-3,0.37775660961512719,0.5291187399098346,"Other"]
[null,"اعادة التأمين غير النسبية - المسؤوليات والممتلكات",0.58098769899358504,0.22458952317236064,0.78940582124885272,"","-","-",0.58098769899358504,0.22458952317236064,0.78940582124885272,"Reinsurance - Property & Liability"]
[null,"المجموع - تأمين الممتلكات والمسؤوليات",5.8868333466524043E-2,0.24674599778268352,0.93111450434416265,0.1943528524862477,0.2045983771682883,1.0431300031731612,8.3773870574756659E-2,0.23899818174561493,0.95170583229046968,"Total - Property & Liability Insurance"]
[null,null,"","","","","","","","",""]
[null,"المجموع - تأمين صحي",5.274299283218465E-2,0.11265785524759248,0.93093810407771926,0.13502117952674755,0.23357332766992492,1.0010324009174796,5.949611855329557E-2,0.12258220360406263,0.9366912157821492,"Total - Health Insurance"]
[]
[null,"تأمين حياة جماعي ",0.23238621410525151,0.23321325338504498,0.90064829660951506,-5.8337879182480505E-2,0.53167401638102052,0.97064867654872478,0.22436108041311334,0.24145194973048253,0.90258058368335137,"Group Life"]
[null,"تأمين ائتمان حياة جماعي ",3.1424727206059093E-2,0.25398458867010704,0.59666897599967039,0.32414383777108441,0.38332654862309173,0.79250396625077402,0.19734084719676462,0.32729690540258521,0.70767020744698605,"Group Credit Life"]
[null,"تأمين حياة فردي",6.5579760366412054E-2,9.2947144415824551E-2,1.2286485694382163,0.37056278282798844,0.20458048310718799,0.46740813474796167,0.1101119323031842,0.10924731415103014,1.1174958578897547,"Individual Life"]
[null,"دفعات الحياة وتكوين الأموال","-","-","-","-","-","-","-","-","-","Annuities & Fund Accumulation"]
[null,"المجموع - تأمين الأشخاص وعمليات تكوين الأموال",0.10023133463419037,0.13350825047619219,1.1184251085851773,0.34011435011083252,0.28206396855093563,0.60557984120359754,0.1415479470617742,0.15909496829946068,1.0300944316273974,"Total - Insurance of Persons & Fund Accumulation"]
[]
[null,"المجموع - كافة فروع التأمين",5.8615502003547947E-2,0.15885869250677462,0.9461532310810723,0.18975015227435693,0.22419849839035516,0.97671448896206581,7.513157837341447E-2,0.16708807521940533,0.95000234394391436,"TOTAL - All Types of Business Combined"]

{"sheet":"18","index":40,"n_rows":34,"n_cols":7,"rows_kept":34,"cut":false,"hidden":false,"merged":[[5,1,5,6],[6,1,6,6],[7,1,7,6],[12,1,13,1],[12,6,13,6]]}
[]
[]
[]
[]
[]
[null,"تحليل الربحية للتأمين على المركبات"]
[null,"Motor Profitability Analysis"]
[null,"(2025)"]
[]
[]
[null,"جدول رقم 18",null,null,null,null,"TABLE 18"]
[null,"بالألف درهم ",null,null,null,null,"AED in 000's"]
[null,"البيــــــــان","تأمين المركبات الشامل - أفراد","تأمين المركبات المسؤولية المدنية - أفراد","تأمين المركبات - تجاري","الاجمالي","DESCRIPTION"]
[null,null,"Personal Motor - Comprehensive","Personal Motor - Third Party Liability","Commercial Motor","TOTAL"]
[null,"Gross of Reinsurance (إجمالي من إعادة التأمين)"]
[null,"الأقساط المكتسبة",5848973.6009802613,1696033.8159131648,1609975.2356947854,9154982.652588211,"Earned Premium"]
[null,"المطالبات المتكبدة",3634016.1134151383,1567279.2066479991,1395000.0462419526,6596295.3663050905,"Losses Incurred"]
[null,"العمولات",842372.89845993405,316909.01858822926,186802.13140287992,1346084.0484510432,"Commission"]
[null,"المصاريف",725142.08817017439,229286.71428091801,189680.22696257284,1144109.0294136652,"Expenses"]
[null,"الأرباح / (الخسائر)",{"$f":"C16-C17-C18-C19","v":647442.50093501445},-417441.12360398163,-161507.16891261996,68494.208418412134,"Profit / (Loss)"]
[null,"نسبة الخسارة",{"$f":"C17/C16","v":0.62130834593031736},0.92408488082188234,0.86647298375365367,0.7205142397992691,"Loss Ratio"]
[null,"نسبة العمولات",{"$f":"C18/C16","v":0.14402063608540758},0.18685300706554703,0.11602795326368197,0.14703294364741271,"Commission Ratio"]
[null,"نسبة المصاريف",{"$f":"C19/C16","v":0.12397766473909951},0.13518994263535206,0.11781561775434159,0.12497118485420761,"Expense Ratio"]
[null,"النسبة المجمعة",{"$f":"SUM(C21:C23)","v":0.88930664675482451},{"$f":"SUM(D21:D23)","v":1.2461278305227814},{"$f":"SUM(E21:E23)","v":1.1003165547716773},{"$f":"SUM(F21:F23)","v":0.99251836830088935},"Combined Ratio"]
[null,"Net of Reinsurance (صافي من إعادة التأمين)"]
[null,"الأقساط المكتسبة",4801913.5304547353,1561114.3467989252,1424503.6169053786,7787531.4941590391,"Earned Premium"]
[null,"المطالبات المتكبدة",3184088.6592977368,1427911.5340044554,1196639.6594254647,5808639.8527276563,"Losses Incurred"]
[null,"العمولات",655093.34188146237,297426.96028709877,179296.78188323567,1131817.0840517967,"Commission"]
[null,"المصاريف",725142.08817017439,229286.71428091801,189680.22696257284,1144109.0294136652,"Expenses"]
[null,"الأرباح / (الخسائر)",{"$f":"C26-C27-C28-C29","v":237589.44110536168},-393510.86177354702,-141113.05136589456,-297034.47203407902,"Profit / (Loss)"]
[null,"نسبة الخسارة",{"$f":"C27/C26","v":0.66308746275908215},0.9146745316461905,0.8400397480387376,0.74588974145200815,"Loss Ratio"]
[null,"نسبة العمولات",{"$f":"C28/C26","v":0.13642339407545012},0.19052221312101489,0.12586614716552544,0.14533707952265809,"Commission Ratio"]
[null,"نسبة المصاريف",{"$f":"C29/C26","v":0.15101106747782364},0.14687374742988676,0.1331553143926992,0.14691549308940746,"Expense Ratio"]
[null,"النسبة المجمعة",{"$f":"SUM(C31:C33)","v":0.95052192431235594},1.252070492197092,1.0990612095969623,1.0381423140640738,"Combined Ratio"]

{"sheet":"19","index":41,"n_rows":34,"n_cols":7,"rows_kept":34,"cut":false,"hidden":false,"merged":[[5,1,5,6],[6,1,6,6],[7,1,7,6],[12,1,13,1],[12,6,13,6]]}
[]
[]
[]
[]
[]
[null,"تحليل الربحية للتأمين الصحي"]
[null,"Health Profitability Analysis"]
[null,"(2025)"]
[]
[]
[null,"جدول رقم 19",null,null,null,null,"TABLE 19"]
[null,"بالألف درهم ",null,null,null,null,"AED in 000's"]
[null,"البيــــــــان","التأمين الصحي الفردي","التأمين الصحي الجماعي","تأمين الحوادث الشخصية ","الاجمالي","DESCRIPTION"]
[null,null,"Health Insurance, Individual","Health Insurance, Group","Personal Accident Insurance","TOTAL"]
[null,"Gross of Reinsurance (إجمالي من إعادة التأمين)"]
[null,"الأقساط المكتسبة",1482263.7322801487,32783228.388324477,529534.21093931678,34795026.331543945,"Earned Premium"]
[null,"المطالبات المتكبدة",985584.84748868679,26317050.868644565,128262.1502784621,27430897.866411716,"Losses Incurred"]
[null,"العمولات",186527.97704613963,1824621.0025289771,68928.091480626754,2080077.0710557434,"Commission"]
[null,"المصاريف",192796.95724423893,2583396.4332735231,104745.21489075688,2880938.6054085186,"Expenses"]
[null,"الأرباح / (الخسائر)",{"$f":"C16-C17-C18-C19","v":117353.95050108328},{"$f":"D16-D17-D18-D19","v":2058160.0838774117},227598.75428947108,{"$f":"F16-F17-F18-F19","v":2403112.7886679666},"Profit / (Loss)"]
[null,"نسبة الخسارة",{"$f":"C17/C16","v":0.66491868216499728},0.80275958660670543,0.24221692881928,{"$f":"F17/F16","v":0.78835686471499611},"Loss Ratio"]
[null,"نسبة العمولات",{"$f":"C18/C16","v":0.12583993859122888},{"$f":"D18/D16","v":5.5657148250195014E-2},0.13016740005968327,{"$f":"F18/F16","v":5.9780873600604773E-2},"Commission Ratio"]
[null,"نسبة المصاريف",{"$f":"C19/C16","v":0.13006926705793553},7.8802380371836178E-2,0.19780632247528271,{"$f":"F19/F16","v":8.2797425642318345E-2},"Expense Ratio"]
[null,"النسبة المجمعة",{"$f":"SUM(C21:C23)","v":0.92082788781416169},{"$f":"SUM(D21:D23)","v":0.93721911522873658},{"$f":"SUM(E21:E23)","v":0.57019065135424596},{"$f":"SUM(F21:F23)","v":0.93093516395791931},"Combined Ratio"]
[null,"Net of Reinsurance (صافي من إعادة التأمين)"]
[null,"الأقساط المكتسبة",825689.74457527744,20197411.393087991,339899.62601606804,21363000.763679337,"Earned Premium"]
[null,"المطالبات المتكبدة",443717.55730252294,15896178.797521483,101140.84785206019,16441037.202676067,"Losses Incurred"]
[null,"العمولات",161686.52446270542,1066028.4110063473,53916.947814689673,1281631.8832837425,"Commission"]
[null,"المصاريف",192796.95724423893,2583396.4332735231,104745.21489075688,2880938.6054085186,"Expenses"]
[null,"الأرباح / (الخسائر)",{"$f":"C26-C27-C28-C29","v":27488.705565810145},{"$f":"D26-D27-D28-D29","v":651807.75128663704},{"$f":"E26-E27-E28-E29","v":80096.615458561282},{"$f":"F26-F27-F28-F29","v":759393.07231100835},"Profit / (Loss)"]
[null,"نسبة الخسارة",{"$f":"C27/C26","v":0.53739017617418106},0.7870404027598068,0.29756092714052873,{"$f":"F27/F26","v":0.76960336165079257},"Loss Ratio"]
[null,"نسبة العمولات",{"$f":"C28/C26","v":0.19581994995695939},5.2780447467201973E-2,0.15862608749131388,{"$f":"F28/F26","v":5.9993064525969142E-2},"Commission Ratio"]
[null,"نسبة المصاريف",{"$f":"C29/C26","v":0.23349806451018817},0.12790730371306985,0.30816513721555333,{"$f":"F29/F26","v":0.13485645753973827},"Expense Ratio"]
[null,"النسبة المجمعة",{"$f":"SUM(C31:C33)","v":0.96670819064132862},0.96772815394007861,0.76435215184739591,{"$f":"SUM(F31:F33)","v":0.96445288371649995},"Combined Ratio"]

{"sheet":"20A","index":42,"n_rows":37,"n_cols":9,"rows_kept":37,"cut":false,"hidden":false,"merged":[[24,1,25,8],[26,8,28,8],[27,2,27,3],[27,4,27,5],[27,6,27,7],[26,1,28,1],[26,2,26,3],[26,4,26,5],[26,6,26,7],[5,1,5,8],[7,1,7,8],[12,1,14,1],[12,2,12,3],[12,4,12,5],[12,6,12,7],[12,8,14,8],[13,2,13,3],[13,4,13,5],[13,6,13,7],[8,1,8,8],[6,1,6,8]]}
[]
[]
[]
[]
[]
[null,"الموجودات المستثمرة حسب الفئة"]
[null,"الشركات الوطنية والاجنبية"]
[null,"Invested Assets by Class"]
[null,"National & Foreign Companies"]
[]
[null,"جدول رقم 20A",null,null,null,null,null,null,"TABLE 20A"]
[null,"بالألف درهم ",null,null,null,null,null,null,"AED in 000's"]
[null,"فروع التأمين","الشركات الوطنية",null,"الشركات الأجنبية",null,"الاجمالي",null,"Asset Class"]
[null,null,"NATIONAL COMPANIES",null,"FOREIGN COMPANIES",null,"TOTAL"]
[null,null,2024,2025,2024,2025,2024,2025]
[null,"استثمارات عقارية ",3984316.04195375,4072133.25092,77480.844649999999,90499.641759999984,{"$f":"E16+C16","v":4061796.8866037498},{"$f":"F16+D16","v":4162632.89268},"Real estate investments"]
[null,"الأوراق المالية وسندات الدين ",15539267.479872396,19691325.962187283,20768329.479192935,24018169.122756224,{"$f":"E17+C17","v":36307596.959065333},{"$f":"F17+D17","v":43709495.084943503},"Equity and debt securities"]
[null,"النقد والودائع ",18338579.165128686,19846721.113245923,6687110.6986826621,7170463.2765281331,{"$f":"E18+C18","v":25025689.863811348},27017184.389774054,"Cash and deposits "]
[null,"قروض مضمونة بوثائق التأمين على الحياة",40126.112000000001,40316.139000000003,68286.261679999996,65167.795833200005,108412.37367999999,105483.93483320001,"Loans secured by Life policies"]
[null,"قروض وودائع وأدوات مالية أخرى مصنفة A",3672826.5477807494,4221376.6897921804,1265937.6105418191,1580525.4164371856,4938764.158322569,5801902.1062293658,"Loans, Deposits and Other Instruments that are A Rated"]
[null,"الاستثمار في الشركات الزميلة",476570.62644337746,291245.63376516581,48803.364280000002,52836.172410000006,{"$f":"E21+C21","v":525373.99072337744},344081.80617516581,"Investment in associates"]
[null,"موجودات مستثمرة أخرى",6502206.1517209988,7162278.4362802375,7428674.6254265429,8080476.7271227017,{"$f":"E22+C22","v":13930880.777147543},{"$f":"F22+D22","v":15242755.163402939},"Other invested assets"]
[null,"إجمالي الموجودات المستثمرة",{"$f":"SUM(C16,C17:C22)","v":48553892.124899969},{"$f":"SUM(D16,D17:D22)","v":55325397.225190789},{"$f":"SUM(E16,E17:E22)","v":36344622.88445396},41058138.152847439,{"$f":"SUM(G16,G17:G22)","v":84898515.009353921},96383535.378038228,"Total Invested Assets"]
[]
[null,"Percent of Total (النسبة من الإجمالي)"]
[]
[null,"فروع التأمين","الشركات الوطنية",null,"الشركات الأجنبية",null,"الاجمالي",null,"Asset Class"]
[null,null,"NATIONAL COMPANIES",null,"FOREIGN COMPANIES",null,"TOTAL"]
[null,null,2024,2025,2024,2025,2024,2025]
[null,"استثمارات عقارية ",{"$f":"C16/C$23","v":8.2059663346956829E-2},7.3603326051961432E-2,2.1318379034039074E-3,2.2041827961875983E-3,4.7842967408278349E-2,4.3188215459758802E-2,"Real estate investments"]
[null,"الأوراق المالية وسندات الدين ",0.32004164444529398,0.35591838377658169,0.57142784354150977,0.58497949988242537,0.42765879892086506,0.45349545348699738,"Equity and debt securities"]
[null,"النقد والودائع ",0.37769534763463553,0.35872713272105172,0.18399174810376159,0.1746417056183745,0.29477182093295834,0.28030912420681076,"Cash and deposits "]
[null,"قروض مضمونة بوثائق التأمين على الحياة",8.2642421119978691E-4,7.2870943584736234E-4,1.8788545941746102E-3,1.5872077684233846E-3,1.2769643104835859E-3,1.0944186101855254E-3,"Loans secured by Life policies"]
[null,"قروض وودائع وأدوات مالية أخرى مصنفة A",7.5644328127862023E-2,7.6300883527504096E-2,3.4831496658156574E-2,3.8494814610281446E-2,5.8172562356107495E-2,6.0195987659852707E-2,"Loans, Deposits and Other Instruments that are A Rated"]
[null,"الاستثمار في الشركات الزميلة",9.8152919485310838E-3,5.2642303240898504E-3,1.3427946256356711E-3,1.2868623563325348E-3,6.1882588955235905E-3,3.5699230664822412E-3,"Investment in associates"]
[null,"موجودات مستثمرة أخرى",0.13391730028552051,0.12945733416296387,0.2043954245733578,0.19680572696797527,0.1640886271757836,0.1581468775099126,"Other invested assets"]
[null,"إجمالي الموجودات المستثمرة",{"$f":"C23/C$23","v":1},1,1,1,1,1,"Total Invested Assets"]

{"sheet":"20B","index":43,"n_rows":37,"n_cols":9,"rows_kept":37,"cut":false,"hidden":false,"merged":[[24,1,25,8],[26,1,28,1],[26,2,26,3],[26,4,26,5],[26,6,26,7],[26,8,28,8],[27,2,27,3],[27,4,27,5],[27,6,27,7],[5,1,5,8],[7,1,7,8],[12,1,14,1],[12,2,12,3],[12,4,12,5],[12,6,12,7],[12,8,14,8],[13,2,13,3],[13,4,13,5],[13,6,13,7],[8,1,8,8],[6,1,6,8]]}
[]
[]
[]
[]
[]
[null,"الموجودات المستثمرة حسب الفئة"]
[null," شركات التأمين التقليدي الوطنية وشركات التأمين التكافلي الوطنية "]
[null,"Invested Assets by Class"]
[null,"Traditional & Takaful National Companies"]
[]
[null,"جدول رقم 20B",null,null,null,null,null,null,"TABLE 20B"]
[null,"بالألف درهم ",null,null,null,null,null,null,"AED in 000's"]
[null,"فروع التأمين","شركات التأمين التقليدي الوطنية",null,"شركات التأمين التكافلي الوطنية",null,"الشركات الوطنية",null,"Asset Class"]
[null,null,"TRADITIONAL COMPANIES",null,"TAKAFUL OPERATORS",null,"NATIONAL COMPANIES"]
[null,null,2024,2025,2024,2025,2024,2025]
[null,"استثمارات عقارية ",3390071.2770537501,3556118.1249199999,594244.76489999995,516015.12599999999,{"$f":"E16+C16","v":3984316.04195375},{"$f":"F16+D16","v":4072133.25092},"Real estate investments"]
[null,"الأوراق المالية وسندات الدين ",14243166.459610514,18272336.765988477,1296101.0202618807,1418989.1961988064,{"$f":"E17+C17","v":15539267.479872394},{"$f":"F17+D17","v":19691325.962187283},"Equity and debt securities"]
[null,"النقد والودائع ",16031217.046379216,17197984.463787198,2307362.11874947,2648736.6494587236,{"$f":"E18+C18","v":18338579.165128686},19846721.113245923,"Cash and deposits "]
[null,"قروض مضمونة بوثائق التأمين على الحياة",40126.112000000001,40316.139000000003,0,0,40126.112000000001,40316.139000000003,"Loans secured by Life policies"]
[null,"قروض وودائع وأدوات مالية أخرى مصنفة A",3450503.8104834403,3988330.7704063845,222322.73729730886,233045.91938579583,3672826.5477807494,4221376.6897921804,"Loans, Deposits and Other Instruments that are A Rated"]
[null,"الاستثمار في الشركات الزميلة",291043.91019937745,252014.39276516583,185526.71624400001,39231.241000000002,{"$f":"E21+C21","v":476570.62644337746},291245.63376516581,"Investment in associates"]
[null,"موجودات مستثمرة أخرى",3851739.807766309,4558144.8198580742,2650466.3439546898,2604133.6164221633,{"$f":"E22+C22","v":6502206.1517209988},{"$f":"F22+D22","v":7162278.4362802375},"Other invested assets"]
[null,"إجمالي الموجودات المستثمرة",{"$f":"SUM(C16,C17:C22)","v":41297868.42349261},{"$f":"SUM(D16,D17:D22)","v":47865245.476725303},{"$f":"SUM(E16,E17:E22)","v":7256023.7014073487},{"$f":"SUM(F16,F17:F22)","v":7460151.7484654887},48553892.124899961,55325397.225190789,"Total Invested Assets"]
[]
[null,"Percent of Total (النسبة من الإجمالي)"]
[]
[null,"فروع التأمين","شركات التأمين التقليدي الوطنية",null,"شركات التأمين التكافلي الوطنية",null,"الشركات الوطنية",null,"Asset Class"]
[null,null,"TRADITIONAL COMPANIES",null,"TAKAFUL OPERATORS",null,"NATIONAL COMPANIES"]
[null,null,2024,2025,2024,2025,2024,2025]
[null,"استثمارات عقارية ",{"$f":"C16/C$23","v":8.2088287034332311E-2},7.4294367228288402E-2,8.1896750803713975E-2,6.9169521398293465E-2,8.2059663346956843E-2,7.3603326051961432E-2,"Real estate investments"]
[null,"الأوراق المالية وسندات الدين ",{"$f":"C17/C$23","v":0.34488865898725607},0.38174538924852031,0.17862414369050286,0.19020915981912626,0.32004164444529404,0.35591838377658169,"Equity and debt securities"]
[null,"النقد والودائع ",{"$f":"C18/C$23","v":0.38818509667340928},0.35930003685345763,0.31799263807558176,0.35505130978113869,0.37769534763463558,0.35872713272105172,"Cash and deposits "]
[null,"قروض مضمونة بوثائق التأمين على الحياة",{"$f":"C19/C$23","v":9.716267093624123E-4},8.4228417922987389E-4,0,0,8.2642421119978702E-4,7.2870943584736234E-4,"Loans secured by Life policies"]
[null,"قروض وودائع وأدوات مالية أخرى مصنفة A",{"$f":"C20/C$23","v":8.3551620027938159E-2},8.3324147420192979E-2,3.0639747945446768E-2,3.1238763934491289E-2,7.5644328127862037E-2,7.6300883527504096E-2,"Loans, Deposits and Other Instruments that are A Rated"]
[null,"الاستثمار في الشركات الزميلة",{"$f":"C21/C$23","v":7.0474317757721096E-3},5.2650809633413244E-3,2.5568648047279117E-2,5.2587725186782758E-3,9.8152919485310856E-3,5.2642303240898504E-3,"Investment in associates"]
[null,"موجودات مستثمرة أخرى",{"$f":"C22/C$23","v":9.3267278791929545E-2},9.5228694106969394E-2,0.36527807143747559,0.34907247254827212,0.13391730028552054,0.12945733416296387,"Other invested assets"]
[null,"إجمالي الموجودات المستثمرة",{"$f":"C30+C31+C32+C33+C34+C35+C36","v":1},{"$f":"D30+D31+D32+D33+D34+D35+D36","v":1},1,1,0.99999999999999989,1,"Total Invested Assets"]

{"sheet":"21A","index":44,"n_rows":54,"n_cols":9,"rows_kept":54,"cut":false,"hidden":false,"merged":[[5,1,5,8],[7,1,7,8],[12,1,14,1],[12,2,12,3],[12,4,12,5],[12,6,12,7],[12,8,14,8],[13,2,13,3],[13,4,13,5],[13,6,13,7],[8,1,8,8],[6,1,6,8]]}
[]
[]
[]
[]
[]
[null,"قائمة المركز المالي"]
[null,"الشركات الوطنية والاجنبية"]
[null,"Statement of Financial Position"]
[null,"National & Foreign Companies"]
[]
[null,"جدول رقم 21A",null,null,null,null,null,null,"TABLE 21A"]
[null,"بالألف درهم ",null,null,null,null,null,null,"AED in 000's"]
[null,"البيــــــــان","الشركات الوطنية",null,"الشركات الأجنبية",null,"الاجمالي",null,"DESCRIPTION"]
[null,null,"NATIONAL COMPANIES",null,"FOREIGN COMPANIES",null,"TOTAL"]
[null,null,2024,2025,2024,2025,2024,2025]
[null,"الموجودات",null,null,null,null,null,null,"Assets"]
[null,"إجمالي الموجودات المستثمرة",48553892.128498837,55325397.230860725,36344622.890205674,41058138.156007685,{"$f":"C17+E17","v":84898515.018704504},{"$f":"D17+F17","v":96383535.386868417},"Total Invested Assets"]
[null,"مستردات إعادة التأمين",30644594.832427345,27863437.685044181,4890043.8650119305,4783633.7522266721,{"$f":"C18+E18","v":35534638.697439276},{"$f":"D18+F18","v":32647071.437270854},"Reinsurance recoverable"]
[null,"ذمم إعادة التأمين المدينة",2374152.8284471338,1430686.5750455125,360576.26053434995,463880.72495405137,2734729.0889814836,1894567.299999564,"Reinsurance receivables"]
[null,"ذمم تأمين مدينة",10008811.268116115,10113051.889027975,3131237.443075656,3714979.4140280117,13140048.71119177,13828031.303055987,"Insurance receivables"]
[null,"ذمم مدينة ودفعات مقدمة أخرى ",5699916.0739385877,5950891.8140325397,1954107.4011290004,1634219.1873911356,7654023.4750675876,7585111.0014236756,"Other receivables and prepayments"]
[null,"تكاليف الاستحواذ المؤجلة",1473084.8901360391,1856461.983931517,4527817.9221183769,4715804.3044517497,6000902.8122544158,6572266.2883832669,"Deferred policy acquisition costs "]
[null,"الممتلكات والآلات والمعدات",1440417.3242500799,1416874.410659442,152347.71907849272,152047.26878295213,1592765.0433285725,1568921.6794423941,"Property, machinery and equipment"]
[null,"ودائع قانونية إلزامية",901906.28804000001,1074870.5090399999,389813.36184494046,378057.69516765804,1291719.6498849406,1452928.2042076578,"Statutory deposits"]
[null,"الموجودات غير الملموسة",289715.76953535108,340433.05992118409,115933.80947295012,122681.82573187593,405649.5790083012,463114.88565306005,"Intangible assets"]
[null,"أخرى",2197378.7268964285,2517983.1756753288,0,0,2197378.7268964285,2517983.1756753288,"Others"]
[null,"مجموع الموجودات",{"$f":"SUM(C17:C26)","v":103583870.13028592},{"$f":"SUM(D17:D26)","v":107890088.33323841},{"$f":"SUM(E17:E26)","v":51866500.672471374},57023442.328741789,155450370.80275732,164913530.66198024,"Total Assets"]
[]
[null,"المطلوبات",null,null,null,null,null,null,"Liabilities"]
[null,"إجمالي المخصصات الفنية",54033474.013631783,54451970.362969287,38199075.64231015,41806376.1715905,{"$f":"C30+E30","v":92232549.655941933},{"$f":"D30+F30","v":96258346.534559786},"Total Technical Provisions"]
[null,"أقساط تأمين مقبوضة مقدما",303167.85781999998,328855.91006000002,14168.6339035,17412.845619800002,317336.49172349996,346268.7556798,"Premiums collected in advance"]
[null,"ذمم التأمين الدائنة",5812046.1030555544,5921320.465893765,1154883.758265934,1378943.0530638034,6966929.8613214884,7300263.5189575683,"Insurance payable"]
[null,"ذمم اعادة التأمين الدائنة",6988171.9407684943,7565033.9705761969,716633.19404357672,942955.88568459882,7704805.134812071,8507989.8562607951,"Reinsurance payables"]
[null,"عمولات اعادة التامين غير المكتسبة",545281.89793030242,575462.19453872007,110839.760860718,118285.63488568932,656121.6587910204,693747.82942440943,"Unearned reinsurance commissions"]
[null,"المصاريف المستحقة والمطلوبات الأخرى",9235766.7497412637,10003453.819553424,5015049.9309406569,5433735.0726805246,14250816.680681922,15437188.892233949,"Accrued expenses and other liabilities"]
[null,"ذمم الوكالة/المضاربة دائنة ",354970.61842599901,561758.78325599898,0,0,354970.61842599901,561758.78325599898,"Wakala / Mudaraba Payable"]
[null,"القروض",886167.38710868359,650863.91263330984,0,18364.797999999999,886167.38710868359,669228.71063330979,"Borrowings"]
[null,"تعويضات مكافآت نهاية الخدمة للموظفين",395799.35234926938,412632.02907079994,72220.609690367724,71038.217672750005,468019.96203963709,483670.24674354994,"End of service indemnity"]
[null,"أخرى",20963.206553,20983.312193000005,0,0,20963.206553,20983.312193000005,"Others"]
[null,"مجموع المطلوبات",{"$f":"SUM(C30:C39)","v":78575809.127384335},{"$f":"SUM(D30:D39)","v":80492334.760744512},{"$f":"SUM(E30:E39)","v":45282871.53001491},49787111.679197669,123858680.65739924,130279446.43994217,"Total Liabilities "]
[]
[null,"حقوق المساهمين العائدة لمساهمي الشركة الأُم",null,null,null,null,null,null,"Equity Attributable to Equityholders of Parent"]
[null,"الرصيد الصافي في حساب المشتركين",3983.2930000000001,27730.474999999999,39042.288433399975,39330.975173700012,{"$f":"C43+E43","v":43025.581433399973},{"$f":"D43+F43","v":67061.45017370001},"Net balance in participants' funds"]
[null,"رأس المال المصدر والمدفوع",6866926.3246194068,5991701.3356194068,100000,100000,6966926.3246194068,6091701.3356194068,"Issued and paid up share capital"]
[null,"علاوة إصدار",110925.311,110925.311,0,0,110925.311,110925.311,"Share premium"]
[null,"أسهم الخزينة",-40633.284999999996,-11656.553,0,0,-40633.284999999996,-11656.553,"Treasury shares"]
[null,"رأس المال الإضافي المدفوع",15000,15000,38000,38000,53000,53000,"Additional paid in capital"]
[null,"الأرباح/الخسائر المدورة",6526713.5666750632,8401717.6035551988,-74113.629291906356,-442284.93761129223,6452599.9373831572,7959432.6659439066,"Retained earnings/loss"]
[null,"حساب الشركة الأم",0.59350793460849671,0,6482511.9942427995,7455273.588367668,6482512.5877507338,7455273.588367668,"Head Office Account"]
[null,"حقوق الأقلية ",492766.61990713456,478510.81197497924,0,0,492766.61990713456,478510.81197497924,"Minority interest"]
[null,"الإحتياطيات",11032378.578376899,12383824.583726531,-1811.5082442931282,46011.026921510456,11030567.070132606,12429835.610648042,"Reserves"]
[null,"مجموع حقوق المساهمين",{"$f":"SUM(C43:C51)","v":25008061.002086438},{"$f":"SUM(D43:D51)","v":27397753.567876115},{"$f":"SUM(E43:E51)","v":6583629.1451400006},7236330.6528515862,31591690.147226434,34634084.220727704,"Total Equity"]
[]
[null,"مجموع حقوق المساهمين والمطلوبات",{"$f":"SUM(C40+C52)","v":103583870.12947077},{"$f":"SUM(D40+D52)","v":107890088.32862063},{"$f":"SUM(E40+E52)","v":51866500.675154909},57023442.332049258,155450370.80462566,164913530.66066986,"Total Equity and Liabilities"]

{"sheet":"21B","index":45,"n_rows":54,"n_cols":9,"rows_kept":54,"cut":false,"hidden":false,"merged":[[5,1,5,8],[7,1,7,8],[12,1,14,1],[12,2,12,3],[12,4,12,5],[12,6,12,7],[12,8,14,8],[13,2,13,3],[13,4,13,5],[13,6,13,7],[8,1,8,8],[6,1,6,8]]}
[]
[]
[]
[]
[]
[null,"قائمة المركز المالي"]
[null," شركات التأمين التقليدي الوطنية وشركات التأمين التكافلي الوطنية "]
[null,"Statement of Financial Position"]
[null,"Traditional & Takaful National Companies"]
[]
[null,"جدول رقم 21B",null,null,null,null,null,null,"TABLE 21B"]
[null,"بالألف درهم ",null,null,null,null,null,null,"AED in 000's"]
[null,"البيــــــــان","شركات التأمين التقليدي الوطنية",null,"شركات التأمين التكافلي الوطنية",null,"الشركات الوطنية",null,"DESCRIPTION"]
[null,null,"TRADITIONAL COMPANIES",null,"TAKAFUL OPERATORS",null,"NATIONAL COMPANIES"]
[null,null,2024,2025,2024,2025,2024,2025]
[null,"الموجودات",null,null,null,null,null,null,"Assets"]
[null,"إجمالي الموجودات المستثمرة",41297868.424615934,47865245.480067655,7256023.7038829066,7460151.7507930659,{"$f":"E17+C17","v":48553892.128498837},{"$f":"F17+D17","v":55325397.230860725},"Total Invested Assets"]
[null,"مستردات إعادة التأمين",27431806.40840653,24914488.495499302,3212788.4240208142,2948949.1895448789,{"$f":"E18+C18","v":30644594.832427345},27863437.685044181,"Reinsurance recoverable"]
[null,"ذمم إعادة التأمين المدينة",2068566.5389728618,1159070.9413240934,305586.28947427211,271615.63372141909,2374152.8284471338,1430686.5750455125,"Reinsurance receivables"]
[null,"ذمم تأمين مدينة",9140375.4803793579,9284914.4634639844,868435.78773675684,828137.42556399177,10008811.268116115,10113051.889027975,"Insurance receivables"]
[null,"ذمم مدينة ودفعات مقدمة أخرى ",4106937.5388540239,3157866.725040412,1592978.5350845642,2793025.0889921281,5699916.0739385877,5950891.8140325397,"Other receivables and prepayments"]
[null,"تكاليف الاستحواذ المؤجلة",1163756.7219133864,1465142.127837226,309328.16822265269,391319.85609429103,1473084.8901360391,1856461.983931517,"Deferred policy acquisition costs "]
[null,"الممتلكات والآلات والمعدات",1328810.0215900799,1317324.247659442,111607.30266,99550.163,1440417.3242500799,1416874.410659442,"Property, machinery and equipment"]
[null,"ودائع قانونية إلزامية",547065.59204000002,704642.24203999992,354840.696,370228.26699999999,901906.28804000001,1074870.5090399999,"Statutory deposits"]
[null,"الموجودات غير الملموسة",221882.16953535084,272806.05692118412,67833.600000000268,67627.002999999997,289715.76953535108,340433.05992118409,"Intangible assets"]
[null,"أخرى",0,0,2197378.7268964285,2517983.1756753288,{"$f":"E26+C26","v":2197378.7268964285},{"$f":"F26+D26","v":2517983.1756753288},"Others"]
[null,"مجموع الموجودات",{"$f":"SUM(C17:C26)","v":87307068.896307513},{"$f":"SUM(D17:D26)","v":90141500.779853284},{"$f":"SUM(E17:E26)","v":16276801.233978394},17748587.553385101,103583870.13028592,107890088.33323841,"Total Assets"]
[]
[null,"المطلوبات",null,null,null,null,null,null,"Liabilities"]
[null,"إجمالي المخصصات الفنية",46198860.224469185,46353060.82769797,7834613.7891626013,8098909.535271314,{"$f":"E30+C30","v":54033474.013631783},54451970.362969287,"Total Technical Provisions"]
[null,"أقساط تأمين مقبوضة مقدما",275072.58295999997,298617.88771000004,28095.274859999998,30238.022350000003,303167.85781999998,328855.91006000002,"Premiums collected in advance"]
[null,"ذمم التأمين الدائنة",5329149.9606944006,5162569.0358973108,482896.14236115408,758751.42999645427,5812046.1030555544,5921320.465893765,"Insurance payable"]
[null,"ذمم اعادة التأمين الدائنة",5874522.6215787977,6408286.1165860007,1113649.3191896963,1156747.8539901963,6988171.9407684943,7565033.9705761969,"Reinsurance payables"]
[null,"عمولات اعادة التامين غير المكتسبة",453623.53727424331,471595.16953872005,91658.360656059172,103867.02499999999,545281.89793030242,575462.19453872007,"Unearned reinsurance commissions"]
[null,"المصاريف المستحقة والمطلوبات الأخرى",5096524.5935004074,4485410.7738482961,4139242.1562408553,5518043.0457051285,9235766.7497412637,10003453.819553424,"Accrued expenses and other liabilities"]
[null,"ذمم الوكالة/المضاربة دائنة ",0,0,354970.61842599901,561758.78325599898,354970.61842599901,561758.78325599898,"Wakala / Mudaraba Payable"]
[null,"القروض",726914.38710868359,492361.91263330978,159253,158502,886167.38710868359,650863.91263330984,"Borrowings"]
[null,"تعويضات مكافآت نهاية الخدمة للموظفين",359535.0677692694,377515.08797079994,36264.28458,35116.941100000004,395799.35234926938,412632.02907079994,"End of service indemnity"]
[null,"أخرى",0,0,20963.206553,20963.206553,20963.206553,20963.206553,"Others"]
[null,"مجموع المطلوبات",{"$f":"SUM(C30:C39)","v":64314202.975354984},{"$f":"SUM(D30:D39)","v":64049416.811882406},{"$f":"SUM(E30:E39)","v":14261606.152029363},16442897.843222093,78575809.127384335,80492314.655104503,"Total Liabilities "]
[]
[null,"حقوق المساهمين العائدة لمساهمي الشركة الأُم",null,null,null,null,null,null,"Equity Attributable to Equityholders of Parent"]
[null,"الرصيد الصافي في حساب المشتركين",0,0,3983.2930000000001,27730.474999999999,{"$f":"E43+C43","v":3983.2930000000001},27730.474999999999,"Net balance in participants' funds"]
[null,"رأس المال المصدر والمدفوع",4209416.3269999996,4108477.148,2657509.9976194068,1883224.187619407,6866926.3246194068,5991701.3356194068,"Issued and paid up share capital"]
[null,"علاوة إصدار",109726.921,109726.921,1198.3900000000001,1198.3900000000001,110925.311,110925.311,"Share premium"]
[null,"أسهم الخزينة",-4660.3180000000002,-4660.3180000000002,-35972.966999999997,-6996.2349999999997,-40633.284999999996,-11656.553,"Treasury shares"]
[null,"رأس المال الإضافي المدفوع",15000,15000,0,0,{"$f":"E47+C47","v":15000},{"$f":"F47+D47","v":15000},"Additional paid in capital"]
[null,"الأرباح/الخسائر المدورة",7184820.8246539887,9075485.504103886,-658107.25797892548,-673767.90054868779,6526713.5666750632,8401717.6035551988,"Retained earnings/loss"]
[null,"حساب الشركة الأم",0.59350793460849671,0,0,0,0.59350793460849671,0,"Head Office Account"]
[null,"حقوق الأقلية ",445847.31097331969,420692.48800000001,46919.308933814842,57818.323974979205,492766.61990713456,478510.81197497924,"Minority interest"]
[null,"الإحتياطيات",11032714.261248238,12367362.220699962,-335.68287134070323,16462.363026568368,11032378.578376899,12383824.583726531,"Reserves"]
[null,"مجموع حقوق المساهمين",{"$f":"SUM(C43:C51)","v":22992865.920383483},{"$f":"SUM(D43:D51)","v":26092083.96380385},{"$f":"SUM(E43:E51)","v":2015195.0817029553},1305669.6040722665,25008061.002086438,27397753.567876115,"Total Equity"]
[]
[null,"مجموع حقوق المساهمين والمطلوبات",{"$f":"SUM(C40+C52)","v":87307068.895738468},{"$f":"SUM(D40+D52)","v":90141500.775686264},{"$f":"SUM(E40+E52)","v":16276801.233732319},17748567.447294358,103583870.12947077,107890068.22298062,"Total Equity and Liabilities"]

{"sheet":"22A","index":46,"n_rows":47,"n_cols":9,"rows_kept":47,"cut":false,"hidden":false,"merged":[[5,1,5,8],[7,1,7,8],[12,1,14,1],[12,2,12,3],[12,4,12,5],[12,6,12,7],[12,8,14,8],[13,2,13,3],[13,4,13,5],[13,6,13,7],[8,1,8,8],[6,1,6,8]]}
[]
[]
[]
[]
[]
[null,"قائمة الدخل"]
[null,"الشركات الوطنية والاجنبية"]
[null,"Income Statement"]
[null,"National & Foreign Companies"]
[]
[null,"جدول رقم 22A",null,null,null,null,null,null,"TABLE 22A"]
[null,"بالألف درهم ",null,null,null,null,null,null,"AED in 000's"]
[null,"البيــــــــان","الشركات الوطنية",null,"الشركات الأجنبية",null,"الاجمالي",null,"DESCRIPTION"]
[null,null,"NATIONAL COMPANIES",null,"FOREIGN COMPANIES",null,"TOTAL"]
[null,null,2024,2025,2024,2025,2024,2025]
[null,"الدخل الاكتتابي",null,null,null,null,null,null,"Underwriting Income"]
[null,"اجمالي الأقساط المكتتبة ",47688245.238077812,54328548.334560037,17422523.526459888,20512038.160574526,{"$f":"E17+C17","v":65110768.7645377},{"$f":"F17+D17","v":74840586.495134562},"Gross Written Premium "]
[null,"صافي الأقساط المكتتبة ",22371557.977134526,26625944.070873704,13358331.196247252,15272730.436686037,{"$f":"E18+C18","v":35729889.173381776},{"$f":"F18+D18","v":41898674.507559739},"Net Written Premium "]
[null,"صافي الأقساط المكتسبة",20685320.794203471,24993554.322356019,12578452.379562991,14941249.343513677,33263773.173766464,39934803.665869698,"Net Premiums Earned"]
[null,"صافي المطالبات ومصاريف تسوية المطالبات المدفوعة ",13458609.543764412,16199260.340297595,9090169.976732064,9876522.9770250022,22548779.520496476,26075783.317322597,"Net Claims & Claim Related Expenses Paid"]
[null,"صافي المطالبات ومصاريف تسوية المطالبات المتكبدة",15172719.75554812,17690005.130481664,9780205.8985043298,13258752.506901331,24952925.654052451,30948757.637382995,"Net Claims & Claim Related Expenses Incurred"]
[null,"أجر الوكالة/حصة المضاربة المكتسبة",-1106.011,-1221.28,0,0,-1106.011,-1221.28,"Wakala / Mudaraba Fees Earned"]
[null,"صافي العمولات المدفوعة",1492913.2509781704,2214383.7972533144,1110271.7277310926,1301118.1386440524,2603184.9787092628,3515501.9358973671,"Net Commissions Paid"]
[null,"صافي العمولات المتكبدة",1239188.4259791682,1877805.1858226487,1089997.3325332287,1120577.6287986615,2329185.7585123968,2998382.8146213102,"Net Commissions Incurred"]
[null,"تكاليف الاستحواذ الأخرى",898029.30008273083,865213.51307400537,388461.13018070121,408051.75078495831,1286490.430263432,1273265.2638589637,"Other Acquisition Expenses"]
[null,"مصاريف عمومية ",2601130.7355341744,2882906.458134939,1522014.6107202454,1662763.3986262525,4123145.3462544195,4545669.856761191,"General Expenses"]
[null,"الضرائب والتراخيص والرسوم",356027.97175011889,440467.78252064425,112375.0131153,213010.44560237613,468402.98486541887,653478.22812302038,"Taxes, Licenses and Fees"]
[null,"تكاليف الإكتتاب الاخرى",{"$f":"SUM(C25:C27)","v":3855188.0073670242},4188587.7537295888,2022850.7540162466,2283825.5950135868,5878038.7613832708,6472413.3487431761,"Other Underwriting Expenses"]
[null,"صافي دخل / (خسارة) الاكتتاب",{"$f":"C19-C21-C24-C28","v":418224.60530915949},1237156.2523221173,-314601.60549081443,-1721906.3871999027,103622.99981834553,-484750.13487778418,"Net Underwriting Income / (Loss)"]
[]
[null,"الدخل الاستثماري",null,null,null,null,null,null,"Investment Income"]
[null,"دخل مكتسب من الاستثمارات العقارية",142814.49262999999,156599.12513420003,3378.5298080030002,3131.0941100000005,{"$f":"E32+C32","v":146193.02243800298},159730.21924420004,"Earned Income from Real Estate Investments"]
[null,"دخل مكتسب من الاستثمارات الاخرى",1996193.5292635248,2200225.0054133506,467002.35291812068,478214.61093431385,{"$f":"E33+C33","v":2463195.8821816454},{"$f":"F33+D33","v":2678439.6163476645},"Earned Income from Other Investments"]
[null,"صافي الربح / (الخسارة) المحققة على الاستثمارات",86026.734170206619,116007.21623999998,675068.71678297676,439886.22784960014,761095.45095318335,555893.44408960012,"Net Realized Gain / (Loss) on Investments"]
[null,"صافي الربح / (الخسارة) غير المحققة على الاستثمارات",232616.23142054182,336789.06990203547,2086315.3663798999,3339686.7981923996,2318931.5978004416,3676475.868094435,"Net Unrealized Gain / (Loss) on Investments"]
[null,"تعديلات في الاستثمارات متدنية القيمة",12491.467683994117,25027.580612903519,-2538.1368599999996,656.72653370004059,9953.330823994118,25684.307146603558,"Adjustment for Impaired Investments"]
[null,"ربح / (خسارة) صرف العملات الأجنبية على الاستثمارات",-1491.6759500000003,-1071.5603800000004,-2922.4631290774046,-78403.400119647718,-4414.1390790774049,-79474.960499647714,"Foreign Exchange Gain / (Loss) on Investments"]
[null,"إجمالي دخل الاستثمار ",{"$f":"SUM(C32:C37)","v":2468650.7792182672},2833576.4369224892,3226304.3658999228,4183172.0575003657,5694955.14511819,7016748.4944228549,"Gross Investment Income"]
[null,"مصاريف الاستثمار",305060.6883591623,274657.46938546246,-3702.1378040000009,6249.6951608000008,301358.55055516231,280907.16454626247,"Investment Expenses"]
[null,"صافي دخل الاستثمار",{"$f":"C38-C39","v":2163590.0908591049},2558918.9675370269,3230006.503703923,4176922.3623395655,5393596.5945630278,6735841.3298765924,"Net Investment Income"]
[null,"دخل تشغيلي آخر ",661281.88891479583,697097.17836058978,455703.35718097939,788234.30659483885,1116985.2460957752,1485331.4849554286,"Other Operating Income"]
[null,"مصاريف تشغيلية أخرى",1035967.269030212,1114299.1164437679,2943941.3161523161,2610570.3987184609,{"$f":"E42+C42","v":3979908.585182528},{"$f":"F42+D42","v":3724869.5151622286},"Other Operating Expenses"]
[null,"إجمالي الربح / الخسارة قبل حساب القروض وتوزيعات الأرباح",{"$f":"C29+C40+C41-C42","v":2207129.316052848},3378873.2817759663,427166.93924177205,632679.88301604055,2634296.2552946201,4011553.1647920078,"Total Profit / (Loss) prior to Loans & Dividends"]
[null,"أخرى",0,0,0,0,{"$f":"E44+C44","v":0},{"$f":"F44+D44","v":0},"Others"]
[null,"إجمالي الربح / الخسارة قبل توزيعات الأرباح على حاملي الوثائق ",{"$f":"C43-C44","v":2207129.316052848},3378873.2817759663,427166.93924177205,632679.88301604055,2634296.2552946201,4011553.1647920078,"Total Profit / (Loss) prior to Policyholder Dividends"]
[null,"توزيعات الأرباح على حاملي الوثائق ",20928.510517694049,15074.218970632348,0,0,{"$f":"E46+C46","v":20928.510517694049},{"$f":"F46+D46","v":15074.218970632348},"Policyholder Dividends"]
[null,"إجمالي الربح / (الخسارة) ",{"$f":"C45-C46","v":2186200.805535154},3363799.0628053341,427166.93924177205,632679.88301604055,2613367.744776926,3996478.9458213756,"Total Profit / (Loss)"]

{"sheet":"22B","index":47,"n_rows":47,"n_cols":9,"rows_kept":47,"cut":false,"hidden":false,"merged":[[5,1,5,8],[7,1,7,8],[12,1,14,1],[12,2,12,3],[12,4,12,5],[12,6,12,7],[12,8,14,8],[13,2,13,3],[13,4,13,5],[13,6,13,7],[8,1,8,8],[6,1,6,8]]}
[]
[]
[]
[]
[]
[null,"قائمة الدخل"]
[null," شركات التأمين التقليدي الوطنية وشركات التأمين التكافلي الوطنية "]
[null,"Income Statement"]
[null,"Traditional & Takaful National Companies"]
[]
[null,"جدول رقم 22B",null,null,null,null,null,null,"TABLE 22B"]
[null,"بالألف درهم ",null,null,null,null,null,null,"AED in 000's"]
[null,"البيــــــــان","شركات التأمين التقليدي الوطنية",null,"شركات التأمين التكافلي الوطنية",null,"الشركات الوطنية",null,"DESCRIPTION"]
[null,null,"TRADITIONAL COMPANIES",null,"TAKAFUL OPERATORS",null,"NATIONAL COMPANIES"]
[null,null,2024,2025,2024,2025,2024,2025]
[null,"الدخل الاكتتابي",null,null,null,null,null,null,"Underwriting Income"]
[null,"اجمالي الأقساط المكتتبة ",42205169.105364859,47981831.862440035,5483076.1327129537,6346716.4721200019,{"$f":"E17+C17","v":47688245.238077812},{"$f":"F17+D17","v":54328548.334560037},"Gross Written Premium "]
[null,"صافي الأقساط المكتتبة ",19689092.062039621,23135877.9399027,2682465.9150949055,3490066.1309710024,{"$f":"E18+C18","v":22371557.977134526},{"$f":"F18+D18","v":26625944.070873704},"Net Written Premium "]
[null,"صافي الأقساط المكتسبة",18186592.354879037,21845679.594858412,2498728.4393244358,3147874.7274976084,20685320.794203471,24993554.322356019,"Net Premiums Earned"]
[null,"صافي المطالبات ومصاريف تسوية المطالبات المدفوعة ",12100207.555884888,14538703.423756937,1358401.987879524,1660556.916540659,13458609.543764412,16199260.340297595,"Net Claims & Claim Related Expenses Paid"]
[null,"صافي المطالبات ومصاريف تسوية المطالبات المتكبدة",13778939.349904351,15918488.76529628,1393780.4056437693,1771516.3651853853,15172719.75554812,17690005.130481664,"Net Claims & Claim Related Expenses Incurred"]
[null,"أجر الوكالة/حصة المضاربة المكتسبة",0,0,-1106.011,-1221.28,-1106.011,-1221.28,"Wakala / Mudaraba Fees Earned"]
[null,"صافي العمولات المدفوعة",976252.11235522071,1556442.7632019834,516661.13862294983,657941.03405133099,1492913.2509781704,2214383.7972533144,"Net Commissions Paid"]
[null,"صافي العمولات المتكبدة",785231.00646725972,1280495.4745946387,453957.41951190843,597309.71122801001,1239188.4259791682,1877805.1858226487,"Net Commissions Incurred"]
[null,"تكاليف الاستحواذ الأخرى",802858.0368413548,822941.38261400536,95171.263241376015,42272.130459999993,898029.30008273083,865213.51307400537,"Other Acquisition Expenses"]
[null,"مصاريف عمومية ",2109622.6071827076,2299826.1918849391,491508.12835146661,583080.2662500001,2601130.7355341744,2882906.458134939,"General Expenses"]
[null,"الضرائب والتراخيص والرسوم",304816.47785011888,368556.51082347421,51211.493900000001,71911.271697170014,356027.97175011889,440467.78252064425,"Taxes, Licenses and Fees"]
[null,"تكاليف الإكتتاب الاخرى",{"$f":"SUM(C25:C27)","v":3217297.1218741816},3491324.0853224187,{"$f":"SUM(E25:E27)","v":637890.88549284264},697263.6684071701,{"$f":"SUM(G25:G27)","v":3855188.0073670242},4188587.7537295888,"Other Underwriting Expenses"]
[null,"صافي دخل / (خسارة) الاكتتاب",{"$f":"C19-C21-C24-C28","v":405124.87663324457},{"$f":"D19-D21-D24-D28","v":1155371.2696450739},{"$f":"E19-E21-E24-E28","v":13099.728675915394},81784.98267704295,{"$f":"G19-G21-G24-G28","v":418224.60530915949},{"$f":"H19-H21-H24-H28","v":1237156.2523221173},"Net Underwriting Income / (Loss)"]
[]
[null,"الدخل الاستثماري",null,null,null,null,null,null,"Investment Income"]
[null,"دخل مكتسب من الاستثمارات العقارية",133555.63735,137135.24665000002,9258.8552799999979,19463.878484200002,{"$f":"E32+C32","v":142814.49262999999},156599.12513420003,"Earned Income from Real Estate Investments"]
[null,"دخل مكتسب من الاستثمارات الاخرى",1732570.1204686898,1971658.7406592846,263623.40879483498,228566.26475406607,{"$f":"E33+C33","v":1996193.5292635248},{"$f":"F33+D33","v":2200225.0054133506},"Earned Income from Other Investments"]
[null,"صافي الربح / (الخسارة) المحققة على الاستثمارات",62606.672320206613,87451.791179999986,23420.061849999998,28555.425059999998,86026.734170206619,116007.21623999998,"Net Realized Gain / (Loss) on Investments"]
[null,"صافي الربح / (الخسارة) غير المحققة على الاستثمارات",159276.20307054181,209436.91604203547,73340.028350000008,127352.15385999999,232616.23142054182,336789.06990203547,"Net Unrealized Gain / (Loss) on Investments"]
[null,"تعديلات في الاستثمارات متدنية القيمة",-697.69576600588391,27719.703942903518,13189.16345,-2692.1233299999999,12491.467683994117,25027.580612903519,"Adjustment for Impaired Investments"]
[null,"ربح / (خسارة) صرف العملات الأجنبية على الاستثمارات",-1491.6759500000003,-1071.5603800000004,0,0,-1491.6759500000003,-1071.5603800000004,"Foreign Exchange Gain / (Loss) on Investments"]
[null,"إجمالي دخل الاستثمار ",{"$f":"SUM(C32:C37)","v":2085819.2614934323},2432330.8380942233,382831.51772483496,{"$f":"SUM(F32:F37)","v":401245.59882826603},{"$f":"SUM(G32:G37)","v":2468650.7792182672},2833576.4369224892,"Gross Investment Income"]
[null,"مصاريف الاستثمار",183321.58483232735,191225.86173531355,121739.10352683498,83431.60765014893,305060.6883591623,274657.46938546246,"Investment Expenses"]
[null,"صافي دخل الاستثمار",{"$f":"C38-C39","v":1902497.6766611049},2241104.9763589096,261092.41419799998,317813.99117811711,2163590.0908591049,2558918.9675370269,"Net Investment Income"]
[null,"دخل تشغيلي آخر ",590251.84082479589,603180.6010591588,71030.048089999997,93916.577301430996,661281.88891479583,697097.17836058978,"Other Operating Income"]
[null,"مصاريف تشغيلية أخرى",737411.98993336549,829861.78285518684,298555.27909684647,284437.33358858107,1035967.269030212,1114299.1164437679,"Other Operating Expenses"]
[null,"إجمالي الربح / الخسارة قبل حساب القروض وتوزيعات الأرباح",{"$f":"C29+C40+C41-C42","v":2160462.4041857799},{"$f":"D29+D40+D41-D42","v":3169795.0642079553},46666.911867068906,{"$f":"F29+F40+F41-F42","v":209078.21756800998},{"$f":"G29+G40+G41-G42","v":2207129.316052848},{"$f":"H29+H40+H41-H42","v":3378873.2817759663},"Total Profit / (Loss) prior to Loans & Dividends"]
[null,"أخرى",0,0,0,0,{"$f":"E44+C44","v":0},{"$f":"F44+D44","v":0},"Others"]
[null,"إجمالي الربح / الخسارة قبل توزيعات الأرباح على حاملي الوثائق ",{"$f":"C43-C44","v":2160462.4041857799},{"$f":"D43-D44","v":3169795.0642079553},{"$f":"E43-E44","v":46666.911867068906},209078.21756800998,2207129.316052848,{"$f":"H43-H44","v":3378873.2817759663},"Total Profit / (Loss) prior to Policyholder Dividends"]
[null,"توزيعات الأرباح على حاملي الوثائق ",20928.510517694049,15074.218970632348,0,0,{"$f":"E46+C46","v":20928.510517694049},15074.218970632348,"Policyholder Dividends"]
[null,"إجمالي الربح / (الخسارة) ",{"$f":"C45-C46","v":2139533.8936680858},{"$f":"D45-D46","v":3154720.8452373231},46666.911867068906,{"$f":"F45-F46","v":209078.21756800998},{"$f":"G45-G46","v":2186200.805535154},3363799.0628053341,"Total Profit / (Loss)"]

{"sheet":"23A","index":48,"n_rows":34,"n_cols":4,"rows_kept":34,"cut":false,"hidden":false,"merged":[[7,1,7,3],[12,1,13,1],[12,3,13,3],[5,1,5,3],[6,1,6,3]]}
[]
[]
[]
[]
[]
[null,"تحليل الملاءة المالية"]
[null,"Solvency Analysis"]
[null,"(2025)"]
[]
[]
[null,"جدول رقم 23A",null,"TABLE 23A"]
[null,"بالألف درهم ",null,"AED in 000's"]
[null,"البيــــــــان","الاجمالي","DESCRIPTION"]
[null,null,"TOTAL"]
[null,"متطلب الحد الأدنى لرأس المال (MCR)",5550000,"Minimum Capital Requirement (MCR)"]
[null,"مخاطر الإكتتاب - التأمينات العامة",2609987.7719622781,"Underwriting Risk - Property and Liability Insurance"]
[null,"مخاطر الإكتتاب - التأمين على الحياة",394941.57143754262,"Underwriting Risk - Life Insurance"]
[null,"مخاطر الإكتتاب - التأمين الصحي",1998489.4698845195,"Underwriting Risk - Health Insurance"]
[null,"المخاطر الاستثمارية",5393766.5338274473,"Investment Risk"]
[null,"مخاطر الائتمان",3484892.8873342117,"Credit Risk"]
[null,"المتطلب الأساسي لملاءة رأس المال (BSCR)",9796121.7334116492,"Basic Solvency Capital Required (BSCR)"]
[null,"المخاطر التشغيلية ",2896094.9813930821,"Operational Risk"]
[null,"متطلب ملاءة رأس المال (SCR)",12692216.714804731,"Solvency Capital Requirement (SCR)"]
[null,"المبلغ الأدنى للضمان (MGF)",9776365.2036389075,"Minimum Guarantee Fund (MGF)"]
[]
[null,"صافي الموجودات المقبولة مطروحا منها المطلوبات",25227163.025448218,"Admissible Assets less Liabilities"]
[]
[null,"الفائض / (العجز) في هامش الحد الأدنى لرأس المال ",19559732.030540556,"MCR Solvency Margin - Surplus / (Deficit)"]
[null,"الفائض / (العجز) في هامش ملاءة رأس المال",12444744.405014658,"SCR Solvency Margin - Surplus / (Deficit)"]
[null,"الفائض / (العجز) في هامش المبلغ الأدنى للضمان",15360595.91618048,"MGF Solvency Margin - Surplus / (Deficit)"]
[]
[null,"نسبة الحد الأدنى لرأس المال",4.5454347793600389,"MCR Solvency Ratio"]
[null,"نسبة ملاءة رأس المال",1.9876089096416234,"SCR Solvency Ratio"]
[null,"نسبة المبلغ الأدنى للضمان",2.5804235521048553,"MGF Solvency Ratio"]

{"sheet":"23B","index":49,"n_rows":34,"n_cols":4,"rows_kept":34,"cut":false,"hidden":false,"merged":[[5,1,5,3],[6,1,6,3],[7,1,7,3],[12,1,13,1],[12,3,13,3]]}
[]
[]
[]
[]
[]
[null,"تحليل الملاءة المالية للشركات الوطنية"]
[null,"Solvency Analysis for National Companies"]
[null,"(2025)"]
[]
[]
[null,"جدول رقم 23B",null,"TABLE 23B"]
[null,"بالألف درهم ",null,"AED in 000's"]
[null,"البيــــــــان","الشركات الوطنية","DESCRIPTION"]
[null,null,"NATIONAL COMPANIES"]
[null,"متطلب الحد الأدنى لرأس المال (MCR)",3000000,"Minimum Capital Requirement (MCR)"]
[null,"مخاطر الإكتتاب - التأمينات العامة",2082911.8339350685,"Underwriting Risk - Property and Liability Insurance"]
[null,"مخاطر الإكتتاب - التأمين على الحياة",129932.42344764771,"Underwriting Risk - Life Insurance"]
[null,"مخاطر الإكتتاب - التأمين الصحي",1387470.290309221,"Underwriting Risk - Health Insurance"]
[null,"المخاطر الاستثمارية",4533838.7198616564,"Investment Risk"]
[null,"مخاطر الائتمان",2552700.9368350813,"Credit Risk"]
[null,"المتطلب الأساسي لملاءة رأس المال (BSCR)",7431536.9273019275,"Basic Solvency Capital Required (BSCR)"]
[null,"المخاطر التشغيلية ",2117625.5757710966,"Operational Risk"]
[null,"متطلب ملاءة رأس المال (SCR)",9549162.5030730236,"Solvency Capital Requirement (SCR)"]
[null,"المبلغ الأدنى للضمان (MGF)",6689332.8537663333,"Minimum Guarantee Fund (MGF)"]
[]
[null,"صافي الموجودات المقبولة مطروحا منها المطلوبات",19191258.028987203,"Admissible Assets less Liabilities"]
[]
[null,"الفائض / (العجز) في هامش الحد الأدنى لرأس المال ",15527298.859846981,"MCR Solvency Margin - Surplus / (Deficit)"]
[null,"الفائض / (العجز) في هامش ملاءة رأس المال",8959249.5331690721,"SCR Solvency Margin - Surplus / (Deficit)"]
[null,"الفائض / (العجز) في هامش المبلغ الأدنى للضمان",11819079.182475761,"MGF Solvency Margin - Surplus / (Deficit)"]
[]
[null,"نسبة الحد الأدنى لرأس المال",6.3970860096624014,"MCR Solvency Ratio"]
[null,"نسبة ملاءة رأس المال",2.0097320600430928,"SCR Solvency Ratio"]
[null,"نسبة المبلغ الأدنى للضمان",2.8689345333117697,"MGF Solvency Ratio"]

{"sheet":"24A","index":50,"n_rows":88,"n_cols":13,"rows_kept":88,"cut":false,"hidden":false,"merged":[[5,1,5,12],[6,1,6,12],[12,12,13,12],[12,1,13,1],[7,1,7,12]]}
[]
[]
[]
[]
[]
[null,"إجمالي الأقساط المكتتبة حسب الإمارة"]
[null,"Gross Written Premium by Emirate"]
[null,"(2025)"]
[]
[]
[null,"جدول رقم 24A",null,null,null,null,null,null,null,null,null,null,"TABLE 24A"]
[null,"بالألف درهم ",null,null,null,null,null,null,null,null,null,null,"AED in 000's"]
[null,"فروع التأمين","أم القيوين","الشارقة","رأس الخيمة","الفجيرة","دبي","عجمان","أبو ظبي","داخل الدولة"," خارج الدولة","جميع المواقع","Line of Business"]
[null,null,"Umm Al Quwain","Sharjah","Ras Al Khaimah","Fujairah","Dubai","Ajman","Abu Dhabi","Within UAE","Outside UAE","All Locations"]
[null,"تأمين الحريق",4863.7248499999996,105364.41253333438,38454.273119999998,76574.459129999988,3042334.6458662362,11980.490087364315,1563378.8687053681,{"$f":"C15+D15+E15+F15+G15+H15+I15","v":4842950.8742923029},2044237.3020179868,{"$f":"J15+K15","v":6887188.1763102897},"Fire"]
[null,"التأمين البحري والطيران",28.234530000000003,73620.389279687646,7132.4121400000013,11051.69397,1065982.0362260006,2503.2623999755319,620693.93160133623,{"$f":"C16+D16+E16+F16+G16+H16+I16","v":1781011.9601469999},477542.35909577401,{"$f":"J16+K16","v":2258554.319242774},"Marine & Aviation"]
[null,"تأمين السيارات والمركبات الأخرى",494.99178999999998,370084.28075342264,251874.23422905794,156516.51896000002,6168510.6789207775,46333.400742514539,2177408.3749850052,9171222.4803807791,904683.22520422074,10075905.705584999,"Motor & Transportation"]
[null,"التأمين الهندسي والانشاءات والطاقة",10.815,84734.216108062858,15039.435789999998,13879.62911,1209977.5007896014,6628.0732662557512,1554370.5762108804,2884640.2462748,1399442.1376185562,4284082.3838933557,"Engineering, Construction & Energy"]
[null,"أخرى",19556.92266805641,209348.36506253239,72770.635549079539,36421.476333726467,4229813.0310193608,88082.894928318245,1470093.5470722215,6126086.8726332951,381189.87558748206,6507276.7482207771,"Other"]
[null,"اعادة التأمين غير النسبية - المسؤوليات والممتلكات",0,99.808679999999995,0,0,1259.11907,0,4295.3200400000005,5654.2477900000004,0,5654.2477900000004,"Reinsurance - Property & Liability"]
[null,"المجموع - تأمين الممتلكات والمسؤوليات",{"$f":"C15+C16+C17+C18+C19+C20","v":24954.688838056409},843251.47241703991,385270.9908281375,294443.77750372648,15717877.011891974,155528.12142442839,7390240.6186148115,{"$f":"J15+J16+J17+J18+J19+J20","v":24811566.681518175},{"$f":"K15+K16+K17+K18+K19+K20","v":5207094.89952402},{"$f":"L15+L16+L17+L18+L19+L20","v":30018661.5810422},"Total - Property & Liability Insurance"]
[]
[null,"المجموع - تأمين صحي",16718.416922153574,1810268.3917259632,148646.78161671339,139917.57717998783,21668028.879456379,129874.11757153204,11924704.250725683,{"$f":"C23+D23+E23+F23+G23+H23+I23","v":35838158.415198416},584538.71464776003,{"$f":"J23+K23","v":36422697.129846178},"Total - Health Insurance"]
[]
[null,"تأمين حياة جماعي ",2460.4453563636275,37745.721231874333,5229.5415445454637,4310.8242609090903,625838.47275144851,5545.9197079966725,355785.63467297918,{"$f":"C25+D25+E25+F25+G25+H25+I25","v":1036916.5595261168},411346.78101400682,{"$f":"J25+K25","v":1448263.3405401236},"Group Life"]
[null,"تأمين ائتمان حياة جماعي ",0,240.45257000000001,84090.105779999998,0,433048.45075060998,0,180968.13942000002,698347.14852061006,22188.393421225686,720535.54194183578,"Group Credit Life"]
[null,"تأمين حياة فردي",7054.2238067367298,151400.65503952387,18498.470323134155,8139.5058432190808,5308906.1427499261,38247.858903761844,585050.42729589855,6117297.2839622013,84977.737842344359,6202275.021804546,"Individual Life"]
[null,"دفعات الحياة وتكوين الأموال",0,0,0,0,28121.940589366397,0,31.938599590400006,28153.879188956798,0,28153.879188956798,"Annuities & Fund Accumulation"]
[null,"المجموع - تأمين الأشخاص وعمليات تكوين الأموال",{"$f":"C25+C26+C27+C28","v":9514.6691631003578},189386.82884139821,107818.11764767961,12450.33010412817,6395915.0068413513,43793.77861175852,1121836.1399884683,{"$f":"C29+D29+E29+F29+G29+H29+I29","v":7880714.871197884},{"$f":"K25+K26+K27+K28","v":518512.91227757686},8399227.7834754623,"Total - Insurance of Persons & Fund Accumulation"]
[]
[null,"المجموع - كافة فروع التأمين",{"$f":"C21+C23+C29","v":51187.774923310339},2842906.6929844012,641735.89009253052,446811.6847878425,43781820.898189709,329196.01760771894,20436781.009328961,{"$f":"J21+J23+J29","v":68530439.967914477},{"$f":"K21+K23+K29","v":6310146.5264493562},74840586.494363844,"TOTAL - All Types of Business Combined"]
[]
[]
[]
[]
[]
[]
[]
[]
[]
[]
[]
[]
[]
[]
[]
[]
[]
[]
[]
[]
[]
[]
[]
[]
[]
[]
[]
[]
[]
[]
[]
[]
[]
[]
[]
[]
[]
[]
[]
[]
[]
[]
[]
[]
[]
[]
[]
[]
[]
[]
[]
[]
[]
[]
[]
[]
[null,null,null,null,null,null,"`","`","`"]

{"sheet":"24B","index":51,"n_rows":31,"n_cols":13,"rows_kept":31,"cut":false,"hidden":false,"merged":[[5,1,5,12],[6,1,6,12],[12,1,13,1],[12,12,13,12],[7,1,7,12]]}
[]
[]
[]
[]
[]
[null,"صافي الأقساط المكتتبة حسب الإمارة"]
[null,"Net Written Premium by Emirate"]
[null,"(2025)"]
[]
[]
[null,"جدول رقم 24B",null,null,null,null,null,null,null,null,null,null,"TABLE 24B"]
[null,"بالألف درهم ",null,null,null,null,null,null,null,null,null,null,"AED in 000's"]
[null,"فروع التأمين","أم القيوين","الشارقة","رأس الخيمة","الفجيرة","دبي","عجمان","أبو ظبي","داخل الدولة"," خارج الدولة","جميع المواقع","Line of Business"]
[null,null,"Umm Al Quwain","Sharjah","Ras Al Khaimah","Fujairah","Dubai","Ajman","Abu Dhabi","Within UAE","Outside UAE","All Locations"]
[null,"تأمين الحريق",4733.217081425727,27295.896937765785,5985.8132233329206,48847.580022059519,594960.72942928399,2198.4232334012181,180198.14572248582,{"$f":"C15+D15+E15+F15+G15+H15+I15","v":864219.80564975506},540115.8325403129,{"$f":"J15+K15","v":1404335.6381900678},"Fire"]
[null,"التأمين البحري والطيران",8.4703800000000005,18100.391426844755,1590.8719034340002,1789.6806640429904,245708.31103381107,555.33896026444916,112536.6126373726,380289.67700576992,162602.2832527975,{"$f":"J16+K16","v":542891.96025856747},"Marine & Aviation"]
[null,"تأمين السيارات والمركبات الأخرى",494.99178999999998,311680.85582007794,233135.28389618921,147335.91947339961,5534152.6807360211,43402.838576842863,1652199.245178337,7922401.8154708678,801842.47828505735,8724244.2937559243,"Motor & Transportation"]
[null,"التأمين الهندسي والانشاءات والطاقة",0.30456656704116902,-1207.4680938290921,3591.3328170677719,3532.4729101780858,71391.947924791835,17.576796575719317,287276.26122746512,364602.42814881646,308936.60700199939,673539.03515081585,"Engineering, Construction & Energy"]
[null,"أخرى",3436.4120138926833,51209.628886445877,20840.924960263474,-140721.19143072411,1375411.0881474824,16419.139450943188,395749.72019198845,1722345.7222202918,72047.29725513779,1794393.0194754296,"Other"]
[null,"اعادة التأمين غير النسبية - المسؤوليات والممتلكات",0,99.808679999999995,0,0,1133.56007,0,2683.5258200000007,3916.8945700000008,0,3916.8945700000008,"Reinsurance - Property & Liability"]
[null,"المجموع - تأمين الممتلكات والمسؤوليات",{"$f":"C15+C16+C17+C18+C19+C20","v":8673.3958318854511},407179.11365730525,265144.22680028738,60784.461638956127,7822758.3173413901,62593.317018027432,2630643.5107776495,{"$f":"J15+J16+J17+J18+J19+J20","v":11257776.343065502},{"$f":"K15+K16+K17+K18+K19+K20","v":1885544.4983353049},13143320.841400808,"Total - Property & Liability Insurance"]
[]
[null,"المجموع - تأمين صحي",9054.3525803319899,856216.07909572427,97411.175407643081,105431.11603032811,12987994.086335152,79198.979319043254,9140952.8610592503,{"$f":"C23+D23+E23+F23+G23+H23+I23","v":23276258.649827473},-1203589.091240383,{"$f":"J23+K23","v":22072669.558587089},"Total - Health Insurance"]
[]
[null,"تأمين حياة جماعي ",944.69845198779728,13387.056234256932,2148.1853670454698,-1541.1822211191038,210847.14821905058,2551.9393989296364,97121.618321825968,{"$f":"C25+D25+E25+F25+G25+H25+I25","v":325459.46377197729},161742.89293516829,{"$f":"J25+K25","v":487202.35670714558},"Group Life"]
[null,"تأمين ائتمان حياة جماعي ",0,55.820480000000011,41502.95003,0,136011.48715767005,0,53536.448440000036,{"$f":"C26+D26+E26+F26+G26+H26+I26","v":231106.70610767009},17968.333840294596,249075.03994796469,"Group Credit Life"]
[null,"تأمين حياة فردي",7026.8706915150533,148811.3401066449,18383.191575297973,8100.279343092152,5064418.226453579,38074.702428960656,567513.28237324953,{"$f":"C27+D27+E27+F27+G27+H27+I27","v":5852327.8929723389},65927.209255186652,5918255.1022275258,"Individual Life"]
[null,"دفعات الحياة وتكوين الأموال",0,0,0,0,28120.273070966399,0,31.338980390400003,{"$f":"C28+D28+E28+F28+G28+H28+I28","v":28151.612051356798},0,28151.612051356798,"Annuities & Fund Accumulation"]
[null,"المجموع - تأمين الأشخاص وعمليات تكوين الأموال",{"$f":"C25+C26+C27+C28","v":7971.5691435028502},162254.21682090184,62034.32697234345,6559.0971219730482,5439397.1349012665,40626.641827890293,718202.68811546592,{"$f":"J25+J26+J27+J28","v":6437045.6749033425},{"$f":"K25+K26+K27+K28","v":245638.43603064952},{"$f":"L25+L26+L27+L28","v":6682684.110933993},"Total - Insurance of Persons & Fund Accumulation"]
[]
[null,"المجموع - كافة فروع التأمين",{"$f":"C21+C23+C29","v":25699.317555720292},1425649.4095739312,424589.72918027389,172774.6747912573,26250149.53857781,182418.938164961,12489799.059952367,{"$f":"J21+J23+J29","v":40971080.667796314},{"$f":"K21+K23+K29","v":927593.8431255715},41898674.510921896,"TOTAL - All Types of Business Combined"]

{"sheet":"25","index":52,"n_rows":31,"n_cols":13,"rows_kept":31,"cut":false,"hidden":false,"merged":[[5,1,5,12],[6,1,6,12],[12,1,13,1],[12,12,13,12],[7,1,7,12]]}
[]
[]
[]
[]
[]
[null,"عدد وثائق التأمين حسب الإمارة"]
[null,"Number of Policies by Emirate"]
[null,"(2025)"]
[]
[]
[null,"جدول رقم 25",null,null,null,null,null,null,null,null,null,null,"TABLE 25"]
[]
[null,"فروع التأمين","أم القيوين","الشارقة","رأس الخيمة","الفجيرة","دبي","عجمان","أبو ظبي","داخل الدولة"," خارج الدولة","جميع المواقع","Line of Business"]
[null,null,"Umm Al Quwain","Sharjah","Ras Al Khaimah","Fujairah","Dubai","Ajman","Abu Dhabi","Within UAE","Outside UAE","All Locations"]
[null,"تأمين الحريق",330,6998,2366,1668,111805,1929,32736,{"$f":"C15+D15+E15+F15+G15+H15+I15","v":157832},65017,{"$f":"J15+K15","v":222849},"Fire"]
[null,"التأمين البحري والطيران",2,12497,198,379,178451,770,23099,215396,37430,252826,"Marine & Aviation"]
[null,"تأمين السيارات والمركبات الأخرى",233,175430,209563,81609,2575788,18100,1470037,4530760,1076323,5607083,"Motor & Transportation"]
[null,"التأمين الهندسي والانشاءات والطاقة",1,2315,1156,380,29529,170,15909,49460,30986,80446,"Engineering, Construction & Energy"]
[null,"أخرى",57917,532892,224168,87953,4750966,245555,1822082,7721533,145490,7867023,"Other"]
[null,"اعادة التأمين غير النسبية - المسؤوليات والممتلكات",0,33,0,0,276,0,723,1032,0,1032,"Reinsurance - Property & Liability"]
[null,"المجموع - تأمين الممتلكات والمسؤوليات",{"$f":"C15+C16+C17+C18+C19+C20","v":58483},{"$f":"D15+D16+D17+D18+D19+D20","v":730165},{"$f":"E15+E16+E17+E18+E19+E20","v":437451},{"$f":"F15+F16+F17+F18+F19+F20","v":171989},{"$f":"G15+G16+G17+G18+G19+G20","v":7646815},{"$f":"H15+H16+H17+H18+H19+H20","v":266524},{"$f":"I15+I16+I17+I18+I19+I20","v":3364586},{"$f":"J15+J16+J17+J18+J19+J20","v":12676013},{"$f":"K15+K16+K17+K18+K19+K20","v":1355246},{"$f":"L15+L16+L17+L18+L19+L20","v":14031259},"Total - Property & Liability Insurance"]
[]
[null,"المجموع - تأمين صحي",4637,358715,55156,202479,1312257,49994,636678,{"$f":"C23+D23+E23+F23+G23+H23+I23","v":2619916},215939,{"$f":"J23+K23","v":2835855},"Total - Health Insurance"]
[]
[null,"تأمين حياة جماعي ",22,2296,108,99,8882,80,2764,{"$f":"C25+D25+E25+F25+G25+H25+I25","v":14251},1574,{"$f":"J25+K25","v":15825},"Group Life"]
[null,"تأمين ائتمان حياة جماعي ",0,3,38,0,792,0,165,998,247,{"$f":"J26+K26","v":1245},"Group Credit Life"]
[null,"تأمين حياة فردي",274,7502,821,349,293010,1574,31950,335480,30392,{"$f":"J27+K27","v":365872},"Individual Life"]
[null,"دفعات الحياة وتكوين الأموال",0,0,0,0,508,0,1,509,0,{"$f":"J28+K28","v":509},"Annuities & Fund Accumulation"]
[null,"المجموع - تأمين الأشخاص وعمليات تكوين الأموال",{"$f":"C25+C26+C27+C28","v":296},{"$f":"D25+D26+D27+D28","v":9801},{"$f":"E25+E26+E27+E28","v":967},{"$f":"F25+F26+F27+F28","v":448},{"$f":"G25+G26+G27+G28","v":303192},{"$f":"H25+H26+H27+H28","v":1654},{"$f":"I25+I26+I27+I28","v":34880},{"$f":"J25+J26+J27+J28","v":351238},{"$f":"K25+K26+K27+K28","v":32213},{"$f":"L25+L26+L27+L28","v":383451},"Total - Insurance of Persons & Fund Accumulation"]
[]
[null,"المجموع - كافة فروع التأمين",{"$f":"C21+C23+C29","v":63416},{"$f":"D21+D23+D29","v":1098681},493574,374916,9262264,318172,4036144,15647167,1603398,17250565,"TOTAL - All Types of Business Combined"]

{"sheet":"26A","index":53,"n_rows":31,"n_cols":13,"rows_kept":31,"cut":false,"hidden":false,"merged":[[5,1,5,12],[6,1,6,12],[12,1,13,1],[12,12,13,12],[7,1,7,12]]}
[]
[]
[]
[]
[]
[null,"إجمالي الأقساط غير المكتسبة حسب الإمارة"]
[null,"Gross Unearned Premium Reserve by Emirate"]
[null,"(2025)"]
[]
[]
[null,"جدول رقم 26A",null,null,null,null,null,null,null,null,null,null,"TABLE 26A"]
[null,"بالألف درهم ",null,null,null,null,null,null,null,null,null,null,"AED in 000's"]
[null,"فروع التأمين","أم القيوين","الشارقة","رأس الخيمة","الفجيرة","دبي","عجمان","أبو ظبي","داخل الدولة"," خارج الدولة","جميع المواقع","Line of Business"]
[null,null,"Umm Al Quwain","Sharjah","Ras Al Khaimah","Fujairah","Dubai","Ajman","Abu Dhabi","Within UAE","Outside UAE","All Locations"]
[null,"تأمين الحريق",175.78171164035561,32513.922471379748,14152.558545476855,12186.144990898318,996906.97202343843,2996.2854683019978,578326.51189771213,{"$f":"C15+D15+E15+F15+G15+H15+I15","v":1637258.177108848},783260.8446024335,{"$f":"J15+K15","v":2420519.0217112815},"Fire"]
[null,"التأمين البحري والطيران",37.746099725124026,15847.454741739479,3797.4616147603197,2692.7409312104596,388698.58025679487,1184.0931974181869,196007.89578924215,608265.97263089055,190360.09164126118,798626.06427215179,"Marine & Aviation"]
[null,"تأمين السيارات والمركبات الأخرى",266.92865999999992,129904.90435502541,117174.47641253928,81280.624670901147,3241233.1652233028,14468.103601781331,1126319.5512267943,4710647.7541503441,381022.88382270548,5091670.6379730497,"Motor & Transportation"]
[null,"التأمين الهندسي والانشاءات والطاقة",0,78664.021878066691,35545.356683191923,7330.6749132077985,833324.53380508034,5403.3796281751984,1115705.4028303644,2075973.3697380864,580370.91264372983,2656344.2823818163,"Engineering, Construction & Energy"]
[null,"أخرى",77.566448392906537,28037.100817913823,18638.650979583967,2911.9870756810178,3081781.0454088985,5984.5536870615233,507151.14258538943,3644582.0470029213,190905.40071376166,3835487.4477166831,"Other"]
[null,"اعادة التأمين غير النسبية - المسؤوليات والممتلكات",0,0,0,0,0,0,2437.9515241253503,2437.9515241253503,0,2437.9515241253503,"Reinsurance - Property & Liability"]
[null,"المجموع - تأمين الممتلكات والمسؤوليات",{"$f":"C15+C16+C17+C18+C19+C20","v":558.02291975838614},284967.40426412516,189308.50423555236,106402.17258189873,8541944.2967175152,30036.415582738242,3525948.455853628,12679165.272155216,2125920.1334238918,14805085.405579107,"Total - Property & Liability Insurance"]
[]
[null,"المجموع - تأمين صحي",2621.7548429919693,274279.37424594036,51744.96547153651,46027.680837728862,7500065.4098602841,34640.364198463685,3808946.7630650732,{"$f":"C23+D23+E23+F23+G23+H23+I23","v":11718326.312522018},227608.8904078356,{"$f":"J23+K23","v":11945935.202929854},"Total - Health Insurance"]
[]
[null,"تأمين حياة جماعي ",402.98024678385093,12519.455132862633,1531.0340842293756,466.89334844867545,164166.44028943419,1767.2312800688908,74292.691087592844,{"$f":"C25+D25+E25+F25+G25+H25+I25","v":255146.72546942049},35041.741091737254,{"$f":"J25+K25","v":290188.46656115772},"Group Life"]
[null,"تأمين ائتمان حياة جماعي ",0,0,0,0,20051.548057667118,0,0,20051.548057667118,1650.454,21702.00205766712,"Group Credit Life"]
[null,"تأمين حياة فردي",0,129.65469589400001,0,0,351205.61898043676,0,164.95715554200001,351500.23083187273,21351.696172474738,372851.92700434744,"Individual Life"]
[null,"دفعات الحياة وتكوين الأموال",0,0,0,0,0,0,0,0,0,0,"Annuities & Fund Accumulation"]
[null,"المجموع - تأمين الأشخاص وعمليات تكوين الأموال",{"$f":"C25+C26+C27+C28","v":402.98024678385093},12649.109828756633,1531.0340842293756,466.89334844867545,535423.60732753808,1767.2312800688908,74457.648243134841,626698.50435896032,58043.89126421199,684742.39562317228,"Total - Insurance of Persons & Fund Accumulation"]
[]
[null,"المجموع - كافة فروع التأمين",{"$f":"C21+C23+C29","v":3582.7580095342064},571895.88833882217,242584.50379131825,152896.74676807626,16577433.313905338,66444.011061270823,7409352.8671618365,25024190.089036196,2411572.9150959393,27435763.004132133,"TOTAL - All Types of Business Combined"]

{"sheet":"26B","index":54,"n_rows":31,"n_cols":13,"rows_kept":31,"cut":false,"hidden":false,"merged":[[5,1,5,12],[6,1,6,12],[12,1,13,1],[12,12,13,12],[7,1,7,12]]}
[]
[]
[]
[]
[]
[null,"صافي الأقساط غير المكتسبة حسب الإمارة"]
[null,"Net Unearned Premium Reserve by Emirate"]
[null,"(2025)"]
[]
[]
[null,"جدول رقم 26B",null,null,null,null,null,null,null,null,null,null,"TABLE 26B"]
[null,"بالألف درهم ",null,null,null,null,null,null,null,null,null,null,"AED in 000's"]
[null,"فروع التأمين","أم القيوين","الشارقة","رأس الخيمة","الفجيرة","دبي","عجمان","أبو ظبي","داخل الدولة"," خارج الدولة","جميع المواقع","Line of Business"]
[null,null,"Umm Al Quwain","Sharjah","Ras Al Khaimah","Fujairah","Dubai","Ajman","Abu Dhabi","Within UAE","Outside UAE","All Locations"]
[null,"تأمين الحريق",141.2873095028809,9382.1224000495531,1839.8214002356756,2742.2528872814696,180413.54136439989,545.34225309118074,43263.224547792212,{"$f":"C15+D15+E15+F15+G15+H15+I15","v":238327.59216235287},302318.26796758157,{"$f":"J15+K15","v":540645.8601299345},"Fire"]
[null,"التأمين البحري والطيران",15.791720775435174,5325.6608047455848,435.58099734041429,344.33801049665345,83740.406466444882,406.68553872227028,-21131.344819994854,69137.118718530401,118775.51371846252,187912.63243699292,"Marine & Aviation"]
[null,"تأمين السيارات والمركبات الأخرى",266.92865999999992,108804.73463028081,114517.99651881379,80840.986078638205,2945033.7717937683,13945.980687666526,977917.86762419401,4241328.2659933623,373240.49359243899,4614568.7595858015,"Motor & Transportation"]
[null,"التأمين الهندسي والانشاءات والطاقة",-0.15305170640887494,4958.3036935536629,1586.8408321445486,1906.1685232877103,69285.053153686487,507.58252463359776,76172.670091255874,154416.46576685546,326871.06223215756,481287.52799901302,"Engineering, Construction & Energy"]
[null,"أخرى",26.360958398136709,7410.8674682703222,4594.8544090698651,1523.1955739033801,634574.11190132052,1187.2393538543058,137010.55165425886,786327.1813190754,77235.883416220284,863563.06473529572,"Other"]
[null,"اعادة التأمين غير النسبية - المسؤوليات والممتلكات",0,0,0,0,0,0,1941.6035185713681,1941.6035185713681,0,1941.6035185713681,"Reinsurance - Property & Liability"]
[null,"المجموع - تأمين الممتلكات والمسؤوليات",{"$f":"C15+C16+C17+C18+C19+C20","v":450.2155969700438},{"$f":"D15+D16+D17+D18+D19+D20","v":135881.68899689993},122975.0941576043,87356.941073607421,3913046.8846796202,16592.83035796788,1215174.5726160777,5491478.2274787482,1198441.220926861,6689919.4484056085,"Total - Property & Liability Insurance"]
[]
[null,"المجموع - تأمين صحي",1743.8140224294166,200303.26053508034,38387.993419888167,36566.574397956858,4284400.7492767721,21699.036598096845,2838920.1907565012,{"$f":"C23+D23+E23+F23+G23+H23+I23","v":7422021.619006725},-124516.81161982432,{"$f":"J23+K23","v":7297504.8073869003},"Total - Health Insurance"]
[]
[null,"تأمين حياة جماعي ",301.01327936939799,4884.6677469838187,803.623943886147,172.5389230667455,59371.771000580229,863.66493147058259,51621.750119946046,{"$f":"C25+D25+E25+F25+G25+H25+I25","v":118019.02994530296},16011.93673026063,{"$f":"J25+K25","v":134030.9666755636},"Group Life"]
[null,"تأمين ائتمان حياة جماعي ",0,0,0,0,6106.6259271806757,0,0,6106.6259271806757,1650.4540000000002,7757.0799271806754,"Group Credit Life"]
[null,"تأمين حياة فردي",0,112.96651152954522,0,0,349819.50350869575,0,136.599823528,350069.0698437533,21240.452885376075,371309.52272912936,"Individual Life"]
[null,"دفعات الحياة وتكوين الأموال",0,0,0,0,0,0,0,0,0,0,"Annuities & Fund Accumulation"]
[null,"المجموع - تأمين الأشخاص وعمليات تكوين الأموال",{"$f":"C25+C26+C27+C28","v":301.01327936939799},{"$f":"D25+D26+D27+D28","v":4997.6342585133643},803.623943886147,172.5389230667455,415297.90043645666,863.66493147058259,51758.349943474044,474194.72571623692,38902.84361563671,513097.56933187362,"Total - Insurance of Persons & Fund Accumulation"]
[]
[null,"المجموع - كافة فروع التأمين",{"$f":"C21+C23+C29","v":2495.0428987688583},{"$f":"D21+D23+D29","v":341182.58379049361},162166.7115213786,124096.05439463104,8612745.5343928486,39155.531887535304,4105853.1133160526,13387694.57220171,1112827.2529226735,14500521.825124383,"TOTAL - All Types of Business Combined"]

{"sheet":"27A","index":55,"n_rows":31,"n_cols":13,"rows_kept":31,"cut":false,"hidden":false,"merged":[[5,1,5,12],[6,1,6,12],[12,1,13,1],[12,12,13,12],[7,1,7,12]]}
[]
[]
[]
[]
[]
[null,"إجمالي المطالبات المدفوعة حسب الإمارة"]
[null,"Gross Claims Paid by Emirate"]
[null,"(2025)"]
[]
[]
[null,"جدول رقم 27A",null,null,null,null,null,null,null,null,null,null,"TABLE 27A"]
[null,"بالألف درهم ",null,null,null,null,null,null,null,null,null,null,"AED in 000's"]
[null,"فروع التأمين","أم القيوين","الشارقة","رأس الخيمة","الفجيرة","دبي","عجمان","أبو ظبي","داخل الدولة"," خارج الدولة","جميع المواقع","Line of Business"]
[null,null,"Umm Al Quwain","Sharjah","Ras Al Khaimah","Fujairah","Dubai","Ajman","Abu Dhabi","Within UAE","Outside UAE","All Locations"]
[null,"تأمين الحريق",113.26942969565464,64409.243334114894,16731.575070750583,439849.00697725575,2727451.6296158773,14237.487465287229,972195.02578486199,{"$f":"C15+D15+E15+F15+G15+H15+I15","v":4234987.2376778433},1080365.0179979987,{"$f":"J15+K15","v":5315352.2556758421},"Fire"]
[null,"التأمين البحري والطيران",0,22111.626555068928,512.98866291480431,1336.32752,571511.16088612971,7311.527404707268,193101.92719768526,795885.55822650599,425142.24076539231,1221027.7989918983,"Marine & Aviation"]
[null,"تأمين السيارات والمركبات الأخرى",334.86225000000002,341379.0225597262,118311.54281178508,94517.991909999997,3369891.5892639491,28300.138910012567,1908993.3409042356,5861728.4886097088,517780.208795493,6379508.6974052023,"Motor & Transportation"]
[null,"التأمين الهندسي والانشاءات والطاقة",0,20140.532275643411,3108.9465135237683,53845.99652496363,598750.30009228841,966.62827310091927,444343.22653441475,1121155.6302139349,469501.87118094676,1590657.5013948816,"Engineering, Construction & Energy"]
[null,"أخرى",2.7862200000000001,7146.7366400800574,4130.8980247683012,530.96693000000005,894053.33039793395,3049.1815863815677,133573.2290302387,1042487.1288294025,54156.310031082015,1096643.4388604844,"Other"]
[null,"اعادة التأمين غير النسبية - المسؤوليات والممتلكات",0,0,0,0,2560.55035,0,1382.5029999999995,3943.0533499999992,0,3943.0533499999992,"Reinsurance - Property & Liability"]
[null,"المجموع - تأمين الممتلكات والمسؤوليات",{"$f":"C15+C16+C17+C18+C19+C20","v":450.91789969565468},455187.16136463353,142795.95108374252,590080.28986221936,8164218.5606061779,53864.96363948955,3653589.2524514361,13060187.096907396,2546945.648770913,15607132.745678307,"Total - Property & Liability Insurance"]
[]
[null,"المجموع - تأمين صحي",10347.356981799558,1324880.9890429266,113947.70142186625,62697.854890690003,15187890.728225645,58887.264411279742,8929177.8708756398,{"$f":"C23+D23+E23+F23+G23+H23+I23","v":25687829.765849847},520459.10458693979,{"$f":"J23+K23","v":26208288.870436788},"Total - Health Insurance"]
[]
[null,"تأمين حياة جماعي ",1021.544226044226,18651.750750073985,3180.7185871744473,1867.3538140294841,282004.87764536368,2297.1882348007421,205054.11265291032,{"$f":"C25+D25+E25+F25+G25+H25+I25","v":514077.54591039696},285704.37087378005,{"$f":"J25+K25","v":799781.91678417707},"Group Life"]
[null,"تأمين ائتمان حياة جماعي ",0,2110.1835700000001,11400.184869999999,0,74673.146519196365,0,69938.149399999995,158121.66435919635,20385.578572548722,178507.24293174507,"Group Credit Life"]
[null,"تأمين حياة فردي",5373.8251045472261,114976.6602227243,18043.89285791355,6353.3174658497883,2747513.0589034641,33224.294490531785,299510.3457486105,3224995.3947936413,98367.515695630413,3323362.9104892719,"Individual Life"]
[null,"دفعات الحياة وتكوين الأموال",0,0,0,0,84310.973961600001,0,2736.1484111999998,87047.122372800004,5.0000002374872565E-5,87047.122422800006,"Annuities & Fund Accumulation"]
[null,"المجموع - تأمين الأشخاص وعمليات تكوين الأموال",{"$f":"C25+C26+C27+C28","v":6395.3693305914521},135738.5945427983,32624.796315087995,8220.6712798792723,3188502.0570296245,35521.482725332527,577238.75621272076,3984241.7274360345,404457.46519195917,4388699.1926279943,"Total - Insurance of Persons & Fund Accumulation"]
[]
[null,"المجموع - كافة فروع التأمين",{"$f":"C21+C23+C29","v":17193.644212086663},1915806.7449503585,289368.44882069679,660998.8160327886,26540611.345861446,148273.71077610183,13160005.879539797,42732258.590193279,3471862.2185498122,46204120.808743089,"TOTAL - All Types of Business Combined"]

{"sheet":"27B","index":56,"n_rows":31,"n_cols":13,"rows_kept":31,"cut":false,"hidden":false,"merged":[[5,1,5,12],[6,1,6,12],[12,1,13,1],[12,12,13,12],[7,1,7,12]]}
[]
[]
[]
[]
[]
[null,"صافي المطالبات المدفوعة حسب الإمارة"]
[null,"Net Claims Paid by Emirate"]
[null,"(2025)"]
[]
[]
[null,"جدول رقم 27B",null,null,null,null,null,null,null,null,null,null,"TABLE 27B"]
[null,"بالألف درهم ",null,null,null,null,null,null,null,null,null,null,"AED in 000's"]
[null,"فروع التأمين","أم القيوين","الشارقة","رأس الخيمة","الفجيرة","دبي","عجمان","أبو ظبي","داخل الدولة"," خارج الدولة","جميع المواقع","Line of Business"]
[null,null,"Umm Al Quwain","Sharjah","Ras Al Khaimah","Fujairah","Dubai","Ajman","Abu Dhabi","Within UAE","Outside UAE","All Locations"]
[null,"تأمين الحريق",14.895601953747214,11110.173945843791,2133.7291538366612,55524.570870512805,179517.89507337668,198.49595860450017,84591.232042729855,{"$f":"C15+D15+E15+F15+G15+H15+I15","v":333090.99264685804},266293.87344059796,{"$f":"J15+K15","v":599384.866087456},"Fire"]
[null,"التأمين البحري والطيران",0,11558.398951394305,35.623981497829448,28.176339999999989,65956.25993089877,1080.4115241790755,32994.547167461271,111653.41789543125,152071.02430976383,263724.44220519508,"Marine & Aviation"]
[null,"تأمين السيارات والمركبات الأخرى",334.86225000000002,304049.66034068179,109543.73991487185,85990.842569999746,2966170.3885575049,25743.693443858752,1429944.4005932331,4921777.5876701502,505301.31764795631,5427078.9053181065,"Motor & Transportation"]
[null,"التأمين الهندسي والانشاءات والطاقة",0,2211.4070080599959,281.43971945807004,9070.6191198867891,157804.37934512814,110.12290873147957,25649.014248315518,195126.98234957998,175032.03023471637,370159.01258429635,"Engineering, Construction & Energy"]
[null,"أخرى",0.83587000000000033,2230.603499718457,3343.015172526349,120.95685000000235,191722.61865784691,879.56167886158846,47967.732606109261,246265.32433506256,9982.4145008105461,256247.73883587311,"Other"]
[null,"اعادة التأمين غير النسبية - المسؤوليات والممتلكات",0,0,0,0,2555.6253500000003,0,-1892.7952625000003,662.83008749999999,0,662.83008749999999,"Reinsurance - Property & Liability"]
[null,"المجموع - تأمين الممتلكات والمسؤوليات",{"$f":"C15+C16+C17+C18+C19+C20","v":350.59372195374721},331160.24374569836,115337.54794219075,150735.16575039935,3563727.1669147555,28012.285514235395,1619254.131395349,5808577.1349845827,1108680.6601338449,6917257.795118426,"Total - Property & Liability Insurance"]
[]
[null,"المجموع - تأمين صحي",5746.3090093051296,585459.20785575663,77892.521347583461,29069.154388597963,8809276.550940631,31758.328444214934,6912520.2423430793,{"$f":"C23+D23+E23+F23+G23+H23+I23","v":16451722.314329168},-708652.25721801759,{"$f":"J23+K23","v":15743070.05711115},"Total - Health Insurance"]
[]
[null,"تأمين حياة جماعي ",336.23218673218668,4017.3343633099889,1048.7975676658475,378.21042115479128,50429.750307321832,-472.59578718406613,50109.154735576296,{"$f":"C25+D25+E25+F25+G25+H25+I25","v":105846.88379457688},77086.912172500117,{"$f":"J25+K25","v":182933.79596707699},"Group Life"]
[null,"تأمين ائتمان حياة جماعي ",0,165.79541399999999,1160.2191599999983,0,18287.14885219566,0,23853.680426750001,43466.843852945662,5235.0820651986796,48701.925918144341,"Group Credit Life"]
[null,"تأمين حياة فردي",5370.9810445957173,114803.56962641176,18003.093473672863,6350.0547371744515,2531375.8809859199,33183.8025951604,292781.26566824131,3001868.6481311764,94903.96326656302,3096772.6113977395,"Individual Life"]
[null,"دفعات الحياة وتكوين الأموال",0,0,0,0,84310.973961600001,0,2736.1484111999998,87047.122372800004,5.0000002374872565E-5,87047.122422800006,"Annuities & Fund Accumulation"]
[null,"المجموع - تأمين الأشخاص وعمليات تكوين الأموال",{"$f":"C25+C26+C27+C28","v":5707.2132313279044},118986.69940372175,20212.11020133871,6728.2651583292427,2684403.7541070376,32711.206807976334,369480.24924176757,3238229.4981514988,177225.95755426181,3415455.455705761,"Total - Insurance of Persons & Fund Accumulation"]
[]
[null,"المجموع - كافة فروع التأمين",{"$f":"C21+C23+C29","v":11804.11596258678},1035606.1510051767,213442.17949111294,186532.58529732656,15057407.471962424,92481.820766426652,8901254.622980196,25498528.947465252,577254.36047008913,26075783.307935338,"TOTAL - All Types of Business Combined"]

{"sheet":"28A","index":57,"n_rows":31,"n_cols":8,"rows_kept":31,"cut":false,"hidden":false,"merged":[[5,1,5,7],[6,1,6,7],[7,1,7,7],[12,1,13,1],[12,7,13,7]]}
[]
[]
[]
[]
[]
[null,"البيانات بالإجمالي لإمارة دبي"]
[null,"Gross Results for Dubai"]
[null,"(2025)"]
[]
[]
[null,"جدول رقم 28A",null,null,null,null,null,"TABLE 28A"]
[null,"بالألف درهم ",null,null,null,null,null,"AED in 000's"]
[null,"فروع التأمين","الأقساط المكتتبة ","أعداد الوثائق","مخصص الأقساط غير المكتسبة","المطالبات المدفوعة","مخصص المطالبات تحت التسوية","Line of Business"]
[null,null,"Written Premium","Number of Policies","Unearned Premium Reserve","Claims Paid","Outstanding Claim Reserves"]
[null,"تأمين الحريق",3042334.6458662362,111805.17350674153,996906.97202343843,2727451.6296158773,4546621.552314207,"Fire"]
[null,"التأمين البحري والطيران",1065982.0362260006,178450.708857005,388698.58025679487,571511.16088612971,1071474.0590114179,"Marine & Aviation"]
[null,"تأمين السيارات والمركبات الأخرى",6168510.6789207775,2575788.3035488785,3241233.1652233028,3369891.5892639491,1853041.8626670272,"Motor & Transportation"]
[null,"التأمين الهندسي والانشاءات والطاقة",1209977.5007896014,29528.965181088024,833324.53380508034,598750.30009228841,1777831.6252507553,"Engineering, Construction & Energy"]
[null,"أخرى",4229813.0310193608,4750966.4474841272,3081781.0454088985,894053.33039793395,1357308.8298797403,"Other"]
[null,"اعادة التأمين غير النسبية - المسؤوليات والممتلكات",1259.11907,276,0,2560.55035,0,"Reinsurance - Property & Liability"]
[null,"المجموع - تأمين الممتلكات والمسؤوليات",{"$f":"C15+C16+C17+C18+C19+C20","v":15717877.011891974},{"$f":"D15+D16+D17+D18+D19+D20","v":7646815.5985778403},8541944.2967175152,8164218.5606061779,10606277.929123148,"Total - Property & Liability Insurance"]
[]
[null,"المجموع - تأمين صحي",21668028.879456379,1312256.9355462771,7500065.4098602841,15187890.728225645,4015567.7988897488,"Total - Health Insurance"]
[]
[null,"تأمين حياة جماعي ",625838.47275144851,8881.9893012215871,164166.44028943419,282004.87764536368,315186.84699259175,"Group Life"]
[null,"تأمين ائتمان حياة جماعي ",433048.45075060998,792.26575395076588,20051.548057667118,74673.146519196365,318709.94920915511,"Group Credit Life"]
[null,"تأمين حياة فردي",5308906.1427499261,293009.56445582636,351205.61898043676,2747513.0589034641,34278616.964229926,"Individual Life"]
[null,"دفعات الحياة وتكوين الأموال",28121.940589366397,508,0,84310.973961600001,492814.98347062292,"Annuities & Fund Accumulation"]
[null,"المجموع - تأمين الأشخاص وعمليات تكوين الأموال",{"$f":"C25+C26+C27+C28","v":6395915.0068413513},{"$f":"D25+D26+D27+D28","v":303191.81951099873},535423.60732753808,3188502.0570296245,35405328.743902303,"Total - Insurance of Persons & Fund Accumulation"]
[]
[null,"المجموع - كافة فروع التأمين",{"$f":"C21+C23+C29","v":43781820.898189709},{"$f":"D21+D23+D29","v":9262264.3536351155},{"$f":"E21+E23+E29","v":16577433.313905338},{"$f":"F21+F23+F29","v":26540611.345861446},{"$f":"G21+G23+G29","v":50027174.4719152},"TOTAL - All Types of Business Combined"]

{"sheet":"28B","index":58,"n_rows":31,"n_cols":12,"rows_kept":31,"cut":false,"hidden":false,"merged":[[5,1,5,7],[6,1,6,7],[7,1,7,7],[12,1,13,1],[12,7,13,7]]}
[]
[]
[]
[]
[]
[null,"البيانات بالصافي لإمارة دبي"]
[null,"Net Results for Dubai"]
[null,"(2025)"]
[]
[]
[null,"جدول رقم 28B",null,null,null,null,null,"TABLE 28B"]
[null,"بالألف درهم ",null,null,null,null,null,"AED in 000's"]
[null,"فروع التأمين","الأقساط المكتتبة ","أعداد الوثائق","مخصص الأقساط غير المكتسبة","المطالبات المدفوعة","مخصص المطالبات تحت التسوية","Line of Business"]
[null,null,"Written Premium","Number of Policies","Unearned Premium Reserve","Claims Paid","Outstanding Claim Reserves"]
[null,"تأمين الحريق",594960.72942928399,111805.17350674153,180413.54136439989,179517.89507337668,415878.17988998542,"Fire"]
[null,"التأمين البحري والطيران",245708.31103381107,178450.708857005,83740.406466444882,65956.25993089877,363762.52359238348,"Marine & Aviation"]
[null,"تأمين السيارات والمركبات الأخرى",5534152.6807360211,2575788.3035488785,2945033.7717937683,2966170.3885575049,1525813.2141209897,"Motor & Transportation"]
[null,"التأمين الهندسي والانشاءات والطاقة",71391.947924791835,29528.965181088024,69285.053153686487,157804.37934512814,266259.12515252701,"Engineering, Construction & Energy"]
[null,"أخرى",1375411.0881474824,4750966.4474841272,634574.11190132052,191722.61865784691,320270.69071791426,"Other"]
[null,"اعادة التأمين غير النسبية - المسؤوليات والممتلكات",1133.56007,276,0,2555.6253500000003,0,"Reinsurance - Property & Liability"]
[null,"المجموع - تأمين الممتلكات والمسؤوليات",{"$f":"C15+C16+C17+C18+C19+C20","v":7822758.3173413901},{"$f":"D15+D16+D17+D18+D19+D20","v":7646815.5985778403},{"$f":"E15+E16+E17+E18+E19+E20","v":3913046.8846796202},{"$f":"F15+F16+F17+F18+F19+F20","v":3563727.1669147555},{"$f":"G15+G16+G17+G18+G19+G20","v":2891983.7334737997},"Total - Property & Liability Insurance"]
[]
[null,"المجموع - تأمين صحي",12987994.086335152,1312256.9355462771,4284400.7492767721,8809276.550940631,2392926.6384657188,"Total - Health Insurance",null,null,null,"                                                                                                                  "]
[]
[null,"تأمين حياة جماعي ",210847.14821905058,8881.9893012215871,59371.771000580229,50429.750307321832,55234.385177498603,"Group Life"]
[null,"تأمين ائتمان حياة جماعي ",136011.48715767005,792.26575395076588,6106.6259271806757,18287.14885219566,44257.082049842706,"Group Credit Life"]
[null,"تأمين حياة فردي",5064418.226453579,293009.56445582636,349819.50350869575,2531375.8809859199,32886706.283239774,"Individual Life"]
[null,"دفعات الحياة وتكوين الأموال",28120.273070966399,508,0,84310.973961600001,492814.98347062292,"Annuities & Fund Accumulation"]
[null,"المجموع - تأمين الأشخاص وعمليات تكوين الأموال",{"$f":"C25+C26+C27+C28","v":5439397.1349012665},{"$f":"D25+D26+D27+D28","v":303191.81951099873},{"$f":"E25+E26+E27+E28","v":415297.90043645666},{"$f":"F25+F26+F27+F28","v":2684403.7541070376},{"$f":"G25+G26+G27+G28","v":33479012.733937737},"Total - Insurance of Persons & Fund Accumulation"]
[]
[null,"المجموع - كافة فروع التأمين",{"$f":"C21+C23+C29","v":26250149.53857781},{"$f":"D21+D23+D29","v":9262264.3536351155},{"$f":"E21+E23+E29","v":8612745.5343928486},{"$f":"F21+F23+F29","v":15057407.471962424},{"$f":"G21+G23+G29","v":38763923.105877258},"TOTAL - All Types of Business Combined"]

{"sheet":"29A","index":59,"n_rows":31,"n_cols":8,"rows_kept":31,"cut":false,"hidden":false,"merged":[[5,1,5,7],[6,1,6,7],[7,1,7,7],[12,1,13,1],[12,7,13,7]]}
[]
[]
[]
[]
[]
[null,"البيانات بالإجمالي لإمارة أبو ظبي"]
[null,"Gross Results for Abu Dhabi"]
[null,"(2025)"]
[]
[]
[null,"جدول رقم 29A",null,null,null,null,null,"TABLE 29A"]
[null,"بالألف درهم ",null,null,null,null,null,"AED in 000's"]
[null,"فروع التأمين","الأقساط المكتتبة ","أعداد الوثائق","مخصص الأقساط غير المكتسبة","المطالبات المدفوعة","مخصص المطالبات تحت التسوية","Line of Business"]
[null,null,"Written Premium","Number of Policies","Unearned Premium Reserve","Claims Paid","Outstanding Claim Reserves"]
[null,"تأمين الحريق",1563378.8687053681,32735.71081985518,578326.51189771213,972195.02578486199,2145904.6201817319,"Fire"]
[null,"التأمين البحري والطيران",620693.93160133623,23099.327462038204,196007.89578924215,193101.92719768526,428933.83682384563,"Marine & Aviation"]
[null,"تأمين السيارات والمركبات الأخرى",2177408.3749850052,1470036.6519228215,1126319.5512267943,1908993.3409042356,808277.42049793911,"Motor & Transportation"]
[null,"التأمين الهندسي والانشاءات والطاقة",1554370.5762108804,15909.204960217634,1115705.4028303644,444343.22653441475,1621746.0439112626,"Engineering, Construction & Energy"]
[null,"أخرى",1470093.5470722215,1822082.3320418382,507151.14258538943,133573.2290302387,520780.43085235881,"Other"]
[null,"اعادة التأمين غير النسبية - المسؤوليات والممتلكات",4295.3200400000005,723,2437.9515241253503,1382.5029999999995,11279.508089672008,"Reinsurance - Property & Liability"]
[null,"المجموع - تأمين الممتلكات والمسؤوليات",{"$f":"C15+C16+C17+C18+C19+C20","v":7390240.6186148115},{"$f":"D15+D16+D17+D18+D19+D20","v":3364586.2272067708},3525948.455853628,3653589.2524514361,5536921.8603568105,"Total - Property & Liability Insurance"]
[]
[null,"المجموع - تأمين صحي",11924704.250725683,636678.34004659439,3808946.7630650732,8929177.8708756398,2941320.612021998,"Total - Health Insurance"]
[]
[null,"تأمين حياة جماعي ",355785.63467297918,2763.5507487120481,74292.691087592844,205054.11265291032,192194.99839390349,"Group Life"]
[null,"تأمين ائتمان حياة جماعي ",180968.13942000002,164.84172098124066,0,69938.149399999995,613521.17784135591,"Group Credit Life"]
[null,"تأمين حياة فردي",585050.42729589855,31950.351661377928,164.95715554200001,299510.3457486105,2692809.6014889767,"Individual Life"]
[null,"دفعات الحياة وتكوين الأموال",31.938599590400006,1,0,2736.1484111999998,0,"Annuities & Fund Accumulation"]
[null,"المجموع - تأمين الأشخاص وعمليات تكوين الأموال",{"$f":"C25+C26+C27+C28","v":1121836.1399884683},{"$f":"D25+D26+D27+D28","v":34879.744131071217},{"$f":"E25+E26+E27+E28","v":74457.648243134841},{"$f":"F25+F26+F27+F28","v":577238.75621272076},{"$f":"G25+G26+G27+G28","v":3498525.7777242362},"Total - Insurance of Persons & Fund Accumulation"]
[]
[null,"المجموع - كافة فروع التأمين",{"$f":"C21+C23+C29","v":20436781.009328961},{"$f":"D21+D23+D29","v":4036144.3113844362},7409352.8671618365,13160005.879539797,11976768.250103045,"TOTAL - All Types of Business Combined"]

{"sheet":"29B","index":60,"n_rows":31,"n_cols":8,"rows_kept":31,"cut":false,"hidden":false,"merged":[[5,1,5,7],[6,1,6,7],[7,1,7,7],[12,1,13,1],[12,7,13,7]]}
[]
[]
[]
[]
[]
[null,"البيانات بالصافي لإمارة أبو ظبي"]
[null,"Net Results for Abu Dhabi"]
[null,"(2025)"]
[]
[]
[null,"جدول رقم 29B",null,null,null,null,null,"TABLE 29B"]
[null,"بالألف درهم ",null,null,null,null,null,"AED in 000's"]
[null,"فروع التأمين","الأقساط المكتتبة ","أعداد الوثائق","مخصص الأقساط غير المكتسبة","المطالبات المدفوعة","مخصص المطالبات تحت التسوية","Line of Business"]
[null,null,"Written Premium","Number of Policies","Unearned Premium Reserve","Claims Paid","Outstanding Claim Reserves"]
[null,"تأمين الحريق",180198.14572248582,32735.71081985518,43263.224547792212,84591.232042729855,273471.95184729638,"Fire"]
[null,"التأمين البحري والطيران",112536.6126373726,23099.327462038204,-21131.344819994854,32994.547167461271,-44642.209489636967,"Marine & Aviation"]
[null,"تأمين السيارات والمركبات الأخرى",1652199.245178337,1470036.6519228215,977917.86762419401,1429944.4005932331,641072.06794890703,"Motor & Transportation"]
[null,"التأمين الهندسي والانشاءات والطاقة",287276.26122746512,15909.204960217634,76172.670091255874,25649.014248315518,124158.63901153553,"Engineering, Construction & Energy"]
[null,"أخرى",395749.72019198845,1822082.3320418382,137010.55165425886,47967.732606109261,109383.0379684459,"Other"]
[null,"اعادة التأمين غير النسبية - المسؤوليات والممتلكات",2683.5258200000007,723,1941.6035185713681,-1892.7952625000003,1341.3355080851688,"Reinsurance - Property & Liability"]
[null,"المجموع - تأمين الممتلكات والمسؤوليات",{"$f":"C15+C16+C17+C18+C19+C20","v":2630643.5107776495},{"$f":"D15+D16+D17+D18+D19+D20","v":3364586.2272067708},{"$f":"E15+E16+E17+E18+E19+E20","v":1215174.5726160777},{"$f":"F15+F16+F17+F18+F19+F20","v":1619254.131395349},{"$f":"G15+G16+G17+G18+G19+G20","v":1104784.822794633},"Total - Property & Liability Insurance"]
[]
[null,"المجموع - تأمين صحي",9140952.8610592503,636678.34004659439,2838920.1907565012,6912520.2423430793,2187252.1141359857,"Total - Health Insurance"]
[]
[null,"تأمين حياة جماعي ",97121.618321825968,2763.5507487120481,51621.750119946046,50109.154735576296,70937.80413911608,"Group Life"]
[null,"تأمين ائتمان حياة جماعي ",53536.448440000036,164.84172098124066,0,23853.680426750001,409027.32318280957,"Group Credit Life"]
[null,"تأمين حياة فردي",567513.28237324953,31950.351661377928,136.599823528,292781.26566824131,2674943.6232926138,"Individual Life"]
[null,"دفعات الحياة وتكوين الأموال",31.338980390400003,1,0,2736.1484111999998,0,"Annuities & Fund Accumulation"]
[null,"المجموع - تأمين الأشخاص وعمليات تكوين الأموال",{"$f":"C25+C26+C27+C28","v":718202.68811546592},{"$f":"D25+D26+D27+D28","v":34879.744131071217},{"$f":"E25+E26+E27+E28","v":51758.349943474044},{"$f":"F25+F26+F27+F28","v":369480.24924176757},{"$f":"G25+G26+G27+G28","v":3154908.7506145393},"Total - Insurance of Persons & Fund Accumulation"]
[]
[null,"المجموع - كافة فروع التأمين",{"$f":"C21+C23+C29","v":12489799.059952367},{"$f":"D21+D23+D29","v":4036144.3113844362},{"$f":"E21+E23+E29","v":4105853.1133160526},{"$f":"F21+F23+F29","v":8901254.622980196},{"$f":"G21+G23+G29","v":6446945.687545158},"TOTAL - All Types of Business Combined"]

{"sheet":"30A","index":61,"n_rows":31,"n_cols":8,"rows_kept":31,"cut":false,"hidden":false,"merged":[[5,1,5,7],[6,1,6,7],[7,1,7,7],[12,1,13,1],[12,7,13,7]]}
[]
[]
[]
[]
[]
[null,"البيانات بالإجمالي لإمارة عجمان"]
[null,"Gross Results for Ajman"]
[null,"(2025)"]
[]
[]
[null,"جدول رقم 30A",null,null,null,null,null,"TABLE 30A"]
[null,"بالألف درهم ",null,null,null,null,null,"AED in 000's"]
[null,"فروع التأمين","الأقساط المكتتبة ","أعداد الوثائق","مخصص الأقساط غير المكتسبة","المطالبات المدفوعة","مخصص المطالبات تحت التسوية","Line of Business"]
[null,null,"Written Premium","Number of Policies","Unearned Premium Reserve","Claims Paid","Outstanding Claim Reserves"]
[null,"تأمين الحريق",11980.490087364315,1929,2996.2854683019978,14237.487465287229,17975.600259837076,"Fire"]
[null,"التأمين البحري والطيران",2503.2623999755319,770,1184.0931974181869,7311.527404707268,899.73725939775727,"Marine & Aviation"]
[null,"تأمين السيارات والمركبات الأخرى",46333.400742514539,18100,14468.103601781331,28300.138910012567,28925.27167346343,"Motor & Transportation"]
[null,"التأمين الهندسي والانشاءات والطاقة",6628.0732662557512,170,5403.3796281751984,966.62827310091927,4922.8522611782291,"Engineering, Construction & Energy"]
[null,"أخرى",88082.894928318245,245555,5984.5536870615233,3049.1815863815677,9622.7271274102532,"Other"]
[null,"اعادة التأمين غير النسبية - المسؤوليات والممتلكات",0,0,0,0,0,"Reinsurance - Property & Liability"]
[null,"المجموع - تأمين الممتلكات والمسؤوليات",{"$f":"C15+C16+C17+C18+C19+C20","v":155528.12142442839},{"$f":"D15+D16+D17+D18+D19+D20","v":266524},30036.415582738242,53864.96363948955,62346.188581286748,"Total - Property & Liability Insurance"]
[]
[null,"المجموع - تأمين صحي",129874.11757153204,49994,34640.364198463685,58887.264411279742,16669.560401559731,"Total - Health Insurance"]
[]
[null,"تأمين حياة جماعي ",5545.9197079966725,80,1767.2312800688908,2297.1882348007421,1765.2926649570284,"Group Life"]
[null,"تأمين ائتمان حياة جماعي ",0,0,0,0,0,"Group Credit Life"]
[null,"تأمين حياة فردي",38247.858903761844,1574,0,33224.294490531785,142437.44263005332,"Individual Life"]
[null,"دفعات الحياة وتكوين الأموال",0,0,0,0,0,"Annuities & Fund Accumulation"]
[null,"المجموع - تأمين الأشخاص وعمليات تكوين الأموال",{"$f":"C25+C26+C27+C28","v":43793.77861175852},{"$f":"D25+D26+D27+D28","v":1654},1767.2312800688908,35521.482725332527,144202.73529501035,"Total - Insurance of Persons & Fund Accumulation"]
[]
[null,"المجموع - كافة فروع التأمين",{"$f":"C21+C23+C29","v":329196.01760771894},{"$f":"D21+D23+D29","v":318172},66444.011061270823,148273.71077610183,223218.48427785683,"TOTAL - All Types of Business Combined"]

{"sheet":"30B","index":62,"n_rows":31,"n_cols":8,"rows_kept":31,"cut":false,"hidden":false,"merged":[[5,1,5,7],[6,1,6,7],[7,1,7,7],[12,1,13,1],[12,7,13,7]]}
[]
[]
[]
[]
[]
[null,"البيانات بالصافي لإمارة عجمان"]
[null,"Net Results for Ajman"]
[null,"(2025)"]
[]
[]
[null,"جدول رقم 30B",null,null,null,null,null,"TABLE 30B"]
[null,"بالألف درهم ",null,null,null,null,null,"AED in 000's"]
[null,"فروع التأمين","الأقساط المكتتبة ","أعداد الوثائق","مخصص الأقساط غير المكتسبة","المطالبات المدفوعة","مخصص المطالبات تحت التسوية","Line of Business"]
[null,null,"Written Premium","Number of Policies","Unearned Premium Reserve","Claims Paid","Outstanding Claim Reserves"]
[null,"تأمين الحريق",2198.4232334012181,1929,545.34225309118074,198.49595860450017,11643.741242753626,"Fire"]
[null,"التأمين البحري والطيران",555.33896026444916,770,406.68553872227028,1080.4115241790755,196.49238251932277,"Marine & Aviation"]
[null,"تأمين السيارات والمركبات الأخرى",43402.838576842863,18100,13945.980687666526,25743.693443858752,26580.342950584949,"Motor & Transportation"]
[null,"التأمين الهندسي والانشاءات والطاقة",17.576796575719317,170,507.58252463359776,110.12290873147957,1797.2911026058171,"Engineering, Construction & Energy"]
[null,"أخرى",16419.139450943188,245555,1187.2393538543058,879.56167886158846,978.06436402092004,"Other"]
[null,"اعادة التأمين غير النسبية - المسؤوليات والممتلكات",0,0,0,0,0,"Reinsurance - Property & Liability"]
[null,"المجموع - تأمين الممتلكات والمسؤوليات",{"$f":"C15+C16+C17+C18+C19+C20","v":62593.317018027432},{"$f":"D15+D16+D17+D18+D19+D20","v":266524},16592.83035796788,28012.285514235395,41195.932042484637,"Total - Property & Liability Insurance"]
[]
[null,"المجموع - تأمين صحي",79198.979319043254,49994,21699.036598096845,31758.328444214934,9816.5043029866865,"Total - Health Insurance"]
[]
[null,"تأمين حياة جماعي ",2551.9393989296364,80,863.66493147058259,-472.59578718406613,455.10799735592423,"Group Life"]
[null,"تأمين ائتمان حياة جماعي ",0,0,0,0,0,"Group Credit Life"]
[null,"تأمين حياة فردي",38074.702428960656,1574,0,33183.8025951604,142281.32646718353,"Individual Life"]
[null,"دفعات الحياة وتكوين الأموال",0,0,0,0,0,"Annuities & Fund Accumulation"]
[null,"المجموع - تأمين الأشخاص وعمليات تكوين الأموال",{"$f":"C25+C26+C27+C28","v":40626.641827890293},{"$f":"D25+D26+D27+D28","v":1654},863.66493147058259,32711.206807976334,142736.43446453946,"Total - Insurance of Persons & Fund Accumulation"]
[]
[null,"المجموع - كافة فروع التأمين",{"$f":"C21+C23+C29","v":182418.938164961},{"$f":"D21+D23+D29","v":318172},39155.531887535304,92481.820766426652,193748.87081001079,"TOTAL - All Types of Business Combined"]

{"sheet":"31A","index":63,"n_rows":31,"n_cols":8,"rows_kept":31,"cut":false,"hidden":false,"merged":[[5,1,5,7],[6,1,6,7],[7,1,7,7],[12,1,13,1],[12,7,13,7]]}
[]
[]
[]
[]
[]
[null,"البيانات بالإجمالي لإمارة أم القيوين"]
[null,"Gross Results for Umm Al Quwain"]
[null,"(2025)"]
[]
[]
[null,"جدول رقم 31A",null,null,null,null,null,"TABLE 31A"]
[null,"بالألف درهم ",null,null,null,null,null,"AED in 000's"]
[null,"فروع التأمين","الأقساط المكتتبة ","أعداد الوثائق","مخصص الأقساط غير المكتسبة","المطالبات المدفوعة","مخصص المطالبات تحت التسوية","Line of Business"]
[null,null,"Written Premium","Number of Policies","Unearned Premium Reserve","Claims Paid","Outstanding Claim Reserves"]
[null,"تأمين الحريق",4863.7248499999996,330,175.78171164035561,113.26942969565464,267.03825645714585,"Fire"]
[null,"التأمين البحري والطيران",28.234530000000003,2,37.746099725124026,0,9.2914139781694054,"Marine & Aviation"]
[null,"تأمين السيارات والمركبات الأخرى",494.99178999999998,233,266.92865999999992,334.86225000000002,436.79518894277703,"Motor & Transportation"]
[null,"التأمين الهندسي والانشاءات والطاقة",10.815,1,0,0,13.388488335137485,"Engineering, Construction & Energy"]
[null,"أخرى",19556.92266805641,57917,77.566448392906537,2.7862200000000001,144.93540960046732,"Other"]
[null,"اعادة التأمين غير النسبية - المسؤوليات والممتلكات",0,0,0,0,0,"Reinsurance - Property & Liability"]
[null,"المجموع - تأمين الممتلكات والمسؤوليات",{"$f":"C15+C16+C17+C18+C19+C20","v":24954.688838056409},{"$f":"D15+D16+D17+D18+D19+D20","v":58483},558.02291975838614,450.91789969565468,871.44875731369712,"Total - Property & Liability Insurance"]
[]
[null,"المجموع - تأمين صحي",16718.416922153574,4637,2621.7548429919693,10347.356981799558,1260.338465922925,"Total - Health Insurance"]
[]
[null,"تأمين حياة جماعي ",2460.4453563636275,22,402.98024678385093,1021.544226044226,706.3866852349804,"Group Life"]
[null,"تأمين ائتمان حياة جماعي ",0,0,0,0,0,"Group Credit Life"]
[null,"تأمين حياة فردي",7054.2238067367298,274,0,5373.8251045472261,22325.863592534603,"Individual Life"]
[null,"دفعات الحياة وتكوين الأموال",0,0,0,0,0,"Annuities & Fund Accumulation"]
[null,"المجموع - تأمين الأشخاص وعمليات تكوين الأموال",{"$f":"C25+C26+C27+C28","v":9514.6691631003578},{"$f":"D25+D26+D27+D28","v":296},402.98024678385093,6395.3693305914521,23032.250277769584,"Total - Insurance of Persons & Fund Accumulation"]
[]
[null,"المجموع - كافة فروع التأمين",{"$f":"C21+C23+C29","v":51187.774923310339},{"$f":"D21+D23+D29","v":63416},3582.7580095342064,17193.644212086663,25164.037501006205,"TOTAL - All Types of Business Combined"]

{"sheet":"31B","index":64,"n_rows":31,"n_cols":8,"rows_kept":31,"cut":false,"hidden":false,"merged":[[5,1,5,7],[6,1,6,7],[7,1,7,7],[12,1,13,1],[12,7,13,7]]}
[]
[]
[]
[]
[]
[null,"البيانات بالصافي لإمارة أم القيوين"]
[null,"Net Results for Umm Al Quwain"]
[null,"(2025)"]
[]
[]
[null,"جدول رقم 31B",null,null,null,null,null,"TABLE 31B"]
[null,"بالألف درهم ",null,null,null,null,null,"AED in 000's"]
[null,"فروع التأمين","الأقساط المكتتبة ","أعداد الوثائق","مخصص الأقساط غير المكتسبة","المطالبات المدفوعة","مخصص المطالبات تحت التسوية","Line of Business"]
[null,null,"Written Premium","Number of Policies","Unearned Premium Reserve","Claims Paid","Outstanding Claim Reserves"]
[null,"تأمين الحريق",4733.217081425727,330,141.2873095028809,14.895601953747214,20.045571855172692,"Fire"]
[null,"التأمين البحري والطيران",8.4703800000000005,2,15.791720775435174,0,3.7600624974445274,"Marine & Aviation"]
[null,"تأمين السيارات والمركبات الأخرى",494.99178999999998,233,266.92865999999992,334.86225000000002,436.76864793863479,"Motor & Transportation"]
[null,"التأمين الهندسي والانشاءات والطاقة",0.30456656704116902,1,-0.15305170640887494,0,5.8389762958314453,"Engineering, Construction & Energy"]
[null,"أخرى",3436.4120138926833,57917,26.360958398136709,0.83587000000000033,47.356675301141465,"Other"]
[null,"اعادة التأمين غير النسبية - المسؤوليات والممتلكات",0,0,0,0,0,"Reinsurance - Property & Liability"]
[null,"المجموع - تأمين الممتلكات والمسؤوليات",{"$f":"C15+C16+C17+C18+C19+C20","v":8673.3958318854511},{"$f":"D15+D16+D17+D18+D19+D20","v":58483},450.2155969700438,350.59372195374721,513.76993388822495,"Total - Property & Liability Insurance"]
[]
[null,"المجموع - تأمين صحي",9054.3525803319899,4637,1743.8140224294166,5746.3090093051296,749.89937526734377,"Total - Health Insurance"]
[]
[null,"تأمين حياة جماعي ",944.69845198779728,22,301.01327936939799,336.23218673218668,186.47866662007849,"Group Life"]
[null,"تأمين ائتمان حياة جماعي ",0,0,0,0,0,"Group Credit Life"]
[null,"تأمين حياة فردي",7026.8706915150533,274,0,5370.9810445957173,22312.636288159527,"Individual Life"]
[null,"دفعات الحياة وتكوين الأموال",0,0,0,0,0,"Annuities & Fund Accumulation"]
[null,"المجموع - تأمين الأشخاص وعمليات تكوين الأموال",{"$f":"C25+C26+C27+C28","v":7971.5691435028502},{"$f":"D25+D26+D27+D28","v":296},301.01327936939799,5707.2132313279044,22499.114954779605,"Total - Insurance of Persons & Fund Accumulation"]
[]
[null,"المجموع - كافة فروع التأمين",{"$f":"C21+C23+C29","v":25699.317555720292},{"$f":"D21+D23+D29","v":63416},2495.0428987688583,11804.11596258678,23762.784263935173,"TOTAL - All Types of Business Combined"]

{"sheet":"32A","index":65,"n_rows":31,"n_cols":8,"rows_kept":31,"cut":false,"hidden":false,"merged":[[5,1,5,7],[6,1,6,7],[7,1,7,7],[12,1,13,1],[12,7,13,7]]}
[]
[]
[]
[]
[]
[null,"البيانات بالإجمالي لإمارة الشارقة"]
[null,"Gross Results for Sharjah"]
[null,"(2025)"]
[]
[]
[null,"جدول رقم 32A",null,null,null,null,null,"TABLE 32A"]
[null,"بالألف درهم ",null,null,null,null,null,"AED in 000's"]
[null,"فروع التأمين","الأقساط المكتتبة ","أعداد الوثائق","مخصص الأقساط غير المكتسبة","المطالبات المدفوعة","مخصص المطالبات تحت التسوية","Line of Business"]
[null,null,"Written Premium","Number of Policies","Unearned Premium Reserve","Claims Paid","Outstanding Claim Reserves"]
[null,"تأمين الحريق",105364.41253333438,6997.8472557291043,32513.922471379748,64409.243334114894,83298.542714315074,"Fire"]
[null,"التأمين البحري والطيران",73620.389279687646,12496.726542210121,15847.454741739479,22111.626555068928,31322.127639332939,"Marine & Aviation"]
[null,"تأمين السيارات والمركبات الأخرى",370084.28075342264,175430.44347286376,129904.90435502541,341379.0225597262,185504.79017570362,"Motor & Transportation"]
[null,"التأمين الهندسي والانشاءات والطاقة",84734.216108062858,2314.7669530921003,78664.021878066691,20140.532275643411,88679.324592521531,"Engineering, Construction & Energy"]
[null,"أخرى",209348.36506253239,532892.3099026928,28037.100817913823,7146.7366400800574,36979.240869832611,"Other"]
[null,"اعادة التأمين غير النسبية - المسؤوليات والممتلكات",99.808679999999995,33,0,0,0,"Reinsurance - Property & Liability"]
[null,"المجموع - تأمين الممتلكات والمسؤوليات",{"$f":"C15+C16+C17+C18+C19+C20","v":843251.47241703991},{"$f":"D15+D16+D17+D18+D19+D20","v":730165.09412658785},284967.40426412516,455187.16136463353,425784.02599170577,"Total - Property & Liability Insurance"]
[]
[null,"المجموع - تأمين صحي",1810268.3917259632,358714.67954860278,274279.37424594036,1324880.9890429266,572243.76488216303,"Total - Health Insurance"]
[]
[null,"تأمين حياة جماعي ",37745.721231874333,2295.9840724352334,12519.455132862633,18651.750750073985,15378.705142638393,"Group Life"]
[null,"تأمين ائتمان حياة جماعي ",240.45257000000001,3.3667810082052876,0,2110.1835700000001,361.78292759125628,"Group Credit Life"]
[null,"تأمين حياة فردي",151400.65503952387,7502.3676458686177,129.65469589400001,114976.6602227243,781249.66341414116,"Individual Life"]
[null,"دفعات الحياة وتكوين الأموال",0,0,0,0,0,"Annuities & Fund Accumulation"]
[null,"المجموع - تأمين الأشخاص وعمليات تكوين الأموال",{"$f":"C25+C26+C27+C28","v":189386.82884139821},{"$f":"D25+D26+D27+D28","v":9801.7184993120572},12649.109828756633,135738.5945427983,796990.15148437081,"Total - Insurance of Persons & Fund Accumulation"]
[]
[null,"المجموع - كافة فروع التأمين",{"$f":"C21+C23+C29","v":2842906.6929844012},{"$f":"D21+D23+D29","v":1098681.4921745027},571895.88833882217,1915806.7449503585,1795017.9423582396,"TOTAL - All Types of Business Combined"]

{"sheet":"32B","index":66,"n_rows":31,"n_cols":8,"rows_kept":31,"cut":false,"hidden":false,"merged":[[5,1,5,7],[6,1,6,7],[7,1,7,7],[12,1,13,1],[12,7,13,7]]}
[]
[]
[]
[]
[]
[null,"البيانات بالصافي لإمارة الشارقة"]
[null,"Net Results for Sharjah"]
[null,"(2025)"]
[]
[]
[null,"جدول رقم 32B",null,null,null,null,null,"TABLE 32B"]
[null,"بالألف درهم ",null,null,null,null,null,"AED in 000's"]
[null,"فروع التأمين","الأقساط المكتتبة ","أعداد الوثائق","مخصص الأقساط غير المكتسبة","المطالبات المدفوعة","مخصص المطالبات تحت التسوية","Line of Business"]
[null,null,"Written Premium","Number of Policies","Unearned Premium Reserve","Claims Paid","Outstanding Claim Reserves"]
[null,"تأمين الحريق",27295.896937765785,6997.8472557291043,9382.1224000495531,11110.173945843791,16914.261242918677,"Fire"]
[null,"التأمين البحري والطيران",18100.391426844755,12496.726542210121,5325.6608047455848,11558.398951394305,13497.37203693049,"Marine & Aviation"]
[null,"تأمين السيارات والمركبات الأخرى",311680.85582007794,175430.44347286376,108804.73463028081,304049.66034068179,152058.75253038786,"Motor & Transportation"]
[null,"التأمين الهندسي والانشاءات والطاقة",-1207.4680938290921,2314.7669530921003,4958.3036935536629,2211.4070080599959,9356.9482941001497,"Engineering, Construction & Energy"]
[null,"أخرى",51209.628886445877,532892.3099026928,7410.8674682703222,2230.603499718457,6974.1356425078084,"Other"]
[null,"اعادة التأمين غير النسبية - المسؤوليات والممتلكات",99.808679999999995,33,0,0,0,"Reinsurance - Property & Liability"]
[null,"المجموع - تأمين الممتلكات والمسؤوليات",{"$f":"C15+C16+C17+C18+C19+C20","v":407179.11365730525},{"$f":"D15+D16+D17+D18+D19+D20","v":730165.09412658785},135881.68899689993,331160.24374569836,198801.46974684499,"Total - Property & Liability Insurance"]
[]
[null,"المجموع - تأمين صحي",856216.07909572427,358714.67954860278,200303.26053508034,585459.20785575663,196266.38825004469,"Total - Health Insurance"]
[]
[null,"تأمين حياة جماعي ",13387.056234256932,2295.9840724352334,4884.6677469838187,4017.3343633099889,3482.5893381482879,"Group Life"]
[null,"تأمين ائتمان حياة جماعي ",55.820480000000011,3.3667810082052876,0,165.79541399999999,84.188916019383299,"Group Credit Life"]
[null,"تأمين حياة فردي",148811.3401066449,7502.3676458686177,112.96651152954522,114803.56962641176,777359.85364067182,"Individual Life"]
[null,"دفعات الحياة وتكوين الأموال",0,0,0,0,0,"Annuities & Fund Accumulation"]
[null,"المجموع - تأمين الأشخاص وعمليات تكوين الأموال",{"$f":"C25+C26+C27+C28","v":162254.21682090184},{"$f":"D25+D26+D27+D28","v":9801.7184993120572},4997.6342585133643,118986.69940372175,780926.63189483946,"Total - Insurance of Persons & Fund Accumulation"]
[]
[null,"المجموع - كافة فروع التأمين",{"$f":"C21+C23+C29","v":1425649.4095739312},{"$f":"D21+D23+D29","v":1098681.4921745027},341182.58379049361,1035606.1510051767,1175994.4898917291,"TOTAL - All Types of Business Combined"]

{"sheet":"33A","index":67,"n_rows":31,"n_cols":8,"rows_kept":31,"cut":false,"hidden":false,"merged":[[5,1,5,7],[6,1,6,7],[7,1,7,7],[12,1,13,1],[12,7,13,7]]}
[]
[]
[]
[]
[]
[null,"البيانات بالإجمالي لإمارة رأس الخيمة"]
[null,"Gross Results for Ras Al Khaimah"]
[null,"(2025)"]
[]
[]
[null,"جدول رقم 33A",null,null,null,null,null,"TABLE 33A"]
[null,"بالألف درهم ",null,null,null,null,null,"AED in 000's"]
[null,"فروع التأمين","الأقساط المكتتبة ","أعداد الوثائق","مخصص الأقساط غير المكتسبة","المطالبات المدفوعة","مخصص المطالبات تحت التسوية","Line of Business"]
[null,null,"Written Premium","Number of Policies","Unearned Premium Reserve","Claims Paid","Outstanding Claim Reserves"]
[null,"تأمين الحريق",38454.273119999998,2366.2684176741914,14152.558545476855,16731.575070750583,38149.593260507441,"Fire"]
[null,"التأمين البحري والطيران",7132.4121400000013,198.2371387466938,3797.4616147603197,512.98866291480431,3634.5215298364401,"Marine & Aviation"]
[null,"تأمين السيارات والمركبات الأخرى",251874.23422905794,209562.60105543604,117174.47641253928,118311.54281178508,134188.5751096319,"Motor & Transportation"]
[null,"التأمين الهندسي والانشاءات والطاقة",15039.435789999998,1156.0629056022403,35545.356683191923,3108.9465135237683,8462.7475477395492,"Engineering, Construction & Energy"]
[null,"أخرى",72770.635549079539,224167.91057134196,18638.650979583967,4130.8980247683012,17972.74028349217,"Other"]
[null,"اعادة التأمين غير النسبية - المسؤوليات والممتلكات",0,0,0,0,0,"Reinsurance - Property & Liability"]
[null,"المجموع - تأمين الممتلكات والمسؤوليات",{"$f":"C15+C16+C17+C18+C19+C20","v":385270.9908281375},{"$f":"D15+D16+D17+D18+D19+D20","v":437451.0800888011},{"$f":"E15+E16+E17+E18+E19+E20","v":189308.50423555236},{"$f":"F15+F16+F17+F18+F19+F20","v":142795.95108374252},{"$f":"G15+G16+G17+G18+G19+G20","v":202408.17773120748},"Total - Property & Liability Insurance"]
[]
[null,"المجموع - تأمين صحي",148646.78161671339,55156.044858523819,51744.96547153651,113947.70142186625,30623.663411984548,"Total - Health Insurance"]
[]
[null,"تأمين حياة جماعي ",5229.5415445454637,108.07240050372312,1531.0340842293756,3180.7185871744473,2671.3498205849528,"Group Life"]
[null,"تأمين ائتمان حياة جماعي ",84090.105779999998,38.014693212522374,0,11400.184869999999,17930.5736,"Group Credit Life"]
[null,"تأمين حياة فردي",18498.470323134155,820.62607394187626,0,18043.89285791355,80480.044197834126,"Individual Life"]
[null,"دفعات الحياة وتكوين الأموال",0,0,0,0,0,"Annuities & Fund Accumulation"]
[null,"المجموع - تأمين الأشخاص وعمليات تكوين الأموال",{"$f":"C25+C26+C27+C28","v":107818.11764767961},{"$f":"D25+D26+D27+D28","v":966.71316765812173},{"$f":"E25+E26+E27+E28","v":1531.0340842293756},{"$f":"F25+F26+F27+F28","v":32624.796315087995},{"$f":"G25+G26+G27+G28","v":101081.96761841908},"Total - Insurance of Persons & Fund Accumulation"]
[]
[null,"المجموع - كافة فروع التأمين",{"$f":"C21+C23+C29","v":641735.89009253052},{"$f":"D21+D23+D29","v":493573.83811498305},242584.50379131825,289368.44882069679,334113.80876161112,"TOTAL - All Types of Business Combined"]

{"sheet":"33B","index":68,"n_rows":31,"n_cols":8,"rows_kept":31,"cut":false,"hidden":false,"merged":[[5,1,5,7],[6,1,6,7],[7,1,7,7],[12,1,13,1],[12,7,13,7]]}
[]
[]
[]
[]
[]
[null,"البيانات بالصافي لإمارة رأس الخيمة"]
[null,"Net Results for Ras Al Khaimah"]
[null,"(2025)"]
[]
[]
[null,"جدول رقم 33B",null,null,null,null,null,"TABLE 33B"]
[null,"بالألف درهم ",null,null,null,null,null,"AED in 000's"]
[null,"فروع التأمين","الأقساط المكتتبة ","أعداد الوثائق","مخصص الأقساط غير المكتسبة","المطالبات المدفوعة","مخصص المطالبات تحت التسوية","Line of Business"]
[null,null,"Written Premium","Number of Policies","Unearned Premium Reserve","Claims Paid","Outstanding Claim Reserves"]
[null,"تأمين الحريق",5985.8132233329206,2366.2684176741914,1839.8214002356756,2133.7291538366612,6347.1634954869942,"Fire"]
[null,"التأمين البحري والطيران",1590.8719034340002,198.2371387466938,435.58099734041429,35.623981497829448,494.64491992029537,"Marine & Aviation"]
[null,"تأمين السيارات والمركبات الأخرى",233135.28389618921,209562.60105543604,114517.99651881379,109543.73991487185,109201.41698576053,"Motor & Transportation"]
[null,"التأمين الهندسي والانشاءات والطاقة",3591.3328170677719,1156.0629056022403,1586.8408321445486,281.43971945807004,893.05473363445242,"Engineering, Construction & Energy"]
[null,"أخرى",20840.924960263474,224167.91057134196,4594.8544090698651,3343.015172526349,1877.7669799872815,"Other"]
[null,"اعادة التأمين غير النسبية - المسؤوليات والممتلكات",0,0,0,0,0,"Reinsurance - Property & Liability"]
[null,"المجموع - تأمين الممتلكات والمسؤوليات",{"$f":"C15+C16+C17+C18+C19+C20","v":265144.22680028738},{"$f":"D15+D16+D17+D18+D19+D20","v":437451.0800888011},{"$f":"E15+E16+E17+E18+E19+E20","v":122975.0941576043},{"$f":"F15+F16+F17+F18+F19+F20","v":115337.54794219075},{"$f":"G15+G16+G17+G18+G19+G20","v":118814.04711478954},"Total - Property & Liability Insurance"]
[]
[null,"المجموع - تأمين صحي",97411.175407643081,55156.044858523819,38387.993419888167,77892.521347583461,25124.334640800953,"Total - Health Insurance"]
[]
[null,"تأمين حياة جماعي ",2148.1853670454698,108.07240050372312,803.623943886147,1048.7975676658475,832.82101006969197,"Group Life"]
[null,"تأمين ائتمان حياة جماعي ",41502.95003,38.014693212522374,0,1160.2191599999983,2523.9731455000042,"Group Credit Life"]
[null,"تأمين حياة فردي",18383.191575297973,820.62607394187626,0,18003.093473672863,80128.664208678194,"Individual Life"]
[null,"دفعات الحياة وتكوين الأموال",0,0,0,0,0,"Annuities & Fund Accumulation"]
[null,"المجموع - تأمين الأشخاص وعمليات تكوين الأموال",{"$f":"C25+C26+C27+C28","v":62034.32697234345},{"$f":"D25+D26+D27+D28","v":966.71316765812173},803.623943886147,20212.11020133871,83485.458364247897,"Total - Insurance of Persons & Fund Accumulation"]
[]
[null,"المجموع - كافة فروع التأمين",{"$f":"C21+C23+C29","v":424589.72918027389},{"$f":"D21+D23+D29","v":493573.83811498305},162166.7115213786,213442.17949111294,227423.84011983839,"TOTAL - All Types of Business Combined"]

{"sheet":"34A","index":69,"n_rows":31,"n_cols":8,"rows_kept":31,"cut":false,"hidden":false,"merged":[[5,1,5,7],[6,1,6,7],[7,1,7,7],[12,1,13,1],[12,7,13,7]]}
[]
[]
[]
[]
[]
[null,"البيانات بالإجمالي لإمارة الفجيرة"]
[null,"Gross Results for Fujairah"]
[null,"(2025)"]
[]
[]
[null,"جدول رقم 34A",null,null,null,null,null,"TABLE 34A"]
[null,"بالألف درهم ",null,null,null,null,null,"AED in 000's"]
[null,"فروع التأمين","الأقساط المكتتبة ","أعداد الوثائق","مخصص الأقساط غير المكتسبة","المطالبات المدفوعة","مخصص المطالبات تحت التسوية","Line of Business"]
[null,null,"Written Premium","Number of Policies","Unearned Premium Reserve","Claims Paid","Outstanding Claim Reserves"]
[null,"تأمين الحريق",76574.459129999988,1668,12186.144990898318,439849.00697725575,18738.090315454727,"Fire"]
[null,"التأمين البحري والطيران",11051.69397,379,2692.7409312104596,1336.32752,1269.2442385537045,"Marine & Aviation"]
[null,"تأمين السيارات والمركبات الأخرى",156516.51896000002,81609,81280.624670901147,94517.991909999997,29133.589228235389,"Motor & Transportation"]
[null,"التأمين الهندسي والانشاءات والطاقة",13879.62911,380,7330.6749132077985,53845.99652496363,9478.5620449452836,"Engineering, Construction & Energy"]
[null,"أخرى",36421.476333726467,87953,2911.9870756810178,530.96693000000005,3294.2638590862853,"Other"]
[null,"اعادة التأمين غير النسبية - المسؤوليات والممتلكات",0,0,0,0,0,"Reinsurance - Property & Liability"]
[null,"المجموع - تأمين الممتلكات والمسؤوليات",{"$f":"C15+C16+C17+C18+C19+C20","v":294443.77750372648},{"$f":"D15+D16+D17+D18+D19+D20","v":171989},{"$f":"E15+E16+E17+E18+E19+E20","v":106402.17258189873},{"$f":"F15+F16+F17+F18+F19+F20","v":590080.28986221936},{"$f":"G15+G16+G17+G18+G19+G20","v":61913.749686275383},"Total - Property & Liability Insurance"]
[]
[null,"المجموع - تأمين صحي",139917.57717998783,202479,46027.680837728862,62697.854890690003,15243.885718961086,"Total - Health Insurance"]
[]
[null,"تأمين حياة جماعي ",4310.8242609090903,99,466.89334844867545,1867.3538140294841,1725.1004977195191,"Group Life"]
[null,"تأمين ائتمان حياة جماعي ",0,0,0,0,0,"Group Credit Life"]
[null,"تأمين حياة فردي",8139.5058432190808,349,0,6353.3174658497883,27279.76157101808,"Individual Life"]
[null,"دفعات الحياة وتكوين الأموال",0,0,0,0,0,"Annuities & Fund Accumulation"]
[null,"المجموع - تأمين الأشخاص وعمليات تكوين الأموال",{"$f":"C25+C26+C27+C28","v":12450.33010412817},{"$f":"D25+D26+D27+D28","v":448},{"$f":"E25+E26+E27+E28","v":466.89334844867545},{"$f":"F25+F26+F27+F28","v":8220.6712798792723},{"$f":"G25+G26+G27+G28","v":29004.862068737599},"Total - Insurance of Persons & Fund Accumulation"]
[]
[null,"المجموع - كافة فروع التأمين",{"$f":"C21+C23+C29","v":446811.6847878425},{"$f":"D21+D23+D29","v":374916},152896.74676807626,660998.8160327886,106162.49747397407,"TOTAL - All Types of Business Combined"]

{"sheet":"34B","index":70,"n_rows":31,"n_cols":8,"rows_kept":31,"cut":false,"hidden":false,"merged":[[5,1,5,7],[6,1,6,7],[7,1,7,7],[12,1,13,1],[12,7,13,7]]}
[]
[]
[]
[]
[]
[null,"البيانات بالصافي لإمارة الفجيرة"]
[null,"Net Results for Fujairah"]
[null,"(2025)"]
[]
[]
[null,"جدول رقم 34B",null,null,null,null,null,"TABLE 34B"]
[null,"بالألف درهم ",null,null,null,null,null,"AED in 000's"]
[null,"فروع التأمين","الأقساط المكتتبة ","أعداد الوثائق","مخصص الأقساط غير المكتسبة","المطالبات المدفوعة","مخصص المطالبات تحت التسوية","Line of Business"]
[null,null,"Written Premium","Number of Policies","Unearned Premium Reserve","Claims Paid","Outstanding Claim Reserves"]
[null,"تأمين الحريق",48847.580022059519,1668,2742.2528872814696,55524.570870512805,2739.3326556307657,"Fire"]
[null,"التأمين البحري والطيران",1789.6806640429904,379,344.33801049665345,28.176339999999989,243.57847823100809,"Marine & Aviation"]
[null,"تأمين السيارات والمركبات الأخرى",147335.91947339961,81609,80840.986078638205,85990.842569999746,26799.850624303628,"Motor & Transportation"]
[null,"التأمين الهندسي والانشاءات والطاقة",3532.4729101780858,380,1906.1685232877103,9070.6191198867891,1720.2951900494231,"Engineering, Construction & Energy"]
[null,"أخرى",-140721.19143072411,87953,1523.1955739033801,120.95685000000235,466.38559929132305,"Other"]
[null,"اعادة التأمين غير النسبية - المسؤوليات والممتلكات",0,0,0,0,0,"Reinsurance - Property & Liability"]
[null,"المجموع - تأمين الممتلكات والمسؤوليات",{"$f":"C15+C16+C17+C18+C19+C20","v":60784.461638956127},{"$f":"D15+D16+D17+D18+D19+D20","v":171989},{"$f":"E15+E16+E17+E18+E19+E20","v":87356.941073607421},{"$f":"F15+F16+F17+F18+F19+F20","v":150735.16575039935},{"$f":"G15+G16+G17+G18+G19+G20","v":31969.442547506147},"Total - Property & Liability Insurance"]
[]
[null,"المجموع - تأمين صحي",105431.11603032811,202479,36566.574397956858,29069.154388597963,8085.9084996053434,"Total - Health Insurance"]
[]
[null,"تأمين حياة جماعي ",-1541.1822211191038,99,172.5389230667455,378.21042115479128,317.973109163402,"Group Life"]
[null,"تأمين ائتمان حياة جماعي ",0,0,0,0,0,"Group Credit Life"]
[null,"تأمين حياة فردي",8100.279343092152,349,0,6350.0547371744515,27258.508088073431,"Individual Life"]
[null,"دفعات الحياة وتكوين الأموال",0,0,0,0,0,"Annuities & Fund Accumulation"]
[null,"المجموع - تأمين الأشخاص وعمليات تكوين الأموال",{"$f":"C25+C26+C27+C28","v":6559.0971219730482},{"$f":"D25+D26+D27+D28","v":448},{"$f":"E25+E26+E27+E28","v":172.5389230667455},{"$f":"F25+F26+F27+F28","v":6728.2651583292427},{"$f":"G25+G26+G27+G28","v":27576.481197236833},"Total - Insurance of Persons & Fund Accumulation"]
[]
[null,"المجموع - كافة فروع التأمين",{"$f":"C21+C23+C29","v":172774.6747912573},{"$f":"D21+D23+D29","v":374916},{"$f":"E21+E23+E29","v":124096.05439463104},{"$f":"F21+F23+F29","v":186532.58529732656},{"$f":"G21+G23+G29","v":67631.832244348334},"TOTAL - All Types of Business Combined"]

{"sheet":"Ins. Companies","index":71,"n_rows":66,"n_cols":14,"rows_kept":66,"cut":false,"hidden":false,"merged":[[2,0,2,13],[3,0,3,13],[4,0,4,13],[6,0,7,0],[6,1,7,1],[6,2,7,2],[6,3,7,3],[6,4,7,4],[6,5,7,5],[6,8,7,8],[6,9,7,9],[6,10,7,10],[6,11,7,11],[6,12,7,12],[6,13,7,13]]}
[]
[]
["دليل شركات التأمين في دولة الإمارات العربية المتحدة"]
["Directory of insurance companies in the UAE"]
[]
[]
["رقم القيد","الاسم","الشكل القانوني","جنسية الشركة","تأمين تقليدي / تأمين تكافلي","أنواع التأمين ","الموقع الالكتروني","تاريخ القيد","Insurance Type ","Traditional Insurance / Takaful Insurance","Company Nationality","Legal Type","Name","Registration Number"]
[null,null,null,null,null,null,"Web Site","Registration Date"]
[1,"شركة أبوظبي الوطنية للتامين","شركة مساهمة عامة","الإمارات العربية المتحدة","تأمين تقليدي","تأمين الممتلكات والمسؤوليات + تأمين الأشخاص وعمليات تكوين الأموال","www.adnic.ae","1984-07-22","Property and Liability Insurance + Insurance of Persons and Fund Accumulation Operations","Traditional Insurance","United Arab Emirate","Public Joint Stock","Abu Dhabi National Insurance Company",1]
[2,"شركة الامارات للتأمين (ش.م.ع)","شركة مساهمة عامة","الإمارات العربية المتحدة","تأمين تقليدي","تأمين الممتلكات والمسؤوليات + تأمين الأشخاص وعمليات تكوين الأموال","www.eminsco.com","1985-08-26","Property and Liability Insurance + Insurance of Persons and Fund Accumulation Operations","Traditional Insurance","United Arab Emirate","Public Joint Stock","Emirates Insurance Company (PSC)",2]
[3,"شركة العين الاهلية للتأمين","شركة مساهمة عامة","الإمارات العربية المتحدة","تأمين تقليدي","تأمين الممتلكات والمسؤوليات + تأمين الأشخاص وعمليات تكوين الأموال","www.alaininsurance.com ","1984-08-08","Property and Liability Insurance + Insurance of Persons and Fund Accumulation Operations","Traditional Insurance","United Arab Emirate","Public Joint Stock","Al Ain Ahlia Insurance Company",3]
[4,"شركة دبي للتأمين شركة مساهمة عامة","شركة مساهمة عامة","الإمارات العربية المتحدة","تأمين تقليدي","تأمين الممتلكات والمسؤوليات + تأمين الأشخاص وعمليات تكوين الأموال","www.dubins.ae ","1984-11-13","Property and Liability Insurance + Insurance of Persons and Fund Accumulation Operations","Traditional Insurance","United Arab Emirate","Public Joint Stock","Dubai Insurance Company (PSC)",4]
[5,"شركة الظفرة للتأمين","شركة مساهمة عامة","الإمارات العربية المتحدة","تأمين تقليدي","تأمين الممتلكات والمسؤوليات + تأمين الأشخاص وعمليات تكوين الأموال","www.aldhafrainsurance.ae ","1984-11-14","Property and Liability Insurance + Insurance of Persons and Fund Accumulation Operations","Traditional Insurance","United Arab Emirate","Public Joint Stock","Al dhafra Insurance Company",5]
[6,"سكون تكافل ش م ع","شركة مساهمة عامة","الإمارات العربية المتحدة","تأمين تكافلي","تأمين الممتلكات والمسؤوليات + تأمين الأشخاص وعمليات تكوين الأموال","www.sukoontakaful.com","1984-12-15","Property and Liability Insurance + Insurance of Persons and Fund Accumulation Operations","Takaful Insurance","United Arab Emirate","Public Joint Stock","Sukoon Takaful PJSC",6]
[7,"شركة رأس الخيمة الوطنية للتأمين","شركة مساهمة عامة","الإمارات العربية المتحدة","تأمين تقليدي","تأمين الممتلكات والمسؤوليات + تأمين الأشخاص وعمليات تكوين الأموال","www.rakinsurance.com","1998-12-20","Property and Liability Insurance + Insurance of Persons and Fund Accumulation Operations","Traditional Insurance","United Arab Emirate","Public Joint Stock","Ras Al Khaimah National Insurance Company P.S.C",7]
[8,"شركة التأمين فيدلتي المتحدة","شركة مساهمة عامة","الإمارات العربية المتحدة","تأمين تقليدي","تأمين الممتلكات والمسؤوليات + تأمين الأشخاص وعمليات تكوين الأموال","www.fidelityunited.ae","1984-12-22","Property and Liability Insurance + Insurance of Persons and Fund Accumulation Operations","Traditional Insurance","United Arab Emirate","Public Joint Stock","United Fidelity Insurance Company",8]
[9,"شركة سكون للتأمين (مساهمة عامة)","شركة مساهمة عامة","الإمارات العربية المتحدة","تأمين تقليدي","تأمين الممتلكات والمسؤوليات + تأمين الأشخاص وعمليات تكوين الأموال","www.sukoon.com","1984-12-24","Property and Liability Insurance + Insurance of Persons and Fund Accumulation Operations","Traditional Insurance","United Arab Emirate","Public Joint Stock","Sukoon Insurance  Company (PJSC)",9]
[10,"شركة الوثبة الوطنية للتأمين","شركة مساهمة عامة","الإمارات العربية المتحدة","تأمين تقليدي","تأمين الممتلكات والمسؤوليات ","www.awnic.com","1984-12-24","Property and Liability Insurance ","Traditional Insurance","United Arab Emirate","Public Joint Stock","Al Wathba National Insurance Company",10]
[11,"شركة الفجيرة الوطنية للتأمين - ش . م . ع","شركة مساهمة عامة","الإمارات العربية المتحدة","تأمين تقليدي","تأمين الممتلكات والمسؤوليات + تأمين الأشخاص وعمليات تكوين الأموال","www.afnic.ae","1984-12-25","Property and Liability Insurance + Insurance of Persons and Fund Accumulation Operations","Traditional Insurance","United Arab Emirate","Public Joint Stock","Al Fujairah National Insurance Company PSC",11]
[12,"شركة الشارقة للتأمين","شركة مساهمة عامة","الإمارات العربية المتحدة","تأمين تقليدي","تأمين الممتلكات والمسؤوليات + تأمين الأشخاص وعمليات تكوين الأموال","www.sharjahinsurance.co.ae","1984-12-25","Property and Liability Insurance + Insurance of Persons and Fund Accumulation Operations","Traditional Insurance","United Arab Emirate","Public Joint Stock","Sharjah Insurance Company (P.S.C)",12]
[14,"شركة أورينت للتأمين","شركة مساهمة عامة","الإمارات العربية المتحدة","تأمين تقليدي","تأمين الممتلكات والمسؤوليات + تأمين الأشخاص وعمليات تكوين الأموال","www.insuranceuae.com","1984-12-29","Property and Liability Insurance + Insurance of Persons and Fund Accumulation Operations","Traditional Insurance","United Arab Emirate","Public Joint Stock","Orient Insurance Company",14]
[15,"شركة البحيرة الوطنية للتأمين","شركة مساهمة عامة","الإمارات العربية المتحدة","تأمين تقليدي","تأمين الممتلكات والمسؤوليات + تأمين الأشخاص وعمليات تكوين الأموال","www.albuhaira.com","1984-12-30","Property and Liability Insurance + Insurance of Persons and Fund Accumulation Operations","Traditional Insurance","United Arab Emirate","Public Joint Stock","Al Buharia National Insurance Company",15]
[16,"شركة الصقر الوطنية للتأمين (شركة مساهمة عامة)","شركة مساهمة عامة","الإمارات العربية المتحدة","تأمين تقليدي","تأمين الممتلكات والمسؤوليات + تأمين الأشخاص وعمليات تكوين الأموال","www.alsagrins.ae","1989-10-26","Property and Liability Insurance + Insurance of Persons and Fund Accumulation Operations","Traditional Insurance","United Arab Emirate","Public Joint Stock","Al Sagr National Insurance Company (PSC)",16]
[17,"الشركة الإسلامية العربية للتأمين (سلامة)","شركة مساهمة عامة","الإمارات العربية المتحدة","تأمين تكافلي","تأمين الممتلكات والمسؤوليات + تأمين الأشخاص وعمليات تكوين الأموال","www.salama.ae","1984-12-25","Property and Liability Insurance + Insurance of Persons and Fund Accumulation Operations","Takaful Insurance","United Arab Emirate","Public Joint Stock","Islamic Arab Insurance Company \"SALAMA\"",17]
[18,"اللاينس للتأمين","شركة مساهمة عامة","الإمارات العربية المتحدة","تأمين تقليدي","تأمين الممتلكات والمسؤوليات + تأمين الأشخاص وعمليات تكوين الأموال","www.alliance-uae.com","1984-12-31","Property and Liability Insurance + Insurance of Persons and Fund Accumulation Operations","Traditional Insurance","United Arab Emirate","Public Joint Stock","Alliance Insurance Company",18]
[20,"شركة التأمين العربية ش م ل","فرع شركة أجنبية","لبنان","تأمين تقليدي","تأمين الممتلكات والمسؤوليات + تأمين الأشخاص وعمليات تكوين الأموال","www.arabiainsurance.com","1984-11-01","Property and Liability Insurance + Insurance of Persons and Fund Accumulation Operations","Traditional Insurance","Lebanon","Foreign Company Branch","Arabia Insurance Company sal",20]
[21,"شركة التأمين الأردنية المساهمة المحدودة","فرع شركة أجنبية","الأردن ","تأمين تقليدي","تأمين الممتلكات والمسؤوليات","www.jicjo.com","1984-12-01","Property and Liability Insurance","Traditional Insurance","Jordan","Foreign Company Branch","Jordan Insurance Company Ltd",21]
[22,"شركة التأمين العربية السعودية ش . م . ب(م)","فرع شركة خليجية","البحرين","تأمين تقليدي","تأمين الممتلكات والمسؤوليات","www.damana.com","1984-12-13","Property and Liability Insurance","Traditional Insurance","Bahrain","GCC Company Branch","Saudi Arabian Insurance Company B.S.C (C)",22]
[30,"شركة سهامي بيمة ايران","فرع شركة أجنبية","ايران ","تأمين تقليدي","تأمين الممتلكات والمسؤوليات","www.bimehir.ae","1984-12-19","Property and Liability Insurance","Traditional Insurance","Iran, Islamic Republic of ","Foreign Company Branch","Iran Insurance Company",30]
[32,"ميتسوى  سوميتومو انشورانس كومبانى ليمتد","فرع شركة أجنبية","اليابان ","تأمين تقليدي","تأمين الممتلكات والمسؤوليات","www.ms-ins.com","1984-12-22","Property and Liability Insurance","Traditional Insurance","Japan","Foreign Company Branch","Mitsui Sumitomo Insurance Company Ltd",32]
[34,"اميركان لايف انشورنس كومباني","فرع شركة أجنبية","الولايات المتحدة الامريكية ","تأمين تقليدي","تأمين الممتلكات والمسؤوليات + تأمين الأشخاص وعمليات تكوين الأموال","www.metlife .ae","1984-12-23","Property and Liability Insurance + Insurance of Persons and Fund Accumulation Operations","Traditional Insurance","United  States of America","Foreign Company Branch","American Life Insurance Company",34]
[37,"ذي أورينتال أنشورانس كومباني ليمتد","فرع شركة أجنبية","الهند ","تأمين تقليدي","تأمين الممتلكات والمسؤوليات","www.orientalinsurance.org.in","1984-12-29","Property and Liability Insurance","Traditional Insurance","India","Foreign Company Branch","The Oriental Insurance Company Limited",37]
[38,"شركة قطر للتأمين","فرع شركة أجنبية","قطر","تأمين تقليدي","تأمين الممتلكات والمسؤوليات","www.qatarinsurance.com","1984-12-29","Property and Liability Insurance","Traditional Insurance","Qatar","Foreign Company Branch","Qatar Insurance Company",38]
[42,"الإتحاد الوطني - شركة الضمان العامة للشرق الأدنى","فرع شركة أجنبية","لبنان","تأمين تقليدي","تأمين الممتلكات والمسؤوليات + تأمين الأشخاص وعمليات تكوين الأموال","www.unic.ae","1984-12-29","Property and Liability Insurance + Insurance of Persons and Fund Accumulation Operations","Traditional Insurance","Lebanon","Foreign Company Branch","Al Ittihad Al Watani - General Insurance Company for the Near East",42]
[43,"الشركة القطرية العامة للتأمين وإعادة التأمين ش.م.ق","فرع شركة أجنبية","قطر","تأمين تقليدي","تأمين الممتلكات والمسؤوليات + تأمين الأشخاص وعمليات تكوين الأموال","www.qgirco.com","1984-12-29","Property and Liability Insurance + Insurance of Persons and Fund Accumulation Operations","Traditional Insurance","Qatar","Foreign Company Branch","Qatar General Insurance & Reinsurance Company S.A.Q",43]
[44,"أدمجي انشورنس كومباني ليمتد فرع دبي ","فرع شركة أجنبية","باكستان ","تأمين تقليدي","تأمين الممتلكات والمسؤوليات","www.adamjeeinsurance.com","1984-12-29","Property and Liability Insurance","Traditional Insurance","Pakistan","Foreign Company Branch","Adamjee Insurance Company Limited",44]
[45,"طوكيو مارين اند نيتشيدو فايرانشورانس كومباني ليمتد","فرع شركة أجنبية","اليابان ","تأمين تقليدي","تأمين الممتلكات والمسؤوليات","www.tmnf.ae","1984-12-29","Property and Liability Insurance","Traditional Insurance","Japan","Foreign Company Branch","Tokio Marine & Nichido Fire Insurance Company Ltd",45]
[48,"سيغنا الشرق الأوسط للتأمين ش.م.ل","فرع شركة أجنبية","لبنان ","تأمين تقليدي","تأمين الممتلكات والمسؤوليات","www.cigna.com","1984-12-30","Property and Liability Insurance","Traditional Insurance","Lebanon","Foreign Company Branch","Cigna Insurance Middle East S.A.L",48]
[49,"ذي نيو انديا اشورانس كومباني ليمتد","فرع شركة أجنبية","الهند ","تأمين تقليدي","تأمين الممتلكات والمسؤوليات","www.nia-dubai.com","1984-12-30","Property and Liability Insurance","Traditional Insurance","India","Foreign Company Branch","The New India Assurance Company Limited",49]
[54,"ستيت لايف أنشورانس كوربوريشن أوف باكستان","فرع شركة أجنبية","باكستان","تأمين تقليدي","تأمين الأشخاص وعمليات تكوين الأموال","www.statelifegulf.ae","1984-12-30","Insurance of Persons and Fund Accumulation Operations","Traditional Insurance","Pakistan","Foreign Company Branch","State Life Insurance Corporation Of Pakistan",54]
[61,"الشركة الوطنية للتأمينات العامة","شركة مساهمة عامة","الإمارات العربية المتحدة","تأمين تقليدي","تأمين الممتلكات والمسؤوليات + تأمين الأشخاص وعمليات تكوين الأموال","www.ngiuae.com","1984-12-31","Property and Liability Insurance + Insurance of Persons and Fund Accumulation Operations","Traditional Insurance","United Arab Emirate","Public Joint Stock","National General Insurance Company",61]
[62,"زيوريخ لايف أنشورانس كومباني ليمتد","فرع شركة أجنبية","سويسرا","تأمين تقليدي","تأمين الأشخاص وعمليات تكوين الأموال","www.zurich.ae","1988-04-04","Insurance of Persons and Fund Accumulation Operations","Traditional Insurance","Switzerland","Foreign Company Branch","Zurich Life Insurance Company Limited",62]
[63,"زيوريخ إنترناشيونال لايف ليمتد","فرع شركة أجنبية","المملكة المتحدة","تأمين تقليدي","تأمين الأشخاص وعمليات تكوين الأموال","www.zurich.com","1991-06-07","Insurance of Persons and Fund Accumulation Operations","Traditional Insurance","United Kingdom","Foreign Company Branch","Zurich International Life Limited",63]
[64,"دبي الوطنية للتأمين واعادة التأمين ش.م.ع","شركة مساهمة عامة","الإمارات العربية المتحدة","تأمين تقليدي","تأمين الممتلكات والمسؤوليات + تأمين الأشخاص وعمليات تكوين الأموال","www.dni.ae","1992-01-06","Property and Liability Insurance + Insurance of Persons and Fund Accumulation Operations","Traditional Insurance","United Arab Emirate","Public Joint Stock","Dubai National Insurance & Reinsurance Company P.S.C",64]
[65,"ليفا للتأمين (الشرق الاوسط) ش . م . ب(م)","فرع شركة أجنبية","البحرين","تأمين تقليدي","تأمين الممتلكات والمسؤوليات","www.livainsurance.ae","1992-10-21","Property and Liability Insurance","Traditional Insurance","bahrain","Foreign Company Branch","LIVA Insurance B.S.C. ©",65]
[67,"شركة الاتحاد للتأمين","شركة مساهمة عامة","الإمارات العربية المتحدة","تأمين تقليدي","تأمين الممتلكات والمسؤوليات + تأمين الأشخاص وعمليات تكوين الأموال","www.unioninsurance.ae","1998-04-26","Property and Liability Insurance + Insurance of Persons and Fund Accumulation Operations","Traditional Insurance","United Arab Emirate","Public Joint Stock","Union Insurance",67]
[69,"مجموعة الخليج للتأمين (الخليج) ش.م.ب مقفله","فرع شركة خليجية","البحرين","تأمين تقليدي","تأمين الممتلكات والمسؤوليات + تأمين الأشخاص وعمليات تكوين الأموال","www.GIG-Gulf.com","2002-01-22","Property and Liability Insurance + Insurance of Persons and Fund Accumulation Operations","Traditional Insurance","Bahrain","GCC Company Branch","Gulf Insurance Group (Gulf) B.S.C Closed",69]
[70,"شركة دبى الإسلامية للتأمين وإعادة التأمين (أمان)","شركة مساهمة عامة","الإمارات العربية المتحدة","تأمين تكافلي","تأمين الممتلكات والمسؤوليات + تأمين الأشخاص وعمليات تكوين الأموال","www.aman.ae","2003-09-16","Property and Liability Insurance + Insurance of Persons and Fund Accumulation Operations","Takaful Insurance","United Arab Emirate","Public Joint Stock","Dubai Islamic Insurance & Reinsurance Co. (Aman) P.S.C",70]
[71,"شركة أبوظبي الوطنية للتكافل - ش م ع - تكافل","شركة مساهمة عامة","الإمارات العربية المتحدة","تأمين تكافلي","تأمين الممتلكات والمسؤوليات + تأمين الأشخاص وعمليات تكوين الأموال","www.takaful.ae","2003-11-23","Property and Liability Insurance + Insurance of Persons and Fund Accumulation Operations","Takaful Insurance","United Arab Emirate","Public Joint Stock","Abu Dhabi National Takaful Company - P S C - Takaful.",71]
[72,"شركة التأمين على الحياة (العالمية) ش.م.ب (مقفلة)","فرع شركة خليجية","البحرين","تأمين تقليدي","تأمين الممتلكات والمسؤوليات + تأمين الأشخاص وعمليات تكوين الأموال","www.licinternational.com","2005-10-25","Property and Liability Insurance + Insurance of Persons and Fund Accumulation Operations","Traditional Insurance","Bahrain","GCC Company Branch","Life Insurance Corporation Company (International) B.S.C(C)",72]
[73,"الشركة الوطنية للتأمين ضمان","شركة مساهمة عامة","الإمارات العربية المتحدة","تأمين تقليدي","تأمين الممتلكات والمسؤوليات+تأمين صحي ","www.damanhealth.ae","2006-06-12","Property and Liability Insurance + Health Insurance","Traditional Insurance","United Arab Emirate","Public Joint Stock","The National  Insurance Company (Daman) PJSC",73]
[74,"جنرال انشورانس كوربوريشن اوف انديا","فرع شركة أجنبية","الهند ","تأمين تقليدي","تأمين الممتلكات والمسؤوليات","www.gicdubai.com","2006-07-03","Property and Liability Insurance","Traditional Insurance","India","Foreign Company Branch","General Insurance Corporation Of India",74]
[76,"فريندز بروفيدنت انترناشيونال ليمتد","فرع شركة أجنبية","المملكة  المتحدة ","تأمين تقليدي","تأمين الأشخاص وعمليات تكوين الأموال","www.fpinternational.com","2007-04-18","Insurance of Persons and Fund Accumulation Operations","Traditional Insurance","United Kingdom","Foreign Company Branch","Friends Provident International Limited",76]
[77,"الشركة الوطنية للتأمين على الحياة والعام ش م ع ع","فرع شركة أجنبية","عُمان ","تأمين تقليدي","تأمين الأشخاص وعمليات تكوين الأموال","www.nlicgulf.com","2007-05-13","Insurance of Persons and Fund Accumulation Operations","Traditional Insurance","Oman","Foreign Company Branch","National Life and General Insurance Company SAOG",77]
[78,"شركة وطنية للتكافل العائلي ش م ع","شركة مساهمة عامة","الإمارات العربية المتحدة","تأمين تكافلي","تأمين الأشخاص وعمليات تكوين الأموال","www.watania.ae","2008-05-15","Insurance of Persons and Fund Accumulation Operations","Takaful Insurance","United Arab Emirate","Public Joint Stock","Watania Takaful Family",78]
[79,"أميريكان هوم أشورانس كومباني (فرع دبي","فرع شركة أجنبية","الولايات المتحدة الامريكية ","تأمين تقليدي","تأمين الممتلكات والمسؤوليات ","www.aig.com","2008-07-14","Property and Liability Insurance ","Traditional Insurance","United States of America","Foreign Company Branch","American Home Insurance Company (Dubai Br.)",79]
[81,"تشب تيمبست لايف ري انشورانس ليمتد","فرع شركة أجنبية","المملكة المتحدة","تأمين تقليدي","تأمين الأشخاص وعمليات تكوين الأموال","www.chubb.com","2008-08-24","Insurance of Persons and Fund Accumulation Operations","Traditional Insurance","United Kingdom","Foreign Company Branch","CHUBB Tempest Life ReInsurance Ltd",81]
[82,"شركة ميثاق للتأمين التكافلي","شركة مساهمة عامة","الإمارات العربية المتحدة","تأمين تكافلي","تأمين الممتلكات والمسؤوليات","www.methaq.ae","2008-09-10","Property and Liability Insurance","Takaful Insurance","United Arab Emirate","Public Joint Stock","Methaq Takaful Insurance",82]
[83,"شركة حياه للتأمين","شركة مساهمة عامة","الإمارات العربية المتحدة","تأمين تقليدي","تأمين الأشخاص وعمليات تكوين الأموال","www.hayah.com","2008-09-16","Insurance of Persons and Fund Accumulation Operations","Traditional Insurance","United Arab Emirate","Public Joint Stock","HAYAH Insurance Company",83]
[84,"ياس تكافل","شركة مساهمة عامة","الإمارات العربية المتحدة","تأمين تكافلي","تأمين الممتلكات والمسؤوليات + تأمين الأشخاص وعمليات تكوين الأموال","www.yastakaful.ae","2009-01-05","Property and Liability Insurance + Insurance of Persons and Fund Accumulation Operations","Takaful Insurance","United Arab Emirate","Public Joint Stock","YAS TAKAFUL",84]
[85,"شركة وطنية للتكافل العام مساهمة عامة","شركة مساهمة عامة","الإمارات العربية المتحدة","تأمين تكافلي","تأمين الممتلكات والمسؤوليات + تأمين الأشخاص وعمليات تكوين الأموال","www.watania.ae","2009-01-06","Property and Liability Insurance + Insurance of Persons and Fund Accumulation Operations","Takaful Insurance","United Arab Emirate","Public Joint Stock","Watania Takaful General PJSC",85]
[86,"تكافل الامارات - تأمين (ش.م.ع)","شركة مساهمة عامة","الإمارات العربية المتحدة","تأمين تكافلي","تأمين الأشخاص وعمليات تكوين الأموال","www.takafulemarat.com","2008-10-14","Insurance of Persons and Fund Accumulation Operations","Takaful Insurance","United Arab Emirate","Public Joint Stock","Takaful Emarat - Insurance PSC",86]
[87,"شركة الإمارات لتأمين ائتمان الصادرات","شركة مساهمة عامة","الإمارات العربية المتحدة","تأمين تقليدي","تأمين الممتلكات والمسؤوليات","www.ecie.ae","2009-06-01","Property and Liability Insurance","Traditional Insurance","United Arab Emirate","Public Joint Stock","Export Credit Insurance Company of The Emirates",87]
[89,"دار التأمين ش.م.ع","شركة مساهمة عامة","الإمارات العربية المتحدة","تأمين تقليدي","تأمين الممتلكات والمسؤوليات","www.insurancehouse.ae","2011-05-02","Property and Liability Insurance","Traditional Insurance","United Arab Emirate","Public Joint Stock","Insurance House",89]
[91,"شركة المتوسط والخليج للتأمين وإعادة التأمين \"ميد غلف\" ش م ب مقفلة","فرع شركة أجنبية","البحرين ","تأمين تقليدي","تأمين صحي ","www.medgulf.ae","2015-11-30","health insurance","Traditional Insurance","Bahrain","Foreign Company Branch","The Mediterranean & Gulf Insurance & Reinsurance Company BSC (c)  - Medgulf",91]
[92,"شركة اورينت تكافل مساهمة عامة","شركة مساهمة عامة","الإمارات العربية المتحدة","تأمين تكافلي","تأمين الممتلكات والمسؤوليات","www.orientunbtakaful.ae","2017-07-16","Property and Liability Insurance","Takaful Insurance","United Arab Emirate","Public Joint Stock","Orient Takaful(PJSC)",92]

{"sheet":"Glossary","index":72,"n_rows":54,"n_cols":4,"rows_kept":54,"cut":false,"hidden":false,"merged":[[2,0,2,3],[3,0,3,3],[4,0,4,3]]}
[]
[]
["قائمة مصطلحات التأمين المُستخدمة في التقرير"]
["Glossary of Insurance Terms Used in The Report "]
[]
[]
[]
["المُصطلح","التعريف","Definition","Term"]
["الشركة (المؤمن): ","شركة التأمين المؤسسة في دولة الإمارات العربية المتحدة، وشركة التأمين الأجنبية المُرخص لها بمباشرة النشاط في الدولة، إما عن طريق فرع أو عن طريق وكيل التأمين. ","The insurance company incorporated in the UAE and the foreign insurance company licensed to carry out insurance activities in the UAE either through a branch or through an insurance agent. ","Company (Insurer)"]
["قسط التأمين","مبلغ من المال تتقاضاه الشركة من المؤمن له لتوفير التغطية التأمينية المُحددة في وثيقة التأمين.","An amount of many that the company receives from the insured to provide  ","Insurance Premium"]
["مبلغ التأمين","هو مسؤولية المؤمِن القصوى وهو القيمة المذكورة في الوثيقة التي على أساسها يحدد قسط التأمين.","The Insurer’s maximum liability, which is the value indicated in the Insurance Policy, based on which the premium is determined.","Sum Insured"]
["المؤمن له","الشخص الذى أبرم مع الشركة عقد التأمين.","The person who concluded an insurance contract with the company. ","Insured"]
["المُستفيد","الشخص الذي اكتسب حقوق عقد التأمين ابتداءً أو حُولت إليه هذه الحقوق بصورة قانونية. ","The person who acquired the rights of the insurance contract at the start or to whom these rights are legally transferred.","Beneficiary"]
["إعادة التأمين:","عملية تحويل أعباء المخاطر المؤمن عليها من المؤمِن إلى معيد التأمين وتعويض المؤمِن من قبل معيد التأمين عما يتم دفعه للمؤمَن لهم إذا تعرضوا للضرر أو الخسارة.","The mechanism of shifting risks of the insured risks from the Insurer to the Re-Insurer and indemnification of the Insurer by the Re-Insurer for what is paid to the Insured Person(s) in the event of a loss.","Re-insurance:"]
["مُعيد التأمين (شركة إعادة التأمين)","أية شركة إعادة تأمين مُؤسسة في دولة الإمارات العربية المتحدة أو شركة إعادة تأمين أجنبية مُرخص لها بممارسة أعمال إعادة التأمين في الدولة أو شركة إعادة تأمين في الخارج. ","Any reinsurance company incorporated in the UAE or foreign reinsurance company licensed to carry out reinsurance operations inside the UAE or a foreign reinsurance company outside the UAE.","Re-insurer"]
["وسيط التأمين","الشخص الذي يتوسط في عمليات التأمين أو إعادة التأمين بشكل مستقل فيما بين طالب التأمين أو طالب إعادة التأمين من جهة وبين أية شركة تأمين أو إعادة تأمين من جهة أخري، ويتقاضى مقابل أتعابه عمولة من شركة التأمين أو شركة إعادة التأمين التي يتم التأمين أو إعادة التأمين لديها.","The person who independently intermediates in insurance and reinsurance operations between the applicant of the insurance or the reinsurance on one side and any insurance or reinsurance company on the other side and receive for his efforts commission from the insurance company or the reinsurance company with which the insurance or reinsurance has been accomplished. ","Insurance Broker"]
["خبير الكشف وتقدير الأضرار","الشخص الذي يقوم بالكشف عن الأضرار الحادثة في موضوع التأمين وتقديرها.","The person who examines damages occurs to the subject matter of the insurance and assesses them.","Loss and Damage Adjuster"]
["استشاري التأمين ","الشخص الذي يقوم بدراسة متطلبات التأمين لعملائه وتقديم المشورة بشأن الغطاء التأمينى المُلائم والمساعدة في إعداد مُتطلبات التأمين، ويتقاضى مقابل أتعابه من عُملائه.","The person who studies the insurance requirements for his clients, give advice in respect of the suitable insurance coverage, assists in preparing the insurance requirements and receives for his efforts remuneration from his clients.","Insurance Consultant"]
["الإكتواري","الشخص الذي يقوم بتقدير قيمة عقود التأمين والوثائق والحسابات المُتعلقة بها.","The person who estimates values of the insurance contracts, documents and the related accounts.","Actuary"]
["وكيل التأمين","الشخص المُعتمد من قبل الشركة أو المفوض لممارسة أعمال التأمين نيابةً عنها أو عن أحد فروعها.","The person approved and authorized by the Company to carry out insurance operation on its behalf or in behalf of any branch thereof.","Insurance Agent"]
["السجل","سجل شركات التأمين أو وكلاء التأمين.","The register of the insurance companies or the insurance agents.","Register"]
["استمارة طلب التأمين","تشكل أساس العقد، وهي وسيلة للحصول على معلومات حول الخطر، وهي عرض من المؤمَن له وتقوم على أساس مبدأ منتهى حسن النية.","The basis of the contract, and is a means to get information about the risk, a proposal by the Insured, which based on the Principle of Utmost Good Faith.","Insurance Application Form:"]
["وثيقة التأمين (عقد التأمين)","وثيقة (بوليصة) التأمين المُبرمة بين المؤمن والمؤمن له المُتضمنة شروط العقد بين الطرفين والتزاماتهما وحقوقهما أو حقوق المُستفيد من التأمين وأي ملحق بهذه الوثيقة. ","The insurance document (policy) concluded by the insurer and insured containing the terms and conditions of the contract between the two parties, their liabilities, and rights or the rights of beneficiary of the insurance and endorsements therein. ","Insurance policy (Insurance Contract)"]
["فروع التأمين",null,null,"Types of Insurance"]
["- تأمين الممتلكات والمسؤوليات",null,null,"- Property and liability Insurance"]
["‌أ.    التأمين من الحريق","تأمين الحريق المباع للأشخاص وللشركات والتأمينات المرتبطة ويشمل (التأمين ضد اخطار الحريق والتأمينات المرتبطة به، تأمين السطو والسرقة،  تأمين كسر الزجاج).","Personal Fire, Commercial Fire & Allied Lines includes (Fire insurance and the allied perils, Robbery and theft, Glass insurance)","a.   Fire insurance"]
["‌ب. التأمين البحري ","* التأمين على اجسام السفن (التأمين على أجسام السفن وآلاتها ومهماتها والمسؤوليات المُتعلقة بها). \n* التأمين نقل البضائع البحري (التأمين ضد اخطار النقل البحري والمسؤوليات المُتعلقة به).","* Marine Insurance - Hull: (Marine hull, machinery and equipment and related liabilities).\n* Marine Insurance - Cargo: (Marine cargo & related liabilities)","b.   Marine  Insurance"]
["‌ج.  تأمين الطيران ","تأمين الطيران وسفن الفضاء يتضمن (التأمين ضد اخطار النقل الجوي والمسؤوليات المُتعلقة به، التأمين على أجسام الطائرات وما في حكمها وآلاتها ومهماتها والمُسؤوليات المُتعلقة بها، التأمين على الأقمار الصناعية والمناطيد والمركبات الفضائية وآلاتها ومهماتها والمسؤوليات المُتعلقة بها).","Aviation & Aerospace insurance Includes (Air cargo & related liabilities, Aviation hull, machinery and equipment and related liabilities, Satellites, balloons and spaceships and their machinery and equipment and related liabilities).","c.    Aviation Insurance "]
["‌د.   تأمين السيارات والمركبات الأخرى","التأمين على المركبات البرية والمسؤوليات المُتعلقة بها، التأمين على المركبات البرية والمسؤوليات المُتعلقة بها، التأمين على القاطرات والمسؤوليات المُتعلقة بها، التأمين ضد اخطار النقل البري والمسؤوليات المُتعلقة به.","Land vehicles and related liabilities, Coaches & related liabilities, Land transport cargo & related liabilities.","d.   Motor and Transportation Insurance"]
["تأمين الحوادث الشخصية","التأمين ضد أخطار الحوادث الشخصية المتنوعة ","Miscellaneous personal accident insurance","Accident Insurance"]
["التأمين الصحي ","التأمين الصحي الفردي، التأمين الصحي الجماعي.","Individual Health Insurance - Group Health Insurance.","Health Insurance "]
["المُصطلح","التعريف","Definition","Term"]
["- تأمين الأشخاص وعمليات تكوين الأموال",null,null,"- Insurance of Persons & Fund Accumulation"]
["‌أ.    تأمين حياة جماعي","التأمين على الحياة الجماعي بجميع فروعه لمدة سنه وأكثر من سنة.","Group Life Insurance all types up to one year and over one year.","a.   Group Life Insurance "]
["‌ب. تأمين ائتمان على الحياة جماعي ","التأمين على الحياة ائتمان جماعي بجميع فروعه لمدة سنه وأكثر من سنة.","Group Credit Life Insurance all types include \"up to 1 Year and over 1 year. ","b.   Group Credit Life Insurance"]
["‌ج.  تأمين حياة فردي مرتبط بالوحدات","منتجات التأمين المُرتبطة بالوحدات التي توفر إمكانية الاستثمار بأي عدد من الوحدات الاستثمارية ومنها الأسهم والسندات والصناديق الاستثمارية، ويتضمن التأمين على الحياة الفردي المُرتبط بالوحدات غير مضمون العوائد، والتأمين على الحياة الفردي المرتبط بالوحدات مضمون العوائد. ","Insurance plans that provide the option to invest in any number of qualified investments, such as stock, bonds, mutual funds, and includes individual unit-linked life without guarantees, and individual unit-linked life with guarantees.","c.    Individual Unit-Linked Life"]
["‌د.   تأمين حياة فردي"," التأمين على الحياة الفردي بجميع فروعه وتشمل غير مشارك بالعوائد ومشارك غير مضمون العوائد ومشارك مضمون العوائد - تأمين حياة فردي مرتبط بالوحدات غير مضمون العوائد- تأمين حياة فردي مرتبط بالوحدات- مضمون العوائد."," Individual Life Insurance all types include \"Non-Participating - Participating Without Guaranteed Return - Participating With Guaranteed Return\").","d.   Individual Life Insurance"]
["‌ه.   التقاعد","تغطيات دفعات التقاعد والشيخوخة. ","Annuities and Pensions.","e.    Annuities "]
["‌و.  دفعات الحياة وتكوين الأموال","عمليات تكوين الأموال والغير مرتبطة باحتماليات الوفاة أو الحياة.","Policies of fund accumulation not linked to life or death probabilities.","f.    Fund Accumulation"]
["المُخصصات المالية","المُخصصات التي يجب على المؤمن اقتطاعها والاحتفاظ بها لمواجهة الإلتوامات المالية المُستحقة للمؤمن لهم وفقاً لأحكام القانون. ","The provisions which the insurer must deduct and maintain to meet the insured's accrued financial liabilities as per Laws stipulations.","Technical Provisions"]
["المُشتقات المالية","الموجودات أو الالتزامات المالية التي تشتق قيمتها من موجودات أو التزامات أو مؤشرات ذات صلة وتتضمن الأشكال الشائعة منها: العقود الآجلة والعقود المستقبلية وعقود الخيارات وعقود المقايضات ومشتقات الائتمان أو خليط منها.","A financial asset or liability whose value is derived from an underlying asset, liability or related index. Common forms of derivative instruments include forwards, futures, options, swaps, credit derivatives or combinations thereof (as applicable).","Derivatives"]
["الاستثمارات","عملية استثمار أو توظيف الأموال أو رأس المال من قبل الشركة بهدف تحقيق ربح متوقع.","The act of investing, laying out money or capital by a company with the expectation of profit.","Investments"]
["الموجودات المُستثمرة","مجموع الموجودات المُحتفظ بها لغايات استثمارية بما فيها أدوات التحوط الأخرى والنقد.","The sum of all assets held for investment purposes, including derivatives or other hedging instruments and cash.","Invested Assets"]
["التحوط","الاستثمار بطريقة تتضمن تقليل المخاطر المُتعلقة بالموجودات والالتزامات ذات الصلة.","To invest in a manner that reduces the risks related to underlying assets or liabilities.","Hedging"]
["هامش الملاءة المالية المطلوب","مجموع الأموال الواجب الاحتفاظ بها من قبل الشركة لتلبية متطلبات الحد الأدنى لرأس المال والبلغ الأدنى للضمان ومُتطلبات ملاءة رأس المال.","Funds that the company is required to maintain to fulfill the obligations of the Minimum Capital Requirement, Minimum Guarantee Fund and Solvency Capital Requirement.  ","Solvency Margin"]
["مُتطلبات الحد الأدنى لرأس المال","الحد الأدنى المطلوب الاحتفاظ به من قبل الشركة في جميع الأوقات كما يُحدده مصرف الإمارات العربي المتحدة المركزي. ","The minimum capital required to be maintained by a company at all times as directed by the CBUAE.","Minimum Capital Requirement  (MCR)"]
["متطلبات ملاءة رأس المال","الأموال التي يجب على الشركة الاحتفاظ بها لتغطية الأعمال الحالية والمتوقعة خلال الاثني عشر شهراً المقبلة ويتم قياسها للتأكد من أن كافة المخاطر الكمية قد تم أخذها بعين الاعتبار. ","Funds that the company must maintain to cover current and projected operations during the next twelve months, which are measured to ensure that all quantitative risks have been taken into account.","Solvency Capital Requirement (SCR)"]
["المبلغ الأدنى للضمان","الأموال الواجب الاحتفاظ بها من قبل الشركة لتغطية الأعمال الحالية والمتوقعة خلال الاثني عشر شهراً المُقبلة وبما لا يقل عن ثلث مُتطلبات ملاءة رأس المال أو المبلغ الذي يُحدده مصرف الإمارات العربي المتحدة المركزي أيهما أعلي.  ","Funds that the company must maintain to cover current and projected operations during the next twelve months, which is at least one third of the Solvency Capital Requirement or a greater amount as determined by the CBUAE.","Minimum Guarantee Fund (MGF)"]
["مُخصص الأقساط غير المُكتسبة","مُخصص الأقساط الذي يُمثل ذلك الجزء من قسط التأمين المُقابل للمسؤوليات المُمتدة لما بعد تاريخ بيان المركز المالي. ","Provisions for the premium which represents the portion of the premium corresponding to the responsibilities extended beyond the date of the statement of financial position.","Unearned Premium Reserves (UPR)"]
["مُخصص الاخطار غير المنتهية","مُخصص الأقساط الذى يُمثل ذلك الجزء من قسط التأمين المقابل للمسؤوليات الممتدة لما بعد تاريخ بيان المركز المالي ويكون فيه القسط غير كاف لتغطية المُطالبات المتوقعة والمصارف والربح المستهدف من الشركة.","Provisions for the premiums which represent the portion of the premium subsequent to the financial statement date and where the premium is expected to be insufficient to cover anticipated claims, expenses and a reasonable profit margin.","Unexpired Risk Reserves (URR)"]
["مُخصص المُطالبات تحت التسوية ","المُخصص الذى يُمثل المطالبات المُبلغ عنها ولم تتم تسويتها بعد، ويُمثل مجموع الالتزامات المُتبقية من كل مُطالبة لم يتم الانتهاء من تسويتها وعلي أساس كل حالة على حدة. ","Provisions representing claims that have been reported but not yet settled. Typically, this is the sum of the remaining liabilities for each open claim estimated on a case-by-case basis.","Outstanding Loss Reserves (OSLR)"]
["مُخصص المُطالبات المُتكبدة (المتحققة) غير المُبلغة","المُخصصات المُتعلقة بالمطالبات التي حدثت ولم يتم التبليغ عنها أو لم يتم الحصول على معلومات كافية بشأنها بتاريخ التبليغ.","Provisions for claims that have been incurred but not yet reported or have not obtained enough information related to such claims as of the reporting date.","Incurred but Not Reported (IBNR)"]
["مُخصص مصاريف تسوية مُطالبات موزعة أو مُخصص مصاريف تسوية مُطالبات تسوية مُطالبات غير موزعة","مُخصصات مواجهة مصاريف المُطالبات المُستقبلية وتكاليف إدارتها، حيث يمثل مُخصص مصاريف تسوية المُطالبات الموزعة تلك المصاريف والتكاليف التي يمكن تحميلها على مُطالبة مُحددة، فيما يُمثل مُخصص مصاريف تسوية المُطالبات غير الموزعة إجمالي المصاريف والتكاليف الأخرى التي لا يمكن تحميلها على مُطالبة مُحددة. ","Provisions representing future claim expenses and related handling costs. The Allocated (ALAE) reserve is for expenses and costs that can be assigned to a specific claim. The Unallocated (ULAE) reserve is for all other overhead expenses and costs that can’t be assigned to a specific claim.","Allocated Loss Adjustment Expense (ALAE) or Unallocated Loss Adjustment Expense (ULAE)"]
["الاحتياطي (المُخصص) الحسابي","مُخصص تغطية عقود تأمين الأشخاص وعمليات تكوين الأموال طويلة الأجل لأكثر من سه وعلي أن يُغطي جميع المُطالبات المُستقبلية ووفقاً لما يُحدده الإكتواري.","Provisions created for long term insurance contracts (Insurance of Persons and Fund Accumulation operations products more than one year) to cover all future claim liabilities as determined by the Actuary.","Mathematical Reserve"]

{"sheet":"SD7","index":73,"n_rows":34,"n_cols":44,"rows_kept":34,"cut":false,"hidden":true,"merged":[[5,1,5,12],[6,1,6,12],[12,1,13,1],[12,12,13,12],[7,1,7,12]]}
[null,null,null,null,null,null,null,null,null,null,null,null,null,null,null,null,null,null,null,null,"Labels for Graph:",null,null,null,null,null,null,null,null,null,null,null,null,null,null,null,null,null,null,{"$f":"'24A'!#REF!","v":{"$error":"#REF!"}},null,null,null,{"$f":"'24A'!#REF!","v":{"$error":"#REF!"}}]
[null,null,null,null,null,null,null,null,null,null,null,null,null,null,null,null,null,null,null,null,null,null,null,null,null,null,null,null,null,null,null,null,null,null,null,null,null,null,null,{"$f":"'24A'!#REF!","v":{"$error":"#REF!"}},null,null,null,{"$f":"'24A'!#REF!","v":{"$error":"#REF!"}}]
[null,null,null,null,null,null,null,null,null,null,null,null,null,null,null,null,null,null,null,null,null,null,null,null,null,null,null,null,null,null,null,null,null,null,null,null,null,null,null,{"$f":"'24A'!#REF!","v":{"$error":"#REF!"}},null,null,null,{"$f":"'24A'!#REF!","v":{"$error":"#REF!"}}]
[null,null,null,null,null,null,null,null,null,null,null,null,null,null,null,null,null,null,null,null,null,null,null,null,null,null,null,null,null,null,null,null,null,null,null,null,null,null,null,{"$f":"'24A'!#REF!","v":{"$error":"#REF!"}},null,null,null,{"$f":"'24A'!#REF!","v":{"$error":"#REF!"}}]
[null,null,null,null,null,null,null,null,null,null,null,null,null,null,null,null,null,null,null,null,null,null,null,null,null,null,null,null,null,null,null,null,null,null,null,null,null,null,null,{"$f":"'24A'!#REF!","v":{"$error":"#REF!"}},null,null,null,{"$f":"'24A'!#REF!","v":{"$error":"#REF!"}}]
[null,{"$f":"Cover!#REF!","v":{"$error":"#REF!"}},null,null,null,null,null,null,null,null,null,null,null,null,null,null,null,null,null,null,{"$f":"B6&\"\n\"&B7","v":{"$error":"#REF!"}},null,null,null,null,null,null,null,null,null,null,null,null,null,null,null,null,null,null,{"$f":"'24A'!#REF!","v":{"$error":"#REF!"}},null,null,null,{"$f":"'24A'!#REF!","v":{"$error":"#REF!"}}]
[null,{"$f":"Cover!#REF!","v":{"$error":"#REF!"}},null,null,null,null,null,null,null,null,null,null,null,null,null,null,null,null,null,null,null,null,null,null,null,null,null,null,null,null,null,null,null,null,null,null,null,null,null,{"$f":"'24A'!#REF!","v":{"$error":"#REF!"}},null,null,null,{"$f":"'24A'!#REF!","v":{"$error":"#REF!"}}]
[null,{"$f":"\"(\"&ReportYear&\")\"","v":"(2025)"},null,null,null,null,null,null,null,null,null,null,null,null,null,null,null,null,null,null,null,null,null,null,null,null,null,{"$f":"Filename_ALL","v":{"$error":"#REF!"}},"FileName:",null,null,null,null,null,null,null,null,null,null,{"$f":"'24A'!#REF!","v":{"$error":"#REF!"}},null,null,null,{"$f":"'24A'!#REF!","v":{"$error":"#REF!"}}]
[null,null,null,null,null,null,null,null,null,null,null,null,null,null,null,null,null,null,null,null,null,null,null,null,null,null,null,null,"FileName:",null,null,null,null,null,null,null,null,null,null,{"$f":"'24A'!#REF!","v":{"$error":"#REF!"}},null,null,null,{"$f":"'24A'!#REF!","v":{"$error":"#REF!"}}]
[null,null,null,null,null,null,null,null,null,null,null,null,null,null,null,null,null,null,null,null,null,null,null,null,null,null,null,1000,"Rounding:",null,null,null,null,null,null,null,null,null,null,{"$f":"'24A'!#REF!","v":{"$error":"#REF!"}},null,null,null,{"$f":"'24A'!#REF!","v":{"$error":"#REF!"}}]
[null,{"$f":"$AN$11&$R$11","v":{"$error":"#REF!"}},null,null,null,null,null,null,null,null,null,null,{"$f":"$AR$11&$R$11","v":{"$error":"#REF!"}},null,null,null,null,35,null,null,null,null,null,null,null,null,null,null,null,null,null,null,null,null,null,null,null,null,null,{"$f":"'1A'!#REF!","v":{"$error":"#REF!"}},null,null,null,{"$f":"'1A'!#REF!","v":{"$error":"#REF!"}}]
[null,null,null,null,null,null,null,null,null,null,null,null,null,null,null,null,null,null,null,null,"(YEAR) السنــة",null,null,null,{"$f":"Z12+14","v":98},84,70,56,42,28,14,0,null,null,null,null,null,null,null,{"$f":"'1A'!#REF!","v":{"$error":"#REF!"}},null,null,null,{"$f":"'1A'!#REF!","v":{"$error":"#REF!"}}]
[null,{"$f":"$AN$13","v":{"$error":"#REF!"}},{"$f":"AN10","v":{"$error":"#REF!"}},{"$f":"AN9","v":{"$error":"#REF!"}},{"$f":"AN8","v":{"$error":"#REF!"}},{"$f":"AN7","v":{"$error":"#REF!"}},{"$f":"AN6","v":{"$error":"#REF!"}},{"$f":"AN5","v":{"$error":"#REF!"}},{"$f":"AN4","v":{"$error":"#REF!"}},{"$f":"AN3","v":{"$error":"#REF!"}},{"$f":"AN2","v":{"$error":"#REF!"}},{"$f":"AN1","v":{"$error":"#REF!"}},{"$f":"$AR$13","v":{"$error":"#REF!"}},null,null,null,null,null,null,null,null,null,null,"Column","Row","Sheet",null,null,null,null,null,null,null,null,null,null,null,null,null,{"$f":"'1A'!#REF!","v":{"$error":"#REF!"}},null,null,null,{"$f":"'1A'!#REF!","v":{"$error":"#REF!"}}]
[null,null,{"$f":"AR10","v":{"$error":"#REF!"}},{"$f":"AR9","v":{"$error":"#REF!"}},{"$f":"AR8","v":{"$error":"#REF!"}},{"$f":"AR7","v":{"$error":"#REF!"}},{"$f":"AR6","v":{"$error":"#REF!"}},{"$f":"AR5","v":{"$error":"#REF!"}},{"$f":"AR4","v":{"$error":"#REF!"}},{"$f":"AR3","v":{"$error":"#REF!"}},{"$f":"AR2","v":{"$error":"#REF!"}},{"$f":"AR1","v":{"$error":"#REF!"}}]
[null,{"$f":"AN15","v":"أعداد الموظفين"},null,null,null,null,null,null,null,null,null,null,{"$f":"AR15","v":"Number of Employees"},null,null,null,null,null,null,null,null,null,null,null,null,null,null,null,null,null,null,null,null,null,null,null,null,null,null,"أعداد الموظفين",null,null,null,"Number of Employees"]
[null,{"$f":"AN16","v":"مواطني دولة الامارات العربية المتحدة"},{"$f":"SUM(INDIRECT(ADDRESS($Y16,$X16+Z$12,4,1,\"[\"&$AB$8&\"]\"&$Z16)&\":\"&ADDRESS($Y16,$X16+Z$12+3,4,1)))/4","v":{"$error":"#REF!"}},{"$error":"#REF!"},{"$error":"#REF!"},{"$error":"#REF!"},{"$error":"#REF!"},{"$error":"#REF!"},{"$f":"SUM(INDIRECT(ADDRESS($Y16,$X16+AF$12,4,1,\"[\"&$AB$8&\"]\"&$Z16)&\":\"&ADDRESS($Y16,$X16+AF$12+3,4,1)))/4","v":{"$error":"#REF!"}},{"$f":"SUM(C16:I16)","v":{"$error":"#REF!"}},{"$f":"SUM(INDIRECT(ADDRESS($Y16,$X16+Y$12,4,1,\"[\"&$AB$8&\"]\"&$Z16)&\":\"&ADDRESS($Y16,$X16+Y$12+3,4,1)))/4","v":{"$error":"#REF!"}},{"$f":"SUM(J16:K16)","v":{"$error":"#REF!"}},"UAE Nationals ",null,null,null,null,null,null,null,null,null,null,26,135,"INFO-4",null,null,null,null,null,null,null,null,null,null,null,null,null,"مواطني دولة الامارات العربية المتحدة",null,null,null,"UAE Nationals "]
[null,{"$f":"AN17","v":"مواطني دول مجلس التعاون الخليجي (بإستثناء الإمارات العربية المتحدة)"},{"$f":"SUM(INDIRECT(ADDRESS($Y17,$X17+Z$12,4,1,\"[\"&$AB$8&\"]\"&$Z17)&\":\"&ADDRESS($Y17,$X17+Z$12+3,4,1)))/4","v":{"$error":"#REF!"}},{"$f":"SUM(INDIRECT(ADDRESS($Y17,$X17+AA$12,4,1,\"[\"&$AB$8&\"]\"&$Z17)&\":\"&ADDRESS($Y17,$X17+AA$12+3,4,1)))/4","v":{"$error":"#REF!"}},{"$f":"SUM(INDIRECT(ADDRESS($Y17,$X17+AB$12,4,1,\"[\"&$AB$8&\"]\"&$Z17)&\":\"&ADDRESS($Y17,$X17+AB$12+3,4,1)))/4","v":{"$error":"#REF!"}},{"$f":"SUM(INDIRECT(ADDRESS($Y17,$X17+AC$12,4,1,\"[\"&$AB$8&\"]\"&$Z17)&\":\"&ADDRESS($Y17,$X17+AC$12+3,4,1)))/4","v":{"$error":"#REF!"}},{"$f":"SUM(INDIRECT(ADDRESS($Y17,$X17+AD$12,4,1,\"[\"&$AB$8&\"]\"&$Z17)&\":\"&ADDRESS($Y17,$X17+AD$12+3,4,1)))/4","v":{"$error":"#REF!"}},{"$f":"SUM(INDIRECT(ADDRESS($Y17,$X17+AE$12,4,1,\"[\"&$AB$8&\"]\"&$Z17)&\":\"&ADDRESS($Y17,$X17+AE$12+3,4,1)))/4","v":{"$error":"#REF!"}},{"$f":"SUM(INDIRECT(ADDRESS($Y17,$X17+AF$12,4,1,\"[\"&$AB$8&\"]\"&$Z17)&\":\"&ADDRESS($Y17,$X17+AF$12+3,4,1)))/4","v":{"$error":"#REF!"}},{"$f":"SUM(C17:I17)","v":{"$error":"#REF!"}},{"$f":"SUM(INDIRECT(ADDRESS($Y17,$X17+Y$12,4,1,\"[\"&$AB$8&\"]\"&$Z17)&\":\"&ADDRESS($Y17,$X17+Y$12+3,4,1)))/4","v":{"$error":"#REF!"}},{"$f":"SUM(J17:K17)","v":{"$error":"#REF!"}},{"$f":"AR17","v":"GCC Nationals (Outside UAE)"},null,null,null,null,null,null,null,null,null,null,{"$f":"X$16","v":26},{"$f":"Y16+8","v":143},{"$f":"Z$16","v":"INFO-4"},null,null,null,null,null,null,null,null,null,null,null,null,null,"مواطني دول مجلس التعاون الخليجي (بإستثناء الإمارات العربية المتحدة)",null,null,null,"GCC Nationals (Outside UAE)"]
[null,"مواطني الشرق الأوسط وشمال أفريقيا  (بإستثناء دول مجلس التعاون الخليجي)",{"$error":"#REF!"},{"$error":"#REF!"},{"$error":"#REF!"},{"$error":"#REF!"},{"$error":"#REF!"},{"$error":"#REF!"},{"$error":"#REF!"},{"$error":"#REF!"},{"$error":"#REF!"},{"$error":"#REF!"},"MENA Nationalities (Oustide GCC)",null,null,null,null,null,null,null,null,null,null,{"$f":"X$16","v":26},{"$f":"Y17+8","v":151},{"$f":"Z$16","v":"INFO-4"},null,null,null,null,null,null,null,null,null,null,null,null,null,"مواطني الشرق الأوسط وشمال أفريقيا  (بإستثناء دول مجلس التعاون الخليجي)",null,null,null,"MENA Nationalities (Oustide GCC)"]
[null,"مواطني دول أخرى (خارج الشرق الأوسط وشمال أفريقيا)",{"$error":"#REF!"},{"$error":"#REF!"},{"$error":"#REF!"},{"$error":"#REF!"},{"$error":"#REF!"},{"$error":"#REF!"},{"$error":"#REF!"},{"$error":"#REF!"},{"$error":"#REF!"},{"$error":"#REF!"},"Other Nationalities (Outside MENA)",null,null,null,null,null,null,null,null,null,null,{"$f":"X$16","v":26},{"$f":"Y18+8","v":159},"INFO-4",null,null,null,null,null,null,null,null,null,null,null,null,null,"مواطني دول أخرى (خارج الشرق الأوسط وشمال أفريقيا)",null,null,null,"Other Nationalities (Outside MENA)"]
[null,"المجموع",{"$f":"SUM(C16:C19)","v":{"$error":"#REF!"}},{"$f":"SUM(D16:D19)","v":{"$error":"#REF!"}},{"$error":"#REF!"},{"$error":"#REF!"},{"$error":"#REF!"},{"$error":"#REF!"},{"$error":"#REF!"},{"$error":"#REF!"},{"$error":"#REF!"},{"$error":"#REF!"},"Total",null,null,null,null,null,null,null,null,null,null,null,null,null,null,null,null,null,null,null,null,null,null,null,null,null,null,"المجموع",null,null,null,"Total"]
[null,{"$f":"$AN$12","v":{"$error":"#REF!"}},null,null,null,null,null,null,null,null,null,null,{"$f":"$AR$12","v":{"$error":"#REF!"}}]
[null,"مجموع الرواتب والمنافع",null,null,null,null,null,null,null,null,null,null,"Total Salaries & Benefits",null,null,null,null,null,null,null,null,null,null,null,null,null,null,null,null,null,null,null,null,null,null,null,null,null,null,"مجموع الرواتب والمنافع",null,null,null,"Total Salaries & Benefits"]
[null,"مواطني دولة الامارات العربية المتحدة",{"$f":"SUM(INDIRECT(ADDRESS($Y23,$X23+Z$12,4,1,\"[\"&$AB$8&\"]\"&$Z23)&\":\"&ADDRESS($Y23,$X23+Z$12+3,4,1)))/$AB$10","v":{"$error":"#REF!"}},{"$error":"#REF!"},{"$error":"#REF!"},{"$error":"#REF!"},{"$error":"#REF!"},{"$error":"#REF!"},{"$f":"SUM(INDIRECT(ADDRESS($Y23,$X23+AF$12,4,1,\"[\"&$AB$8&\"]\"&$Z23)&\":\"&ADDRESS($Y23,$X23+AF$12+3,4,1)))/$AB$10","v":{"$error":"#REF!"}},{"$f":"SUM(C23:I23)","v":{"$error":"#REF!"}},{"$f":"SUM(INDIRECT(ADDRESS($Y23,$X23+Y$12,4,1,\"[\"&$AB$8&\"]\"&$Z23)&\":\"&ADDRESS($Y23,$X23+Y$12+3,4,1)))/$AB$10","v":{"$error":"#REF!"}},{"$f":"SUM(J23:K23)","v":{"$error":"#REF!"}},"UAE Nationals ",null,null,null,null,null,null,null,null,null,null,26,83,"INFO-5",null,null,null,null,null,null,null,null,null,null,null,null,null,{"$f":"AN16","v":"مواطني دولة الامارات العربية المتحدة"},null,null,null,{"$f":"AR16","v":"UAE Nationals "}]
[null,{"$f":"AN24","v":"مواطني دول مجلس التعاون الخليجي (بإستثناء الإمارات العربية المتحدة)"},{"$f":"SUM(INDIRECT(ADDRESS($Y24,$X24+Z$12,4,1,\"[\"&$AB$8&\"]\"&$Z24)&\":\"&ADDRESS($Y24,$X24+Z$12+3,4,1)))/$AB$10","v":{"$error":"#REF!"}},{"$f":"SUM(INDIRECT(ADDRESS($Y24,$X24+AA$12,4,1,\"[\"&$AB$8&\"]\"&$Z24)&\":\"&ADDRESS($Y24,$X24+AA$12+3,4,1)))/$AB$10","v":{"$error":"#REF!"}},{"$f":"SUM(INDIRECT(ADDRESS($Y24,$X24+AB$12,4,1,\"[\"&$AB$8&\"]\"&$Z24)&\":\"&ADDRESS($Y24,$X24+AB$12+3,4,1)))/$AB$10","v":{"$error":"#REF!"}},{"$f":"SUM(INDIRECT(ADDRESS($Y24,$X24+AC$12,4,1,\"[\"&$AB$8&\"]\"&$Z24)&\":\"&ADDRESS($Y24,$X24+AC$12+3,4,1)))/$AB$10","v":{"$error":"#REF!"}},{"$f":"SUM(INDIRECT(ADDRESS($Y24,$X24+AD$12,4,1,\"[\"&$AB$8&\"]\"&$Z24)&\":\"&ADDRESS($Y24,$X24+AD$12+3,4,1)))/$AB$10","v":{"$error":"#REF!"}},{"$f":"SUM(INDIRECT(ADDRESS($Y24,$X24+AE$12,4,1,\"[\"&$AB$8&\"]\"&$Z24)&\":\"&ADDRESS($Y24,$X24+AE$12+3,4,1)))/$AB$10","v":{"$error":"#REF!"}},{"$f":"SUM(INDIRECT(ADDRESS($Y24,$X24+AF$12,4,1,\"[\"&$AB$8&\"]\"&$Z24)&\":\"&ADDRESS($Y24,$X24+AF$12+3,4,1)))/$AB$10","v":{"$error":"#REF!"}},{"$error":"#REF!"},{"$f":"SUM(INDIRECT(ADDRESS($Y24,$X24+Y$12,4,1,\"[\"&$AB$8&\"]\"&$Z24)&\":\"&ADDRESS($Y24,$X24+Y$12+3,4,1)))/$AB$10","v":{"$error":"#REF!"}},{"$error":"#REF!"},{"$f":"AR24","v":"GCC Nationals (Outside UAE)"},null,null,null,null,null,null,null,null,null,null,{"$f":"X$23","v":26},{"$f":"Y23+4","v":87},{"$f":"Z$23","v":"INFO-5"},null,null,null,null,null,null,null,null,null,null,null,null,null,{"$f":"AN17","v":"مواطني دول مجلس التعاون الخليجي (بإستثناء الإمارات العربية المتحدة)"},null,null,null,{"$f":"AR17","v":"GCC Nationals (Outside UAE)"}]
[null,"مواطني الشرق الأوسط وشمال أفريقيا  (بإستثناء دول مجلس التعاون الخليجي)",{"$error":"#REF!"},{"$error":"#REF!"},{"$error":"#REF!"},{"$error":"#REF!"},{"$error":"#REF!"},{"$error":"#REF!"},{"$error":"#REF!"},{"$error":"#REF!"},{"$error":"#REF!"},{"$error":"#REF!"},"MENA Nationalities (Oustide GCC)",null,null,null,null,null,null,null,null,null,null,{"$f":"X$23","v":26},{"$f":"Y24+4","v":91},{"$f":"Z$23","v":"INFO-5"},null,null,null,null,null,null,null,null,null,null,null,null,null,"مواطني الشرق الأوسط وشمال أفريقيا  (بإستثناء دول مجلس التعاون الخليجي)",null,null,null,"MENA Nationalities (Oustide GCC)"]
[null,"مواطني دول أخرى (خارج الشرق الأوسط وشمال أفريقيا)",{"$error":"#REF!"},{"$error":"#REF!"},{"$error":"#REF!"},{"$error":"#REF!"},{"$error":"#REF!"},{"$error":"#REF!"},{"$error":"#REF!"},{"$error":"#REF!"},{"$error":"#REF!"},{"$error":"#REF!"},"Other Nationalities (Outside MENA)",null,null,null,null,null,null,null,null,null,null,{"$f":"X$23","v":26},{"$f":"Y25+4","v":95},{"$f":"Z$23","v":"INFO-5"},null,null,null,null,null,null,null,null,null,null,null,null,null,"مواطني دول أخرى (خارج الشرق الأوسط وشمال أفريقيا)",null,null,null,"Other Nationalities (Outside MENA)"]
[null,"المجموع",{"$f":"SUM(C23:C26)","v":{"$error":"#REF!"}},{"$error":"#REF!"},{"$error":"#REF!"},{"$error":"#REF!"},{"$error":"#REF!"},{"$error":"#REF!"},{"$error":"#REF!"},{"$error":"#REF!"},{"$error":"#REF!"},{"$error":"#REF!"},"Total",null,null,null,null,null,null,null,null,null,null,null,null,null,null,null,null,null,null,null,null,null,null,null,null,null,null,"المجموع",null,null,null,"Total"]
[null,{"$f":"$AN$12","v":{"$error":"#REF!"}},null,null,null,null,null,null,null,null,null,null,{"$f":"$AR$12","v":{"$error":"#REF!"}}]
[null,{"$f":"AN29","v":"مجموع الرواتب والمنافع"},null,null,null,null,null,null,null,null,null,null,{"$f":"AR29","v":"Average Salaries & Benefits"},null,null,null,null,null,null,null,null,null,null,null,null,null,null,null,null,null,null,null,null,null,null,null,null,null,null,"مجموع الرواتب والمنافع",null,null,null,"Average Salaries & Benefits"]
[null,"مواطني دولة الامارات العربية المتحدة",{"$f":"IFERROR(C23/C16,\"\")","v":""},"","","","","","","","",{"$f":"IFERROR(L23/L16,\"\")","v":""},"UAE Nationals ",null,null,null,null,null,null,null,null,null,null,null,null,null,null,null,null,null,null,null,null,null,null,null,null,null,null,{"$f":"AN16","v":"مواطني دولة الامارات العربية المتحدة"},null,null,null,{"$f":"AR16","v":"UAE Nationals "}]
[null,"مواطني دول مجلس التعاون الخليجي (بإستثناء الإمارات العربية المتحدة)",{"$f":"IFERROR(C24/C17,\"\")","v":""},"","","","","","","","","","GCC Nationals (Outside UAE)",null,null,null,null,null,null,null,null,null,null,null,null,null,null,null,null,null,null,null,null,null,null,null,null,null,null,{"$f":"AN17","v":"مواطني دول مجلس التعاون الخليجي (بإستثناء الإمارات العربية المتحدة)"},null,null,null,{"$f":"AR17","v":"GCC Nationals (Outside UAE)"}]
[null,"مواطني الشرق الأوسط وشمال أفريقيا  (بإستثناء دول مجلس التعاون الخليجي)",{"$f":"IFERROR(C25/C18,\"\")","v":""},"","","","","","","","","","MENA Nationalities (Oustide GCC)",null,null,null,null,null,null,null,null,null,null,null,null,null,null,null,null,null,null,null,null,null,null,null,null,null,null,"مواطني الشرق الأوسط وشمال أفريقيا  (بإستثناء دول مجلس التعاون الخليجي)",null,null,null,"MENA Nationalities (Oustide GCC)"]
[null,"مواطني دول أخرى (خارج الشرق الأوسط وشمال أفريقيا)",{"$f":"IFERROR(C26/C19,\"\")","v":""},"","","","","","","","","","Other Nationalities (Outside MENA)",null,null,null,null,null,null,null,null,null,null,null,null,null,null,null,null,null,null,null,null,null,null,null,null,null,null,"مواطني دول أخرى (خارج الشرق الأوسط وشمال أفريقيا)",null,null,null,"Other Nationalities (Outside MENA)"]
[null,"المجموع",{"$f":"IFERROR(C27/C20,\"\")","v":""},"","","","","","","","","","Total",null,null,null,null,null,null,null,null,null,null,null,null,null,null,null,null,null,null,null,null,null,null,null,null,null,null,"المجموع",null,null,null,"Total"]